BEGIN:VCALENDAR
VERSION:2.0
X-WR-CALNAME: Nigeria National Team Schedule
REFRESH-INTERVAL;VALUE=DURATION:PT1H
X-PUBLISHED-TTL:PT1H
BEGIN:VEVENT
UID:1012600012@faceoff
DTSTART:20260425T190000Z
DURATION:PT3H30M
SUMMARY: Nigeria National Team @ Los Angeles Sparks
LOCATION:Viejas Arena\, San Diego\, CA
DESCRIPTION:3:00 pm ET
END:VEVENT
BEGIN:VEVENT
UID:1012600013@faceoff
DTSTART:20260428T000000Z
DURATION:PT3H30M
SUMMARY: Nigeria National Team @ Minnesota Lynx
LOCATION:T-Mobile Center\, Kansas City\, MO
DESCRIPTION:8:00 pm ET
END:VEVENT
BEGIN:VEVENT
UID:1012600011@faceoff
DTSTART:20260502T230000Z
DURATION:PT3H30M
SUMMARY: Nigeria National Team @ Indiana Fever
LOCATION:Gainbridge Fieldhouse\, Indianapolis\, IN
DESCRIPTION:7:00 pm ET
END:VEVENT
END:VCALENDAR
