BEGIN:VCALENDAR
VERSION:2.0
X-WR-CALNAME: Japan National Team Schedule
REFRESH-INTERVAL;VALUE=DURATION:PT1H
X-PUBLISHED-TTL:PT1H
BEGIN:VEVENT
UID:1012600017@faceoff
DTSTART:20260427T000000Z
DURATION:PT3H30M
SUMMARY: Japan National Team @ Las Vegas Aces
LOCATION:Michelob ULTRA Arena\, Las Vegas\, NV
DESCRIPTION:8:00 pm ET
END:VEVENT
BEGIN:VEVENT
UID:1012600014@faceoff
DTSTART:20260430T020000Z
DURATION:PT3H30M
SUMMARY: Japan National Team @ Phoenix Mercury
LOCATION:Mortgage Matchup Center\, Phoenix\, AZ
DESCRIPTION:10:00 pm ET
END:VEVENT
END:VCALENDAR
