BEGIN:VCALENDAR
VERSION:2.0
X-WR-CALNAME:Venezuela Schedule
REFRESH-INTERVAL;VALUE=DURATION:PT1H
X-PUBLISHED-TTL:PT1H
BEGIN:VEVENT
UID:14-831440-2026-03-03@faceoff
DTSTART:20260303T230500Z
DURATION:PT3H30M
SUMMARY:Venezuela @ Houston Astros
LOCATION:CACTI Park of the Palm Beaches
DESCRIPTION:Final
END:VEVENT
BEGIN:VEVENT
UID:14-831428-2026-03-04@faceoff
DTSTART:20260304T230500Z
DURATION:PT3H30M
SUMMARY:Venezuela @ Washington Nationals
LOCATION:CACTI Park of the Palm Beaches
DESCRIPTION:Final
END:VEVENT
BEGIN:VEVENT
UID:164-788110-2026-03-06@faceoff
DTSTART:20260306T170000Z
DURATION:PT3H30M
SUMMARY:Venezuela vs Kingdom of the Netherlands (Pool D)
LOCATION:loanDepot park
DESCRIPTION:Final
END:VEVENT
BEGIN:VEVENT
UID:164-788107-2026-03-07@faceoff
DTSTART:20260308T000000Z
DURATION:PT3H30M
SUMMARY:Venezuela vs Israel (Pool D)
LOCATION:loanDepot park
DESCRIPTION:Final
END:VEVENT
BEGIN:VEVENT
UID:164-788099-2026-03-09@faceoff
DTSTART:20260309T230000Z
DURATION:PT3H30M
SUMMARY:Venezuela @ Nicaragua (Pool D)
LOCATION:loanDepot park
DESCRIPTION:Final
END:VEVENT
BEGIN:VEVENT
UID:164-788101-2026-03-11@faceoff
DTSTART:20260312T000000Z
DURATION:PT3H30M
SUMMARY:Venezuela vs Dominican Republic (Pool D)
LOCATION:loanDepot park
DESCRIPTION:Final
END:VEVENT
BEGIN:VEVENT
UID:164-788097-2026-03-14@faceoff
DTSTART:20260315T010000Z
DURATION:PT3H30M
SUMMARY:Venezuela @ Japan (Quarterfinal 4: Pool D Runner-Up vs. Pool C Winner)
LOCATION:loanDepot park
DESCRIPTION:Final
END:VEVENT
BEGIN:VEVENT
UID:164-788093-2026-03-16@faceoff
DTSTART:20260317T000000Z
DURATION:PT3H30M
SUMMARY:Venezuela @ Italy (Semifinal 2: Winners of Quarterfinals 3 & 4)
LOCATION:loanDepot park
DESCRIPTION:Final
END:VEVENT
BEGIN:VEVENT
UID:164-788094-2026-03-17@faceoff
DTSTART:20260318T000000Z
DURATION:PT3H30M
SUMMARY:Venezuela @ United States (Finals: Winners of Semifinals 1 & 2)
LOCATION:loanDepot park
DESCRIPTION:Final
END:VEVENT
END:VCALENDAR
