BEGIN:VCALENDAR
VERSION:2.0
X-WR-CALNAME:United States Schedule
REFRESH-INTERVAL;VALUE=DURATION:PT1H
X-PUBLISHED-TTL:PT1H
BEGIN:VEVENT
UID:14-831720-2026-03-03@faceoff
DTSTART:20260303T200800Z
DURATION:PT3H30M
SUMMARY:United States @ San Francisco Giants
LOCATION:Scottsdale Stadium
DESCRIPTION:Final
END:VEVENT
BEGIN:VEVENT
UID:14-831723-2026-03-04@faceoff
DTSTART:20260304T201000Z
DURATION:PT3H30M
SUMMARY:United States @ Colorado Rockies
LOCATION:Salt River Fields at Talking Stick
DESCRIPTION:Completed Early
END:VEVENT
BEGIN:VEVENT
UID:164-788128-2026-03-06@faceoff
DTSTART:20260307T010000Z
DURATION:PT3H30M
SUMMARY:United States @ Brazil (Pool B)
LOCATION:Daikin Park
DESCRIPTION:Final
END:VEVENT
BEGIN:VEVENT
UID:164-788127-2026-03-07@faceoff
DTSTART:20260308T010000Z
DURATION:PT3H30M
SUMMARY:United States vs Great Britain (Pool B)
LOCATION:Daikin Park
DESCRIPTION:Final
END:VEVENT
BEGIN:VEVENT
UID:164-788122-2026-03-09@faceoff
DTSTART:20260310T000000Z
DURATION:PT3H30M
SUMMARY:United States vs Mexico (Pool B)
LOCATION:Daikin Park
DESCRIPTION:Final
END:VEVENT
BEGIN:VEVENT
UID:164-788119-2026-03-10@faceoff
DTSTART:20260311T010000Z
DURATION:PT3H30M
SUMMARY:United States vs Italy (Pool B)
LOCATION:Daikin Park
DESCRIPTION:Final
END:VEVENT
BEGIN:VEVENT
UID:164-788100-2026-03-13@faceoff
DTSTART:20260314T000000Z
DURATION:PT3H30M
SUMMARY:United States @ Canada (Quarterfinal 2: Pool B Runner-Up vs. Pool A Winner)
LOCATION:Daikin Park
DESCRIPTION:Final
END:VEVENT
BEGIN:VEVENT
UID:164-788096-2026-03-15@faceoff
DTSTART:20260316T000000Z
DURATION:PT3H30M
SUMMARY:United States @ Dominican Republic (Semifinal 1: Winners of Quarterfinals 1 & 2)
LOCATION:loanDepot park
DESCRIPTION:Final
END:VEVENT
BEGIN:VEVENT
UID:164-788094-2026-03-17@faceoff
DTSTART:20260318T000000Z
DURATION:PT3H30M
SUMMARY:United States vs Venezuela (Finals: Winners of Semifinals 1 & 2)
LOCATION:loanDepot park
DESCRIPTION:Final
END:VEVENT
END:VCALENDAR
