BEGIN:VCALENDAR
VERSION:2.0
X-WR-CALNAME:Chinese Taipei Schedule
REFRESH-INTERVAL;VALUE=DURATION:PT1H
X-PUBLISHED-TTL:PT1H
BEGIN:VEVENT
UID:164-788120-2026-03-05@faceoff
DTSTART:20260305T030000Z
DURATION:PT3H30M
SUMMARY:Chinese Taipei @ Australia (Pool C)
LOCATION:Tokyo Dome
DESCRIPTION:Final
END:VEVENT
BEGIN:VEVENT
UID:164-788114-2026-03-06@faceoff
DTSTART:20260306T100000Z
DURATION:PT3H30M
SUMMARY:Chinese Taipei vs Japan (Pool C)
LOCATION:Tokyo Dome
DESCRIPTION:Completed Early
END:VEVENT
BEGIN:VEVENT
UID:164-788117-2026-03-07@faceoff
DTSTART:20260307T030000Z
DURATION:PT3H30M
SUMMARY:Chinese Taipei @ Czechia (Pool C)
LOCATION:Tokyo Dome
DESCRIPTION:Completed Early
END:VEVENT
BEGIN:VEVENT
UID:164-788113-2026-03-08@faceoff
DTSTART:20260308T030000Z
DURATION:PT3H30M
SUMMARY:Chinese Taipei @ Korea (Pool C)
LOCATION:Tokyo Dome
DESCRIPTION:Final
END:VEVENT
END:VCALENDAR
