BEGIN:VCALENDAR
VERSION:2.0
X-WR-CALNAME:Puerto Rico Schedule
REFRESH-INTERVAL;VALUE=DURATION:PT1H
X-PUBLISHED-TTL:PT1H
BEGIN:VEVENT
UID:14-831439-2026-03-03@faceoff
DTSTART:20260303T230500Z
DURATION:PT3H30M
SUMMARY:Puerto Rico @ Boston Red Sox
LOCATION:JetBlue Park
DESCRIPTION:Final
END:VEVENT
BEGIN:VEVENT
UID:14-831435-2026-03-04@faceoff
DTSTART:20260304T180500Z
DURATION:PT3H30M
SUMMARY:Puerto Rico @ Minnesota Twins
LOCATION:Lee Health Sports Complex
DESCRIPTION:Final
END:VEVENT
BEGIN:VEVENT
UID:164-788136-2026-03-06@faceoff
DTSTART:20260306T230000Z
DURATION:PT3H30M
SUMMARY:Puerto Rico @ Colombia (Pool A)
LOCATION:Hiram Bithorn Stadium
DESCRIPTION:Final
END:VEVENT
BEGIN:VEVENT
UID:164-788137-2026-03-07@faceoff
DTSTART:20260307T230000Z
DURATION:PT3H30M
SUMMARY:Puerto Rico vs Panama (Pool A)
LOCATION:Hiram Bithorn Stadium
DESCRIPTION:Final
END:VEVENT
BEGIN:VEVENT
UID:164-788131-2026-03-09@faceoff
DTSTART:20260309T230000Z
DURATION:PT3H30M
SUMMARY:Puerto Rico vs Cuba (Pool A)
LOCATION:Hiram Bithorn Stadium
DESCRIPTION:Final
END:VEVENT
BEGIN:VEVENT
UID:164-788132-2026-03-10@faceoff
DTSTART:20260310T230000Z
DURATION:PT3H30M
SUMMARY:Puerto Rico vs Canada (Pool A)
LOCATION:Hiram Bithorn Stadium
DESCRIPTION:Final
END:VEVENT
BEGIN:VEVENT
UID:164-788098-2026-03-14@faceoff
DTSTART:20260314T190000Z
DURATION:PT3H30M
SUMMARY:Puerto Rico @ Italy (Quarterfinal 3: Pool A Runner-Up vs. Pool B Winner)
LOCATION:Daikin Park
DESCRIPTION:Final
END:VEVENT
END:VCALENDAR
