BEGIN:VCALENDAR
VERSION:2.0
X-WR-CALNAME:Panama Schedule
REFRESH-INTERVAL;VALUE=DURATION:PT1H
X-PUBLISHED-TTL:PT1H
BEGIN:VEVENT
UID:14-831444-2026-03-03@faceoff
DTSTART:20260303T180500Z
DURATION:PT3H30M
SUMMARY:Panama @ New York Yankees
LOCATION:George M. Steinbrenner Field
DESCRIPTION:Completed Early
END:VEVENT
BEGIN:VEVENT
UID:14-831433-2026-03-04@faceoff
DTSTART:20260304T180500Z
DURATION:PT3H30M
SUMMARY:Panama @ Detroit Tigers
LOCATION:Publix Field at Joker Marchant Stadium
DESCRIPTION:Final
END:VEVENT
BEGIN:VEVENT
UID:164-788139-2026-03-06@faceoff
DTSTART:20260306T160000Z
DURATION:PT3H30M
SUMMARY:Panama vs Cuba (Pool A)
LOCATION:Hiram Bithorn Stadium
DESCRIPTION:Final
END:VEVENT
BEGIN:VEVENT
UID:164-788137-2026-03-07@faceoff
DTSTART:20260307T230000Z
DURATION:PT3H30M
SUMMARY:Panama @ Puerto Rico (Pool A)
LOCATION:Hiram Bithorn Stadium
DESCRIPTION:Final
END:VEVENT
BEGIN:VEVENT
UID:164-788134-2026-03-08@faceoff
DTSTART:20260308T230000Z
DURATION:PT3H30M
SUMMARY:Panama @ Canada (Pool A)
LOCATION:Hiram Bithorn Stadium
DESCRIPTION:Final
END:VEVENT
BEGIN:VEVENT
UID:164-788133-2026-03-09@faceoff
DTSTART:20260309T160000Z
DURATION:PT3H30M
SUMMARY:Panama vs Colombia (Pool A)
LOCATION:Hiram Bithorn Stadium
DESCRIPTION:Final
END:VEVENT
END:VCALENDAR
