BEGIN:VCALENDAR
VERSION:2.0
X-WR-CALNAME:Kingdom of the Netherlands Schedule
REFRESH-INTERVAL;VALUE=DURATION:PT1H
X-PUBLISHED-TTL:PT1H
BEGIN:VEVENT
UID:14-831445-2026-03-03@faceoff
DTSTART:20260303T180500Z
DURATION:PT3H30M
SUMMARY:Kingdom of the Netherlands @ Baltimore Orioles
LOCATION:Ed Smith Stadium
DESCRIPTION:Final
END:VEVENT
BEGIN:VEVENT
UID:14-831432-2026-03-04@faceoff
DTSTART:20260304T180500Z
DURATION:PT3H30M
SUMMARY:Kingdom of the Netherlands @ Tampa Bay Rays
LOCATION:Charlotte Sports Park
DESCRIPTION:Completed Early
END:VEVENT
BEGIN:VEVENT
UID:164-788110-2026-03-06@faceoff
DTSTART:20260306T170000Z
DURATION:PT3H30M
SUMMARY:Kingdom of the Netherlands @ Venezuela (Pool D)
LOCATION:loanDepot park
DESCRIPTION:Final
END:VEVENT
BEGIN:VEVENT
UID:164-788108-2026-03-07@faceoff
DTSTART:20260307T170000Z
DURATION:PT3H30M
SUMMARY:Kingdom of the Netherlands vs Nicaragua (Pool D)
LOCATION:loanDepot park
DESCRIPTION:Final
END:VEVENT
BEGIN:VEVENT
UID:164-788106-2026-03-08@faceoff
DTSTART:20260308T160000Z
DURATION:PT3H30M
SUMMARY:Kingdom of the Netherlands @ Dominican Republic (Pool D)
LOCATION:loanDepot park
DESCRIPTION:Completed Early
END:VEVENT
BEGIN:VEVENT
UID:164-788102-2026-03-10@faceoff
DTSTART:20260310T230000Z
DURATION:PT3H30M
SUMMARY:Kingdom of the Netherlands vs Israel (Pool D)
LOCATION:loanDepot park
DESCRIPTION:Final
END:VEVENT
END:VCALENDAR
