BEGIN:VCALENDAR
VERSION:2.0
X-WR-CALNAME:Nicaragua Schedule
REFRESH-INTERVAL;VALUE=DURATION:PT1H
X-PUBLISHED-TTL:PT1H
BEGIN:VEVENT
UID:14-831434-2026-03-03@faceoff
DTSTART:20260303T181000Z
DURATION:PT3H30M
SUMMARY:Nicaragua @ New York Mets
LOCATION:Clover Park
DESCRIPTION:Final
END:VEVENT
BEGIN:VEVENT
UID:14-831429-2026-03-04@faceoff
DTSTART:20260304T180500Z
DURATION:PT3H30M
SUMMARY:Nicaragua @ St. Louis Cardinals
LOCATION:Roger Dean Chevrolet Stadium
DESCRIPTION:Final
END:VEVENT
BEGIN:VEVENT
UID:164-788105-2026-03-06@faceoff
DTSTART:20260307T000000Z
DURATION:PT3H30M
SUMMARY:Nicaragua @ Dominican Republic (Pool D)
LOCATION:loanDepot park
DESCRIPTION:Final
END:VEVENT
BEGIN:VEVENT
UID:164-788108-2026-03-07@faceoff
DTSTART:20260307T170000Z
DURATION:PT3H30M
SUMMARY:Nicaragua @ Kingdom of the Netherlands (Pool D)
LOCATION:loanDepot park
DESCRIPTION:Final
END:VEVENT
BEGIN:VEVENT
UID:164-788104-2026-03-08@faceoff
DTSTART:20260308T230000Z
DURATION:PT3H30M
SUMMARY:Nicaragua @ Israel (Pool D)
LOCATION:loanDepot park
DESCRIPTION:Final
END:VEVENT
BEGIN:VEVENT
UID:164-788099-2026-03-09@faceoff
DTSTART:20260309T230000Z
DURATION:PT3H30M
SUMMARY:Nicaragua vs Venezuela (Pool D)
LOCATION:loanDepot park
DESCRIPTION:Final
END:VEVENT
END:VCALENDAR
