BEGIN:VCALENDAR
VERSION:2.0
X-WR-CALNAME:Mexico Schedule
REFRESH-INTERVAL;VALUE=DURATION:PT1H
X-PUBLISHED-TTL:PT1H
BEGIN:VEVENT
UID:14-831800-2026-03-03@faceoff
DTSTART:20260303T201000Z
DURATION:PT3H30M
SUMMARY:Mexico @ Arizona Diamondbacks
LOCATION:Salt River Fields at Talking Stick
DESCRIPTION:Final
END:VEVENT
BEGIN:VEVENT
UID:14-831799-2026-03-04@faceoff
DTSTART:20260304T200500Z
DURATION:PT3H30M
SUMMARY:Mexico @ Los Angeles Dodgers
LOCATION:Camelback Ranch
DESCRIPTION:Final
END:VEVENT
BEGIN:VEVENT
UID:164-788129-2026-03-06@faceoff
DTSTART:20260306T180000Z
DURATION:PT3H30M
SUMMARY:Mexico @ Great Britain (Pool B)
LOCATION:Daikin Park
DESCRIPTION:Final
END:VEVENT
BEGIN:VEVENT
UID:164-788125-2026-03-08@faceoff
DTSTART:20260309T000000Z
DURATION:PT3H30M
SUMMARY:Mexico vs Brazil (Pool B)
LOCATION:Daikin Park
DESCRIPTION:Completed Early
END:VEVENT
BEGIN:VEVENT
UID:164-788122-2026-03-09@faceoff
DTSTART:20260310T000000Z
DURATION:PT3H30M
SUMMARY:Mexico @ United States (Pool B)
LOCATION:Daikin Park
DESCRIPTION:Final
END:VEVENT
BEGIN:VEVENT
UID:164-788121-2026-03-11@faceoff
DTSTART:20260311T230000Z
DURATION:PT3H30M
SUMMARY:Mexico vs Italy (Pool B)
LOCATION:Daikin Park
DESCRIPTION:Final
END:VEVENT
END:VCALENDAR
