BEGIN:VCALENDAR
VERSION:2.0
X-WR-CALNAME:Korea Schedule
REFRESH-INTERVAL;VALUE=DURATION:PT1H
X-PUBLISHED-TTL:PT1H
BEGIN:VEVENT
UID:164-788115-2026-03-05@faceoff
DTSTART:20260305T100000Z
DURATION:PT3H30M
SUMMARY:Korea vs Czechia (Pool C)
LOCATION:Tokyo Dome
DESCRIPTION:Final
END:VEVENT
BEGIN:VEVENT
UID:164-788118-2026-03-07@faceoff
DTSTART:20260307T100000Z
DURATION:PT3H30M
SUMMARY:Korea @ Japan (Pool C)
LOCATION:Tokyo Dome
DESCRIPTION:Final
END:VEVENT
BEGIN:VEVENT
UID:164-788113-2026-03-08@faceoff
DTSTART:20260308T030000Z
DURATION:PT3H30M
SUMMARY:Korea vs Chinese Taipei (Pool C)
LOCATION:Tokyo Dome
DESCRIPTION:Final
END:VEVENT
BEGIN:VEVENT
UID:164-788112-2026-03-09@faceoff
DTSTART:20260309T100000Z
DURATION:PT3H30M
SUMMARY:Korea @ Australia (Pool C)
LOCATION:Tokyo Dome
DESCRIPTION:Final
END:VEVENT
BEGIN:VEVENT
UID:164-788095-2026-03-13@faceoff
DTSTART:20260313T223000Z
DURATION:PT3H30M
SUMMARY:Korea @ Dominican Republic (Quarterfinal 1: Pool C Runner-Up vs. Pool D Winner)
LOCATION:loanDepot park
DESCRIPTION:Completed Early
END:VEVENT
END:VCALENDAR
