BEGIN:VCALENDAR
VERSION:2.0
X-WR-CALNAME:Japan Schedule
REFRESH-INTERVAL;VALUE=DURATION:PT1H
X-PUBLISHED-TTL:PT1H
BEGIN:VEVENT
UID:164-788114-2026-03-06@faceoff
DTSTART:20260306T100000Z
DURATION:PT3H30M
SUMMARY:Japan @ Chinese Taipei (Pool C)
LOCATION:Tokyo Dome
DESCRIPTION:Completed Early
END:VEVENT
BEGIN:VEVENT
UID:164-788118-2026-03-07@faceoff
DTSTART:20260307T100000Z
DURATION:PT3H30M
SUMMARY:Japan vs Korea (Pool C)
LOCATION:Tokyo Dome
DESCRIPTION:Final
END:VEVENT
BEGIN:VEVENT
UID:164-788109-2026-03-08@faceoff
DTSTART:20260308T100000Z
DURATION:PT3H30M
SUMMARY:Japan vs Australia (Pool C)
LOCATION:Tokyo Dome
DESCRIPTION:Final
END:VEVENT
BEGIN:VEVENT
UID:164-788111-2026-03-10@faceoff
DTSTART:20260310T100000Z
DURATION:PT3H30M
SUMMARY:Japan vs Czechia (Pool C)
LOCATION:Tokyo Dome
DESCRIPTION:Final
END:VEVENT
BEGIN:VEVENT
UID:164-788097-2026-03-14@faceoff
DTSTART:20260315T010000Z
DURATION:PT3H30M
SUMMARY:Japan vs Venezuela (Quarterfinal 4: Pool D Runner-Up vs. Pool C Winner)
LOCATION:loanDepot park
DESCRIPTION:Final
END:VEVENT
END:VCALENDAR
