BEGIN:VCALENDAR
VERSION:2.0
X-WR-CALNAME:Italy Schedule
REFRESH-INTERVAL;VALUE=DURATION:PT1H
X-PUBLISHED-TTL:PT1H
BEGIN:VEVENT
UID:14-831853-2026-03-03@faceoff
DTSTART:20260303T200500Z
DURATION:PT3H30M
SUMMARY:Italy @ Chicago Cubs
LOCATION:Sloan Park
DESCRIPTION:Final
END:VEVENT
BEGIN:VEVENT
UID:14-831844-2026-03-04@faceoff
DTSTART:20260304T201000Z
DURATION:PT3H30M
SUMMARY:Italy @ Los Angeles Angels
LOCATION:Tempe Diablo Stadium
DESCRIPTION:Final
END:VEVENT
BEGIN:VEVENT
UID:164-788126-2026-03-07@faceoff
DTSTART:20260307T180000Z
DURATION:PT3H30M
SUMMARY:Italy vs Brazil (Pool B)
LOCATION:Daikin Park
DESCRIPTION:Final
END:VEVENT
BEGIN:VEVENT
UID:164-788124-2026-03-08@faceoff
DTSTART:20260308T170000Z
DURATION:PT3H30M
SUMMARY:Italy vs Great Britain (Pool B)
LOCATION:Daikin Park
DESCRIPTION:Final
END:VEVENT
BEGIN:VEVENT
UID:164-788119-2026-03-10@faceoff
DTSTART:20260311T010000Z
DURATION:PT3H30M
SUMMARY:Italy @ United States (Pool B)
LOCATION:Daikin Park
DESCRIPTION:Final
END:VEVENT
BEGIN:VEVENT
UID:164-788121-2026-03-11@faceoff
DTSTART:20260311T230000Z
DURATION:PT3H30M
SUMMARY:Italy @ Mexico (Pool B)
LOCATION:Daikin Park
DESCRIPTION:Final
END:VEVENT
BEGIN:VEVENT
UID:164-788098-2026-03-14@faceoff
DTSTART:20260314T190000Z
DURATION:PT3H30M
SUMMARY:Italy vs Puerto Rico (Quarterfinal 3: Pool A Runner-Up vs. Pool B Winner)
LOCATION:Daikin Park
DESCRIPTION:Final
END:VEVENT
BEGIN:VEVENT
UID:164-788093-2026-03-16@faceoff
DTSTART:20260317T000000Z
DURATION:PT3H30M
SUMMARY:Italy vs Venezuela (Semifinal 2: Winners of Quarterfinals 3 & 4)
LOCATION:loanDepot park
DESCRIPTION:Final
END:VEVENT
END:VCALENDAR
