BEGIN:VCALENDAR
VERSION:2.0
X-WR-CALNAME:Israel Schedule
REFRESH-INTERVAL;VALUE=DURATION:PT1H
X-PUBLISHED-TTL:PT1H
BEGIN:VEVENT
UID:14-831436-2026-03-03@faceoff
DTSTART:20260303T181000Z
DURATION:PT3H30M
SUMMARY:Israel @ Miami Marlins
LOCATION:Roger Dean Chevrolet Stadium
DESCRIPTION:Final
END:VEVENT
BEGIN:VEVENT
UID:14-831431-2026-03-04@faceoff
DTSTART:20260304T181000Z
DURATION:PT3H30M
SUMMARY:Israel @ New York Mets
LOCATION:Clover Park
DESCRIPTION:Final
END:VEVENT
BEGIN:VEVENT
UID:164-788107-2026-03-07@faceoff
DTSTART:20260308T000000Z
DURATION:PT3H30M
SUMMARY:Israel @ Venezuela (Pool D)
LOCATION:loanDepot park
DESCRIPTION:Final
END:VEVENT
BEGIN:VEVENT
UID:164-788104-2026-03-08@faceoff
DTSTART:20260308T230000Z
DURATION:PT3H30M
SUMMARY:Israel vs Nicaragua (Pool D)
LOCATION:loanDepot park
DESCRIPTION:Final
END:VEVENT
BEGIN:VEVENT
UID:164-788103-2026-03-09@faceoff
DTSTART:20260309T160000Z
DURATION:PT3H30M
SUMMARY:Israel vs Dominican Republic (Pool D)
LOCATION:loanDepot park
DESCRIPTION:Final
END:VEVENT
BEGIN:VEVENT
UID:164-788102-2026-03-10@faceoff
DTSTART:20260310T230000Z
DURATION:PT3H30M
SUMMARY:Israel @ Kingdom of the Netherlands (Pool D)
LOCATION:loanDepot park
DESCRIPTION:Final
END:VEVENT
END:VCALENDAR
