BEGIN:VCALENDAR
VERSION:2.0
X-WR-CALNAME:Great Britain Schedule
REFRESH-INTERVAL;VALUE=DURATION:PT1H
X-PUBLISHED-TTL:PT1H
BEGIN:VEVENT
UID:14-831855-2026-03-03@faceoff
DTSTART:20260303T201000Z
DURATION:PT3H30M
SUMMARY:Great Britain @ Milwaukee Brewers
LOCATION:American Family Fields of Phoenix
DESCRIPTION:Final
END:VEVENT
BEGIN:VEVENT
UID:14-831854-2026-03-04@faceoff
DTSTART:20260304T201000Z
DURATION:PT3H30M
SUMMARY:Great Britain @ San Diego Padres
LOCATION:Peoria Stadium
DESCRIPTION:Final
END:VEVENT
BEGIN:VEVENT
UID:164-788129-2026-03-06@faceoff
DTSTART:20260306T180000Z
DURATION:PT3H30M
SUMMARY:Great Britain vs Mexico (Pool B)
LOCATION:Daikin Park
DESCRIPTION:Final
END:VEVENT
BEGIN:VEVENT
UID:164-788127-2026-03-07@faceoff
DTSTART:20260308T010000Z
DURATION:PT3H30M
SUMMARY:Great Britain @ United States (Pool B)
LOCATION:Daikin Park
DESCRIPTION:Final
END:VEVENT
BEGIN:VEVENT
UID:164-788124-2026-03-08@faceoff
DTSTART:20260308T170000Z
DURATION:PT3H30M
SUMMARY:Great Britain @ Italy (Pool B)
LOCATION:Daikin Park
DESCRIPTION:Final
END:VEVENT
BEGIN:VEVENT
UID:164-788123-2026-03-09@faceoff
DTSTART:20260309T170000Z
DURATION:PT3H30M
SUMMARY:Great Britain vs Brazil (Pool B)
LOCATION:Daikin Park
DESCRIPTION:Final
END:VEVENT
END:VCALENDAR
