BEGIN:VCALENDAR
VERSION:2.0
X-WR-CALNAME:Dominican Republic Schedule
REFRESH-INTERVAL;VALUE=DURATION:PT1H
X-PUBLISHED-TTL:PT1H
BEGIN:VEVENT
UID:14-836149-2026-03-03@faceoff
DTSTART:20260303T230500Z
DURATION:PT3H30M
SUMMARY:Dominican Republic vs Detroit Tigers (In Santo Domingo\, DR)
LOCATION:Estadio Quisqueya Juan Marichal
DESCRIPTION:Final
END:VEVENT
BEGIN:VEVENT
UID:14-836150-2026-03-04@faceoff
DTSTART:20260304T190500Z
DURATION:PT3H30M
SUMMARY:Dominican Republic vs Detroit Tigers (In Santo Domingo\, DR)
LOCATION:Estadio Quisqueya Juan Marichal
DESCRIPTION:Final
END:VEVENT
BEGIN:VEVENT
UID:164-788105-2026-03-06@faceoff
DTSTART:20260307T000000Z
DURATION:PT3H30M
SUMMARY:Dominican Republic vs Nicaragua (Pool D)
LOCATION:loanDepot park
DESCRIPTION:Final
END:VEVENT
BEGIN:VEVENT
UID:164-788106-2026-03-08@faceoff
DTSTART:20260308T160000Z
DURATION:PT3H30M
SUMMARY:Dominican Republic vs Kingdom of the Netherlands (Pool D)
LOCATION:loanDepot park
DESCRIPTION:Completed Early
END:VEVENT
BEGIN:VEVENT
UID:164-788103-2026-03-09@faceoff
DTSTART:20260309T160000Z
DURATION:PT3H30M
SUMMARY:Dominican Republic @ Israel (Pool D)
LOCATION:loanDepot park
DESCRIPTION:Final
END:VEVENT
BEGIN:VEVENT
UID:164-788101-2026-03-11@faceoff
DTSTART:20260312T000000Z
DURATION:PT3H30M
SUMMARY:Dominican Republic @ Venezuela (Pool D)
LOCATION:loanDepot park
DESCRIPTION:Final
END:VEVENT
BEGIN:VEVENT
UID:164-788095-2026-03-13@faceoff
DTSTART:20260313T223000Z
DURATION:PT3H30M
SUMMARY:Dominican Republic vs Korea (Quarterfinal 1: Pool C Runner-Up vs. Pool D Winner)
LOCATION:loanDepot park
DESCRIPTION:Completed Early
END:VEVENT
BEGIN:VEVENT
UID:164-788096-2026-03-15@faceoff
DTSTART:20260316T000000Z
DURATION:PT3H30M
SUMMARY:Dominican Republic vs United States (Semifinal 1: Winners of Quarterfinals 1 & 2)
LOCATION:loanDepot park
DESCRIPTION:Final
END:VEVENT
END:VCALENDAR
