BEGIN:VCALENDAR
VERSION:2.0
X-WR-CALNAME:Cuba Schedule
REFRESH-INTERVAL;VALUE=DURATION:PT1H
X-PUBLISHED-TTL:PT1H
BEGIN:VEVENT
UID:14-831851-2026-03-03@faceoff
DTSTART:20260303T200500Z
DURATION:PT3H30M
SUMMARY:Cuba @ Kansas City Royals
LOCATION:Surprise Stadium
DESCRIPTION:Final
END:VEVENT
BEGIN:VEVENT
UID:14-831852-2026-03-04@faceoff
DTSTART:20260304T200500Z
DURATION:PT3H30M
SUMMARY:Cuba vs Cincinnati Reds
LOCATION:Goodyear Ballpark
DESCRIPTION:Completed Early
END:VEVENT
BEGIN:VEVENT
UID:164-788139-2026-03-06@faceoff
DTSTART:20260306T160000Z
DURATION:PT3H30M
SUMMARY:Cuba @ Panama (Pool A)
LOCATION:Hiram Bithorn Stadium
DESCRIPTION:Final
END:VEVENT
BEGIN:VEVENT
UID:164-788135-2026-03-08@faceoff
DTSTART:20260308T160000Z
DURATION:PT3H30M
SUMMARY:Cuba vs Colombia (Pool A)
LOCATION:Hiram Bithorn Stadium
DESCRIPTION:Final
END:VEVENT
BEGIN:VEVENT
UID:164-788131-2026-03-09@faceoff
DTSTART:20260309T230000Z
DURATION:PT3H30M
SUMMARY:Cuba @ Puerto Rico (Pool A)
LOCATION:Hiram Bithorn Stadium
DESCRIPTION:Final
END:VEVENT
BEGIN:VEVENT
UID:164-788130-2026-03-11@faceoff
DTSTART:20260311T190000Z
DURATION:PT3H30M
SUMMARY:Cuba vs Canada (Pool A)
LOCATION:Hiram Bithorn Stadium
DESCRIPTION:Final
END:VEVENT
END:VCALENDAR
