BEGIN:VCALENDAR
VERSION:2.0
X-WR-CALNAME:Colombia Schedule
REFRESH-INTERVAL;VALUE=DURATION:PT1H
X-PUBLISHED-TTL:PT1H
BEGIN:VEVENT
UID:14-831430-2026-03-03@faceoff
DTSTART:20260303T180500Z
DURATION:PT3H30M
SUMMARY:Colombia @ Pittsburgh Pirates
LOCATION:LECOM Park
DESCRIPTION:Final
END:VEVENT
BEGIN:VEVENT
UID:14-831438-2026-03-04@faceoff
DTSTART:20260304T180500Z
DURATION:PT3H30M
SUMMARY:Colombia @ Atlanta Braves
LOCATION:CoolToday Park
DESCRIPTION:Final
END:VEVENT
BEGIN:VEVENT
UID:164-788136-2026-03-06@faceoff
DTSTART:20260306T230000Z
DURATION:PT3H30M
SUMMARY:Colombia vs Puerto Rico (Pool A)
LOCATION:Hiram Bithorn Stadium
DESCRIPTION:Final
END:VEVENT
BEGIN:VEVENT
UID:164-788138-2026-03-07@faceoff
DTSTART:20260307T160000Z
DURATION:PT3H30M
SUMMARY:Colombia @ Canada (Pool A)
LOCATION:Hiram Bithorn Stadium
DESCRIPTION:Final
END:VEVENT
BEGIN:VEVENT
UID:164-788135-2026-03-08@faceoff
DTSTART:20260308T160000Z
DURATION:PT3H30M
SUMMARY:Colombia @ Cuba (Pool A)
LOCATION:Hiram Bithorn Stadium
DESCRIPTION:Final
END:VEVENT
BEGIN:VEVENT
UID:164-788133-2026-03-09@faceoff
DTSTART:20260309T160000Z
DURATION:PT3H30M
SUMMARY:Colombia @ Panama (Pool A)
LOCATION:Hiram Bithorn Stadium
DESCRIPTION:Final
END:VEVENT
END:VCALENDAR
