BEGIN:VCALENDAR
VERSION:2.0
X-WR-CALNAME:Canada Schedule
REFRESH-INTERVAL;VALUE=DURATION:PT1H
X-PUBLISHED-TTL:PT1H
BEGIN:VEVENT
UID:14-831437-2026-03-03@faceoff
DTSTART:20260303T180700Z
DURATION:PT3H30M
SUMMARY:Canada @ Toronto Blue Jays
LOCATION:TD Ballpark
DESCRIPTION:Final
END:VEVENT
BEGIN:VEVENT
UID:14-831427-2026-03-04@faceoff
DTSTART:20260304T180500Z
DURATION:PT3H30M
SUMMARY:Canada @ Philadelphia Phillies
LOCATION:BayCare Ballpark
DESCRIPTION:Final
END:VEVENT
BEGIN:VEVENT
UID:164-788138-2026-03-07@faceoff
DTSTART:20260307T160000Z
DURATION:PT3H30M
SUMMARY:Canada vs Colombia (Pool A)
LOCATION:Hiram Bithorn Stadium
DESCRIPTION:Final
END:VEVENT
BEGIN:VEVENT
UID:164-788134-2026-03-08@faceoff
DTSTART:20260308T230000Z
DURATION:PT3H30M
SUMMARY:Canada vs Panama (Pool A)
LOCATION:Hiram Bithorn Stadium
DESCRIPTION:Final
END:VEVENT
BEGIN:VEVENT
UID:164-788132-2026-03-10@faceoff
DTSTART:20260310T230000Z
DURATION:PT3H30M
SUMMARY:Canada @ Puerto Rico (Pool A)
LOCATION:Hiram Bithorn Stadium
DESCRIPTION:Final
END:VEVENT
BEGIN:VEVENT
UID:164-788130-2026-03-11@faceoff
DTSTART:20260311T190000Z
DURATION:PT3H30M
SUMMARY:Canada @ Cuba (Pool A)
LOCATION:Hiram Bithorn Stadium
DESCRIPTION:Final
END:VEVENT
BEGIN:VEVENT
UID:164-788100-2026-03-13@faceoff
DTSTART:20260314T000000Z
DURATION:PT3H30M
SUMMARY:Canada vs United States (Quarterfinal 2: Pool B Runner-Up vs. Pool A Winner)
LOCATION:Daikin Park
DESCRIPTION:Final
END:VEVENT
END:VCALENDAR
