BEGIN:VCALENDAR
VERSION:2.0
X-WR-CALNAME:Brazil Schedule
REFRESH-INTERVAL;VALUE=DURATION:PT1H
X-PUBLISHED-TTL:PT1H
BEGIN:VEVENT
UID:14-831940-2026-03-03@faceoff
DTSTART:20260303T200500Z
DURATION:PT3H30M
SUMMARY:Brazil @ Athletics
LOCATION:Hohokam Stadium
DESCRIPTION:Completed Early
END:VEVENT
BEGIN:VEVENT
UID:14-831938-2026-03-04@faceoff
DTSTART:20260304T200500Z
DURATION:PT3H30M
SUMMARY:Brazil @ Texas Rangers
LOCATION:Surprise Stadium
DESCRIPTION:Completed Early
END:VEVENT
BEGIN:VEVENT
UID:164-788128-2026-03-06@faceoff
DTSTART:20260307T010000Z
DURATION:PT3H30M
SUMMARY:Brazil vs United States (Pool B)
LOCATION:Daikin Park
DESCRIPTION:Final
END:VEVENT
BEGIN:VEVENT
UID:164-788126-2026-03-07@faceoff
DTSTART:20260307T180000Z
DURATION:PT3H30M
SUMMARY:Brazil @ Italy (Pool B)
LOCATION:Daikin Park
DESCRIPTION:Final
END:VEVENT
BEGIN:VEVENT
UID:164-788125-2026-03-08@faceoff
DTSTART:20260309T000000Z
DURATION:PT3H30M
SUMMARY:Brazil @ Mexico (Pool B)
LOCATION:Daikin Park
DESCRIPTION:Completed Early
END:VEVENT
BEGIN:VEVENT
UID:164-788123-2026-03-09@faceoff
DTSTART:20260309T170000Z
DURATION:PT3H30M
SUMMARY:Brazil @ Great Britain (Pool B)
LOCATION:Daikin Park
DESCRIPTION:Final
END:VEVENT
END:VCALENDAR
