BEGIN:VCALENDAR
VERSION:2.0
X-WR-CALNAME:Australia Schedule
REFRESH-INTERVAL;VALUE=DURATION:PT1H
X-PUBLISHED-TTL:PT1H
BEGIN:VEVENT
UID:164-788120-2026-03-05@faceoff
DTSTART:20260305T030000Z
DURATION:PT3H30M
SUMMARY:Australia vs Chinese Taipei (Pool C)
LOCATION:Tokyo Dome
DESCRIPTION:Final
END:VEVENT
BEGIN:VEVENT
UID:164-788116-2026-03-06@faceoff
DTSTART:20260306T030000Z
DURATION:PT3H30M
SUMMARY:Australia @ Czechia (Pool C)
LOCATION:Tokyo Dome
DESCRIPTION:Final
END:VEVENT
BEGIN:VEVENT
UID:164-788109-2026-03-08@faceoff
DTSTART:20260308T100000Z
DURATION:PT3H30M
SUMMARY:Australia @ Japan (Pool C)
LOCATION:Tokyo Dome
DESCRIPTION:Final
END:VEVENT
BEGIN:VEVENT
UID:164-788112-2026-03-09@faceoff
DTSTART:20260309T100000Z
DURATION:PT3H30M
SUMMARY:Australia vs Korea (Pool C)
LOCATION:Tokyo Dome
DESCRIPTION:Final
END:VEVENT
END:VCALENDAR
