BEGIN:VCALENDAR
VERSION:2.0
X-WR-CALNAME:Washington Spirit Schedule
REFRESH-INTERVAL;VALUE=DURATION:PT1H
X-PUBLISHED-TTL:PT1H
BEGIN:VEVENT
UID:nwsl::Football_Match::834675f37cea4328bece6743d94c7d2d@faceoff
DTSTART:20260314T000000Z
DURATION:PT3H30M
SUMMARY:Washington Spirit vs Portland Thorns
LOCATION:Audi Field
DESCRIPTION:FINISHED
END:VEVENT
BEGIN:VEVENT
UID:nwsl::Football_Match::e12503a4f6b744dd9ce904fb3d900d88@faceoff
DTSTART:20260321T000000Z
DURATION:PT3H30M
SUMMARY:Washington Spirit @ Racing Louisville
LOCATION:Lynn Family Stadium
DESCRIPTION:FINISHED
END:VEVENT
BEGIN:VEVENT
UID:nwsl::Football_Match::d490e706ae3f4a499f9df89357d8bf4f@faceoff
DTSTART:20260325T230000Z
DURATION:PT3H30M
SUMMARY:Washington Spirit vs Utah Royals
LOCATION:Audi Field
DESCRIPTION:FINISHED
END:VEVENT
BEGIN:VEVENT
UID:nwsl::Football_Match::e039074914cd4219bff42573d6e26404@faceoff
DTSTART:20260328T180000Z
DURATION:PT3H30M
SUMMARY:Washington Spirit @ Denver Summit
LOCATION:Empower Field at Mile High
DESCRIPTION:FINISHED
END:VEVENT
BEGIN:VEVENT
UID:nwsl::Football_Match::596daa7f5dd143d59b44bd11f5d494cb@faceoff
DTSTART:20260405T210000Z
DURATION:PT3H30M
SUMMARY:Washington Spirit @ Bay
LOCATION:PayPal Park
DESCRIPTION:FINISHED
END:VEVENT
BEGIN:VEVENT
UID:nwsl::Football_Match::9d4b3aa133204223ae1a8643ca6755bd@faceoff
DTSTART:20260425T000000Z
DURATION:PT3H30M
SUMMARY:Washington Spirit vs Kansas City Current
LOCATION:Audi Field
DESCRIPTION:UPCOMING
END:VEVENT
BEGIN:VEVENT
UID:nwsl::Football_Match::a2f4aa3ef0c74a43b419ead89007f663@faceoff
DTSTART:20260429T230000Z
DURATION:PT3H30M
SUMMARY:Washington Spirit vs Racing Louisville
LOCATION:Audi Field
DESCRIPTION:UPCOMING
END:VEVENT
BEGIN:VEVENT
UID:nwsl::Football_Match::c34bff42258245b1ab4bcf23425eb8ae@faceoff
DTSTART:20260502T200000Z
DURATION:PT3H30M
SUMMARY:Washington Spirit @ Orlando Pride
LOCATION:Inter&Co Stadium
DESCRIPTION:UPCOMING
END:VEVENT
BEGIN:VEVENT
UID:nwsl::Football_Match::73d516b4f15d447da5ec7b05e6486e8e@faceoff
DTSTART:20260510T230000Z
DURATION:PT3H30M
SUMMARY:Washington Spirit @ Seattle Reign
LOCATION:Lumen Field
DESCRIPTION:UPCOMING
END:VEVENT
BEGIN:VEVENT
UID:nwsl::Football_Match::cc9210774bdb4370a08855c4e39fe9a4@faceoff
DTSTART:20260516T020000Z
DURATION:PT3H30M
SUMMARY:Washington Spirit @ San Diego Wave
LOCATION:Snapdragon Stadium
DESCRIPTION:UPCOMING
END:VEVENT
BEGIN:VEVENT
UID:nwsl::Football_Match::f594f7fbe07945dc8ae460d92c5696f4@faceoff
DTSTART:20260530T223000Z
DURATION:PT3H30M
SUMMARY:Washington Spirit vs Seattle Reign
LOCATION:Audi Field
DESCRIPTION:UPCOMING
END:VEVENT
BEGIN:VEVENT
UID:nwsl::Football_Match::6576393993da4f0786f4a2a53b87ca8e@faceoff
DTSTART:20260704T000000Z
DURATION:PT3H30M
SUMMARY:Washington Spirit vs Houston Dash
LOCATION:Audi Field
DESCRIPTION:UPCOMING
END:VEVENT
BEGIN:VEVENT
UID:nwsl::Football_Match::53fb5619acbc4ea88e16ecb5edcba87f@faceoff
DTSTART:20260711T223000Z
DURATION:PT3H30M
SUMMARY:Washington Spirit @ North Carolina Courage
LOCATION:First Horizon Stadium at WakeMed Soccer Park
DESCRIPTION:UPCOMING
END:VEVENT
BEGIN:VEVENT
UID:nwsl::Football_Match::ea376e16c8f94da9b052c8f6afdb0b82@faceoff
DTSTART:20260716T000000Z
DURATION:PT3H30M
SUMMARY:Washington Spirit @ Gotham FC
LOCATION:Citi Field
DESCRIPTION:UPCOMING
END:VEVENT
BEGIN:VEVENT
UID:nwsl::Football_Match::ab159e754821435c9385218f0c9732c7@faceoff
DTSTART:20260719T230000Z
DURATION:PT3H30M
SUMMARY:Washington Spirit @ Boston Legacy
LOCATION:Centreville Bank Stadium
DESCRIPTION:UPCOMING
END:VEVENT
BEGIN:VEVENT
UID:nwsl::Football_Match::83a606b90fd6443989243fc1e7b160d2@faceoff
DTSTART:20260726T230000Z
DURATION:PT3H30M
SUMMARY:Washington Spirit vs Denver Summit
LOCATION:Audi Field
DESCRIPTION:UPCOMING
END:VEVENT
BEGIN:VEVENT
UID:nwsl::Football_Match::66dad56ec011472d9a3d34dde27f1052@faceoff
DTSTART:20260730T010000Z
DURATION:PT3H30M
SUMMARY:Washington Spirit @ Utah Royals
LOCATION:America First Field
DESCRIPTION:UPCOMING
END:VEVENT
BEGIN:VEVENT
UID:nwsl::Football_Match::bef6e52626144320a57fae6d35ec014f@faceoff
DTSTART:20260802T200000Z
DURATION:PT3H30M
SUMMARY:Washington Spirit vs San Diego Wave
LOCATION:Audi Field
DESCRIPTION:UPCOMING
END:VEVENT
BEGIN:VEVENT
UID:nwsl::Football_Match::00ee9ae7e88f40289e9d12114cbe1f92@faceoff
DTSTART:20260808T223000Z
DURATION:PT3H30M
SUMMARY:Washington Spirit vs North Carolina Courage
LOCATION:Audi Field
DESCRIPTION:UPCOMING
END:VEVENT
BEGIN:VEVENT
UID:nwsl::Football_Match::d0b8211816814df696fda00309ff5a40@faceoff
DTSTART:20260817T010000Z
DURATION:PT3H30M
SUMMARY:Washington Spirit @ Angel City
LOCATION:BMO Stadium
DESCRIPTION:UPCOMING
END:VEVENT
BEGIN:VEVENT
UID:nwsl::Football_Match::e0521b4af9ce41269d5691cf6b1ed7c4@faceoff
DTSTART:20260823T200000Z
DURATION:PT3H30M
SUMMARY:Washington Spirit vs Orlando Pride
LOCATION:Audi Field
DESCRIPTION:UPCOMING
END:VEVENT
BEGIN:VEVENT
UID:nwsl::Football_Match::016969f3352e44b89b0be619ccc77967@faceoff
DTSTART:20260830T163000Z
DURATION:PT3H30M
SUMMARY:Washington Spirit vs Bay
LOCATION:Audi Field
DESCRIPTION:UPCOMING
END:VEVENT
BEGIN:VEVENT
UID:nwsl::Football_Match::30c0380470324f7086cd1167b63b151d@faceoff
DTSTART:20260906T200000Z
DURATION:PT3H30M
SUMMARY:Washington Spirit @ Portland Thorns
LOCATION:Providence Park
DESCRIPTION:UPCOMING
END:VEVENT
BEGIN:VEVENT
UID:nwsl::Football_Match::c7aa6aec13884f0a9e41869fa70a291b@faceoff
DTSTART:20260913T170000Z
DURATION:PT3H30M
SUMMARY:Washington Spirit vs Boston Legacy
LOCATION:Audi Field
DESCRIPTION:UPCOMING
END:VEVENT
BEGIN:VEVENT
UID:nwsl::Football_Match::395ee8d49a074e29bc420909a091beb4@faceoff
DTSTART:20260920T210000Z
DURATION:PT3H30M
SUMMARY:Washington Spirit @ Chicago Stars
LOCATION:Northwestern Medicine Field at Martin Stadium
DESCRIPTION:UPCOMING
END:VEVENT
BEGIN:VEVENT
UID:nwsl::Football_Match::c1833a8094194490a2e9cb11bede80da@faceoff
DTSTART:20260926T223000Z
DURATION:PT3H30M
SUMMARY:Washington Spirit vs Angel City
LOCATION:Audi Field
DESCRIPTION:UPCOMING
END:VEVENT
BEGIN:VEVENT
UID:nwsl::Football_Match::9dae366cd55b408394886b5a75df15a8@faceoff
DTSTART:20261004T230000Z
DURATION:PT3H30M
SUMMARY:Washington Spirit @ Houston Dash
LOCATION:Shell Energy Stadium
DESCRIPTION:UPCOMING
END:VEVENT
BEGIN:VEVENT
UID:nwsl::Football_Match::84e804b11e444a2d9f7ede88f6fd889b@faceoff
DTSTART:20261017T163000Z
DURATION:PT3H30M
SUMMARY:Washington Spirit vs Gotham FC
LOCATION:Audi Field
DESCRIPTION:UPCOMING
END:VEVENT
BEGIN:VEVENT
UID:nwsl::Football_Match::376e787d24a24255aaa0785bf264cdaf@faceoff
DTSTART:20261025T210000Z
DURATION:PT3H30M
SUMMARY:Washington Spirit @ Kansas City Current
LOCATION:CPKC Stadium
DESCRIPTION:UPCOMING
END:VEVENT
BEGIN:VEVENT
UID:nwsl::Football_Match::c02e1960e7024381a77d9409fb489100@faceoff
DTSTART:20261101T220000Z
DURATION:PT3H30M
SUMMARY:Washington Spirit vs Chicago Stars
LOCATION:Audi Field
DESCRIPTION:UPCOMING
END:VEVENT
END:VCALENDAR
