BEGIN:VCALENDAR
VERSION:2.0
X-WR-CALNAME:Utah Royals Schedule
REFRESH-INTERVAL;VALUE=DURATION:PT1H
X-PUBLISHED-TTL:PT1H
BEGIN:VEVENT
UID:nwsl::Football_Match::b76033576eb641b1b637daada7cdd9c5@faceoff
DTSTART:20260314T200000Z
DURATION:PT3H30M
SUMMARY:Utah Royals @ Kansas City Current
LOCATION:CPKC Stadium
DESCRIPTION:FINISHED
END:VEVENT
BEGIN:VEVENT
UID:nwsl::Football_Match::6b7cf16f18384a44852d38da5c4e67a5@faceoff
DTSTART:20260322T230000Z
DURATION:PT3H30M
SUMMARY:Utah Royals vs San Diego Wave
LOCATION:America First Field
DESCRIPTION:FINISHED
END:VEVENT
BEGIN:VEVENT
UID:nwsl::Football_Match::d490e706ae3f4a499f9df89357d8bf4f@faceoff
DTSTART:20260325T230000Z
DURATION:PT3H30M
SUMMARY:Utah Royals @ Washington Spirit
LOCATION:Audi Field
DESCRIPTION:FINISHED
END:VEVENT
BEGIN:VEVENT
UID:nwsl::Football_Match::b3951483cb7f401387b1848fb08cf51d@faceoff
DTSTART:20260328T160000Z
DURATION:PT3H30M
SUMMARY:Utah Royals @ Boston Legacy
LOCATION:Gillette Stadium
DESCRIPTION:FINISHED
END:VEVENT
BEGIN:VEVENT
UID:nwsl::Football_Match::70e1ae6c99a54b85bebe43f6e830ff10@faceoff
DTSTART:20260404T010000Z
DURATION:PT3H30M
SUMMARY:Utah Royals vs Chicago Stars
LOCATION:America First Field
DESCRIPTION:FINISHED
END:VEVENT
BEGIN:VEVENT
UID:nwsl::Football_Match::1177000528a2412cb563a5f6cc66d14d@faceoff
DTSTART:20260427T000000Z
DURATION:PT3H30M
SUMMARY:Utah Royals @ Seattle Reign
LOCATION:Lumen Field
DESCRIPTION:UPCOMING
END:VEVENT
BEGIN:VEVENT
UID:nwsl::Football_Match::35b506fd36514dd89ca551c94e145f9a@faceoff
DTSTART:20260503T004500Z
DURATION:PT3H30M
SUMMARY:Utah Royals @ Angel City
LOCATION:BMO Stadium
DESCRIPTION:UPCOMING
END:VEVENT
BEGIN:VEVENT
UID:nwsl::Football_Match::c6fb70ead63643ceac5aecc6bb4f652d@faceoff
DTSTART:20260507T020000Z
DURATION:PT3H30M
SUMMARY:Utah Royals vs Houston Dash
LOCATION:America First Field
DESCRIPTION:UPCOMING
END:VEVENT
BEGIN:VEVENT
UID:nwsl::Football_Match::1909a0ca669a4be191299afde35d2aed@faceoff
DTSTART:20260510T200000Z
DURATION:PT3H30M
SUMMARY:Utah Royals @ Bay
LOCATION:PayPal Park
DESCRIPTION:UPCOMING
END:VEVENT
BEGIN:VEVENT
UID:nwsl::Football_Match::8a84e3a00a5640d88d36ec4fd1854934@faceoff
DTSTART:20260518T000000Z
DURATION:PT3H30M
SUMMARY:Utah Royals vs Racing Louisville
LOCATION:America First Field
DESCRIPTION:UPCOMING
END:VEVENT
BEGIN:VEVENT
UID:nwsl::Football_Match::5d198c2e5c974a5f86db08def2d63e08@faceoff
DTSTART:20260523T223000Z
DURATION:PT3H30M
SUMMARY:Utah Royals vs Denver Summit
LOCATION:America First Field
DESCRIPTION:UPCOMING
END:VEVENT
BEGIN:VEVENT
UID:nwsl::Football_Match::e64e64e55bac469b85f4ca1b7e5bf7eb@faceoff
DTSTART:20260530T200000Z
DURATION:PT3H30M
SUMMARY:Utah Royals @ Portland Thorns
LOCATION:Providence Park
DESCRIPTION:UPCOMING
END:VEVENT
BEGIN:VEVENT
UID:nwsl::Football_Match::476e3ecb3afc4bfda1f9a404e825e3c4@faceoff
DTSTART:20260705T210000Z
DURATION:PT3H30M
SUMMARY:Utah Royals @ Chicago Stars
LOCATION:Northwestern Medicine Field at Martin Stadium
DESCRIPTION:UPCOMING
END:VEVENT
BEGIN:VEVENT
UID:nwsl::Football_Match::1bd697a780f94557a40445ef7b603dac@faceoff
DTSTART:20260711T020000Z
DURATION:PT3H30M
SUMMARY:Utah Royals vs Gotham FC
LOCATION:America First Field
DESCRIPTION:UPCOMING
END:VEVENT
BEGIN:VEVENT
UID:nwsl::Football_Match::f8833eb753cf4c23aa491e8a6ddb54a8@faceoff
DTSTART:20260719T004500Z
DURATION:PT3H30M
SUMMARY:Utah Royals vs Orlando Pride
LOCATION:America First Field
DESCRIPTION:UPCOMING
END:VEVENT
BEGIN:VEVENT
UID:nwsl::Football_Match::744869396bca4a5c951f0d17969b5574@faceoff
DTSTART:20260725T234500Z
DURATION:PT3H30M
SUMMARY:Utah Royals @ North Carolina Courage
LOCATION:First Horizon Stadium at WakeMed Soccer Park
DESCRIPTION:UPCOMING
END:VEVENT
BEGIN:VEVENT
UID:nwsl::Football_Match::66dad56ec011472d9a3d34dde27f1052@faceoff
DTSTART:20260730T010000Z
DURATION:PT3H30M
SUMMARY:Utah Royals vs Washington Spirit
LOCATION:America First Field
DESCRIPTION:UPCOMING
END:VEVENT
BEGIN:VEVENT
UID:nwsl::Football_Match::480fa23a4f5444fa9381737b92df261f@faceoff
DTSTART:20260802T230000Z
DURATION:PT3H30M
SUMMARY:Utah Royals vs Portland Thorns
LOCATION:America First Field
DESCRIPTION:UPCOMING
END:VEVENT
BEGIN:VEVENT
UID:nwsl::Football_Match::2ab2e7dd4fbb4a52898ea09d1f99cbdf@faceoff
DTSTART:20260808T200000Z
DURATION:PT3H30M
SUMMARY:Utah Royals @ Denver Summit
LOCATION:Centennial Stadium
DESCRIPTION:UPCOMING
END:VEVENT
BEGIN:VEVENT
UID:nwsl::Football_Match::1a431597f8914717aaac544a7a364bb2@faceoff
DTSTART:20260815T020000Z
DURATION:PT3H30M
SUMMARY:Utah Royals vs Bay
LOCATION:America First Field
DESCRIPTION:UPCOMING
END:VEVENT
BEGIN:VEVENT
UID:nwsl::Football_Match::67ef3bea752c4f069b18bdbb0bf40a21@faceoff
DTSTART:20260822T020000Z
DURATION:PT3H30M
SUMMARY:Utah Royals @ San Diego Wave
LOCATION:Snapdragon Stadium
DESCRIPTION:UPCOMING
END:VEVENT
BEGIN:VEVENT
UID:nwsl::Football_Match::a47118a226254066a8b297c06de27375@faceoff
DTSTART:20260829T230000Z
DURATION:PT3H30M
SUMMARY:Utah Royals @ Orlando Pride
LOCATION:Inter&Co Stadium
DESCRIPTION:UPCOMING
END:VEVENT
BEGIN:VEVENT
UID:nwsl::Football_Match::84d74cbf9bfd4edab75704f4ac4a3299@faceoff
DTSTART:20260905T013000Z
DURATION:PT3H30M
SUMMARY:Utah Royals vs Boston Legacy
LOCATION:America First Field
DESCRIPTION:UPCOMING
END:VEVENT
BEGIN:VEVENT
UID:nwsl::Football_Match::18c50880df344037b669f68e2e38250e@faceoff
DTSTART:20260913T004500Z
DURATION:PT3H30M
SUMMARY:Utah Royals @ Houston Dash
LOCATION:Shell Energy Stadium
DESCRIPTION:UPCOMING
END:VEVENT
BEGIN:VEVENT
UID:nwsl::Football_Match::05ab00d90cf8420489e9156d020a310d@faceoff
DTSTART:20260920T230000Z
DURATION:PT3H30M
SUMMARY:Utah Royals vs Angel City
LOCATION:America First Field
DESCRIPTION:UPCOMING
END:VEVENT
BEGIN:VEVENT
UID:nwsl::Football_Match::4d3fb3b31d854df186bf1dd36667c4b4@faceoff
DTSTART:20260927T230000Z
DURATION:PT3H30M
SUMMARY:Utah Royals vs North Carolina Courage
LOCATION:America First Field
DESCRIPTION:UPCOMING
END:VEVENT
BEGIN:VEVENT
UID:nwsl::Football_Match::f98c224749b0477fa9ec43348f231b28@faceoff
DTSTART:20261003T200000Z
DURATION:PT3H30M
SUMMARY:Utah Royals @ Racing Louisville
LOCATION:Lynn Family Stadium
DESCRIPTION:UPCOMING
END:VEVENT
BEGIN:VEVENT
UID:nwsl::Football_Match::72fcfeb1186844dfaee148dbc81e0a6b@faceoff
DTSTART:20261017T223000Z
DURATION:PT3H30M
SUMMARY:Utah Royals vs Kansas City Current
LOCATION:America First Field
DESCRIPTION:UPCOMING
END:VEVENT
BEGIN:VEVENT
UID:nwsl::Football_Match::74d55a2427a14fb8b5bcab1a8a51c26e@faceoff
DTSTART:20261024T013000Z
DURATION:PT3H30M
SUMMARY:Utah Royals vs Seattle Reign
LOCATION:America First Field
DESCRIPTION:UPCOMING
END:VEVENT
BEGIN:VEVENT
UID:nwsl::Football_Match::9dde8e4f5f1344019b716b7c9d3ced20@faceoff
DTSTART:20261101T220000Z
DURATION:PT3H30M
SUMMARY:Utah Royals @ Gotham FC
LOCATION:Sports Illustrated Stadium
DESCRIPTION:UPCOMING
END:VEVENT
END:VCALENDAR
