BEGIN:VCALENDAR
VERSION:2.0
X-WR-CALNAME:Seattle Reign Schedule
REFRESH-INTERVAL;VALUE=DURATION:PT1H
X-PUBLISHED-TTL:PT1H
BEGIN:VEVENT
UID:nwsl::Football_Match::2c285b125cce400eaaa3978448617f1c@faceoff
DTSTART:20260315T200000Z
DURATION:PT3H30M
SUMMARY:Seattle Reign @ Orlando Pride
LOCATION:Inter&Co Stadium
DESCRIPTION:FINISHED
END:VEVENT
BEGIN:VEVENT
UID:nwsl::Football_Match::ad208bff0c6f499894114e2368929fc5@faceoff
DTSTART:20260321T020000Z
DURATION:PT3H30M
SUMMARY:Seattle Reign @ Portland Thorns
LOCATION:Providence Park
DESCRIPTION:FINISHED
END:VEVENT
BEGIN:VEVENT
UID:nwsl::Football_Match::8f386b302bf642fcb1bc915b8700b754@faceoff
DTSTART:20260326T010000Z
DURATION:PT3H30M
SUMMARY:Seattle Reign vs Kansas City Current
LOCATION:One Spokane Stadium
DESCRIPTION:FINISHED
END:VEVENT
BEGIN:VEVENT
UID:nwsl::Football_Match::975a9b81cd8442fc9154d24a3eafa99b@faceoff
DTSTART:20260328T223000Z
DURATION:PT3H30M
SUMMARY:Seattle Reign vs Racing Louisville
LOCATION:One Spokane Stadium
DESCRIPTION:FINISHED
END:VEVENT
BEGIN:VEVENT
UID:nwsl::Football_Match::28d2ef6eab384aefac9322f7a21072e8@faceoff
DTSTART:20260405T004500Z
DURATION:PT3H30M
SUMMARY:Seattle Reign vs Denver Summit
LOCATION:One Spokane Stadium
DESCRIPTION:FINISHED
END:VEVENT
BEGIN:VEVENT
UID:nwsl::Football_Match::1177000528a2412cb563a5f6cc66d14d@faceoff
DTSTART:20260427T000000Z
DURATION:PT3H30M
SUMMARY:Seattle Reign vs Utah Royals
LOCATION:Lumen Field
DESCRIPTION:UPCOMING
END:VEVENT
BEGIN:VEVENT
UID:nwsl::Football_Match::a135330bf54743fb92529e9d6dd2441d@faceoff
DTSTART:20260502T000000Z
DURATION:PT3H30M
SUMMARY:Seattle Reign @ Houston Dash
LOCATION:Shell Energy Stadium
DESCRIPTION:UPCOMING
END:VEVENT
BEGIN:VEVENT
UID:nwsl::Football_Match::73d516b4f15d447da5ec7b05e6486e8e@faceoff
DTSTART:20260510T230000Z
DURATION:PT3H30M
SUMMARY:Seattle Reign vs Washington Spirit
LOCATION:Lumen Field
DESCRIPTION:UPCOMING
END:VEVENT
BEGIN:VEVENT
UID:nwsl::Football_Match::55b44dd3ee334f349a615e02b4b020f9@faceoff
DTSTART:20260516T020000Z
DURATION:PT3H30M
SUMMARY:Seattle Reign vs Gotham FC
LOCATION:Lumen Field
DESCRIPTION:UPCOMING
END:VEVENT
BEGIN:VEVENT
UID:nwsl::Football_Match::3726ef79404b4d789f56c19ae50df3f8@faceoff
DTSTART:20260523T000000Z
DURATION:PT3H30M
SUMMARY:Seattle Reign @ Boston Legacy
LOCATION:Centreville Bank Stadium
DESCRIPTION:UPCOMING
END:VEVENT
BEGIN:VEVENT
UID:nwsl::Football_Match::f594f7fbe07945dc8ae460d92c5696f4@faceoff
DTSTART:20260530T223000Z
DURATION:PT3H30M
SUMMARY:Seattle Reign @ Washington Spirit
LOCATION:Audi Field
DESCRIPTION:UPCOMING
END:VEVENT
BEGIN:VEVENT
UID:nwsl::Football_Match::98c13cd2f1554ce0ba2aca6de0766735@faceoff
DTSTART:20260704T223000Z
DURATION:PT3H30M
SUMMARY:Seattle Reign @ North Carolina Courage
LOCATION:First Horizon Stadium at WakeMed Soccer Park
DESCRIPTION:UPCOMING
END:VEVENT
BEGIN:VEVENT
UID:nwsl::Football_Match::98d379faee114d39858e722fdfab2e83@faceoff
DTSTART:20260712T200000Z
DURATION:PT3H30M
SUMMARY:Seattle Reign vs Portland Thorns
LOCATION:Lumen Field
DESCRIPTION:UPCOMING
END:VEVENT
BEGIN:VEVENT
UID:nwsl::Football_Match::4299342ead6847b7b691b2f680189483@faceoff
DTSTART:20260718T160000Z
DURATION:PT3H30M
SUMMARY:Seattle Reign @ Gotham FC
LOCATION:Icahn Stadium
DESCRIPTION:UPCOMING
END:VEVENT
BEGIN:VEVENT
UID:nwsl::Football_Match::661cbf0f4f6b48db92c1c84c57754eff@faceoff
DTSTART:20260726T210000Z
DURATION:PT3H30M
SUMMARY:Seattle Reign @ San Diego Wave
LOCATION:Snapdragon Stadium
DESCRIPTION:UPCOMING
END:VEVENT
BEGIN:VEVENT
UID:nwsl::Football_Match::32b62bbfd578453b8045603ee9b7fa02@faceoff
DTSTART:20260802T004500Z
DURATION:PT3H30M
SUMMARY:Seattle Reign @ Bay
LOCATION:PayPal Park
DESCRIPTION:UPCOMING
END:VEVENT
BEGIN:VEVENT
UID:nwsl::Football_Match::c980ca2ca26b44eda01deade50bb4cf7@faceoff
DTSTART:20260810T010000Z
DURATION:PT3H30M
SUMMARY:Seattle Reign vs Angel City
LOCATION:Lumen Field
DESCRIPTION:UPCOMING
END:VEVENT
BEGIN:VEVENT
UID:nwsl::Football_Match::11645e258c274c93910a311c038f7f9a@faceoff
DTSTART:20260815T020000Z
DURATION:PT3H30M
SUMMARY:Seattle Reign vs Chicago Stars
LOCATION:Lumen Field
DESCRIPTION:UPCOMING
END:VEVENT
BEGIN:VEVENT
UID:nwsl::Football_Match::44bac11ab576401aa821cfecc2a929fc@faceoff
DTSTART:20260819T223000Z
DURATION:PT3H30M
SUMMARY:Seattle Reign @ Racing Louisville
LOCATION:Lynn Family Stadium
DESCRIPTION:UPCOMING
END:VEVENT
BEGIN:VEVENT
UID:nwsl::Football_Match::4370313a480045088cb8d010332afd6b@faceoff
DTSTART:20260822T223000Z
DURATION:PT3H30M
SUMMARY:Seattle Reign @ Kansas City Current
LOCATION:CPKC Stadium
DESCRIPTION:UPCOMING
END:VEVENT
BEGIN:VEVENT
UID:nwsl::Football_Match::7541c8dd578c49e4a1d6adbe7fc81d59@faceoff
DTSTART:20260830T230000Z
DURATION:PT3H30M
SUMMARY:Seattle Reign vs Houston Dash
LOCATION:Lumen Field
DESCRIPTION:UPCOMING
END:VEVENT
BEGIN:VEVENT
UID:nwsl::Football_Match::c2df43c5a18a40f284c27b62b0b99035@faceoff
DTSTART:20260907T010000Z
DURATION:PT3H30M
SUMMARY:Seattle Reign vs San Diego Wave
LOCATION:Lumen Field
DESCRIPTION:UPCOMING
END:VEVENT
BEGIN:VEVENT
UID:nwsl::Football_Match::1121e2a07450410495e8a6a721e3697e@faceoff
DTSTART:20260913T000000Z
DURATION:PT3H30M
SUMMARY:Seattle Reign vs Bay
LOCATION:Lumen Field
DESCRIPTION:UPCOMING
END:VEVENT
BEGIN:VEVENT
UID:nwsl::Football_Match::d4287fd6eca744deba9a7ade9b6675b8@faceoff
DTSTART:20260917T020000Z
DURATION:PT3H30M
SUMMARY:Seattle Reign @ Angel City
LOCATION:BMO Stadium
DESCRIPTION:UPCOMING
END:VEVENT
BEGIN:VEVENT
UID:nwsl::Football_Match::3cb04ce8aba14af983e19667197c8b43@faceoff
DTSTART:20260920T004500Z
DURATION:PT3H30M
SUMMARY:Seattle Reign @ Denver Summit
LOCATION:Centennial Stadium
DESCRIPTION:UPCOMING
END:VEVENT
BEGIN:VEVENT
UID:nwsl::Football_Match::86a3308169fa4b4bbdb745277007dc4f@faceoff
DTSTART:20260926T003000Z
DURATION:PT3H30M
SUMMARY:Seattle Reign vs Boston Legacy
LOCATION:Lumen Field
DESCRIPTION:UPCOMING
END:VEVENT
BEGIN:VEVENT
UID:nwsl::Football_Match::15d87d77685447c1be31d4531922c6b3@faceoff
DTSTART:20261003T020000Z
DURATION:PT3H30M
SUMMARY:Seattle Reign vs North Carolina Courage
LOCATION:Lumen Field
DESCRIPTION:UPCOMING
END:VEVENT
BEGIN:VEVENT
UID:nwsl::Football_Match::e534e76ce881470eaef01614b88d69d5@faceoff
DTSTART:20261018T230000Z
DURATION:PT3H30M
SUMMARY:Seattle Reign @ Chicago Stars
LOCATION:Northwestern Medicine Field at Martin Stadium
DESCRIPTION:UPCOMING
END:VEVENT
BEGIN:VEVENT
UID:nwsl::Football_Match::74d55a2427a14fb8b5bcab1a8a51c26e@faceoff
DTSTART:20261024T013000Z
DURATION:PT3H30M
SUMMARY:Seattle Reign @ Utah Royals
LOCATION:America First Field
DESCRIPTION:UPCOMING
END:VEVENT
BEGIN:VEVENT
UID:nwsl::Football_Match::b2d2f1fc43bf4b3b8b9482a480ad8fbd@faceoff
DTSTART:20261101T220000Z
DURATION:PT3H30M
SUMMARY:Seattle Reign vs Orlando Pride
LOCATION:Lumen Field
DESCRIPTION:UPCOMING
END:VEVENT
END:VCALENDAR
