BEGIN:VCALENDAR
VERSION:2.0
X-WR-CALNAME:San Diego Wave Schedule
REFRESH-INTERVAL;VALUE=DURATION:PT1H
X-PUBLISHED-TTL:PT1H
BEGIN:VEVENT
UID:nwsl::Football_Match::838546b8a5aa482b9906d8fbb56317b7@faceoff
DTSTART:20260315T004500Z
DURATION:PT3H30M
SUMMARY:San Diego Wave vs Houston Dash
LOCATION:Snapdragon Stadium
DESCRIPTION:FINISHED
END:VEVENT
BEGIN:VEVENT
UID:nwsl::Football_Match::6b7cf16f18384a44852d38da5c4e67a5@faceoff
DTSTART:20260322T230000Z
DURATION:PT3H30M
SUMMARY:San Diego Wave @ Utah Royals
LOCATION:America First Field
DESCRIPTION:FINISHED
END:VEVENT
BEGIN:VEVENT
UID:nwsl::Football_Match::7d92bf1d386548b7b769341a490ef330@faceoff
DTSTART:20260326T020000Z
DURATION:PT3H30M
SUMMARY:San Diego Wave vs Portland Thorns
LOCATION:Snapdragon Stadium
DESCRIPTION:FINISHED
END:VEVENT
BEGIN:VEVENT
UID:nwsl::Football_Match::00ccefbe44fc485eabf42a901e0aec8a@faceoff
DTSTART:20260329T004500Z
DURATION:PT3H30M
SUMMARY:San Diego Wave vs Chicago Stars
LOCATION:Snapdragon Stadium
DESCRIPTION:FINISHED
END:VEVENT
BEGIN:VEVENT
UID:nwsl::Football_Match::b4681c0200f2485381e0e346ec0bb157@faceoff
DTSTART:20260403T230000Z
DURATION:PT3H30M
SUMMARY:San Diego Wave @ Boston Legacy
LOCATION:Gillette Stadium
DESCRIPTION:FINISHED
END:VEVENT
BEGIN:VEVENT
UID:nwsl::Football_Match::fe217ecc8ac44791a68230ae2b9b4da7@faceoff
DTSTART:20260426T004500Z
DURATION:PT3H30M
SUMMARY:San Diego Wave @ Denver Summit
LOCATION:Dick's Sporting Goods Park
DESCRIPTION:UPCOMING
END:VEVENT
BEGIN:VEVENT
UID:nwsl::Football_Match::364a31ef3f56419d8a662770c76601f4@faceoff
DTSTART:20260430T020000Z
DURATION:PT3H30M
SUMMARY:San Diego Wave @ Portland Thorns
LOCATION:Providence Park
DESCRIPTION:UPCOMING
END:VEVENT
BEGIN:VEVENT
UID:nwsl::Football_Match::c80e8f6d0cbd440583a92be7c3cd40f0@faceoff
DTSTART:20260503T230000Z
DURATION:PT3H30M
SUMMARY:San Diego Wave vs Bay
LOCATION:Snapdragon Stadium
DESCRIPTION:UPCOMING
END:VEVENT
BEGIN:VEVENT
UID:nwsl::Football_Match::049cbf32aa174425b54d161eeb0990bd@faceoff
DTSTART:20260510T004500Z
DURATION:PT3H30M
SUMMARY:San Diego Wave @ Angel City
LOCATION:BMO Stadium
DESCRIPTION:UPCOMING
END:VEVENT
BEGIN:VEVENT
UID:nwsl::Football_Match::cc9210774bdb4370a08855c4e39fe9a4@faceoff
DTSTART:20260516T020000Z
DURATION:PT3H30M
SUMMARY:San Diego Wave vs Washington Spirit
LOCATION:Snapdragon Stadium
DESCRIPTION:UPCOMING
END:VEVENT
BEGIN:VEVENT
UID:nwsl::Football_Match::360fed438a5e4e7cac67e255c7dc9ac8@faceoff
DTSTART:20260521T000000Z
DURATION:PT3H30M
SUMMARY:San Diego Wave @ Houston Dash
LOCATION:Shell Energy Stadium
DESCRIPTION:UPCOMING
END:VEVENT
BEGIN:VEVENT
UID:nwsl::Football_Match::68dc815ba69141c28bd98582a6932048@faceoff
DTSTART:20260524T230000Z
DURATION:PT3H30M
SUMMARY:San Diego Wave vs Orlando Pride
LOCATION:Snapdragon Stadium
DESCRIPTION:UPCOMING
END:VEVENT
BEGIN:VEVENT
UID:nwsl::Football_Match::2f03225824534720bc7e7ea97f5cb8b8@faceoff
DTSTART:20260531T170000Z
DURATION:PT3H30M
SUMMARY:San Diego Wave @ Chicago Stars
LOCATION:Northwestern Medicine Field at Martin Stadium
DESCRIPTION:UPCOMING
END:VEVENT
BEGIN:VEVENT
UID:nwsl::Football_Match::776826ac7b0a4af18e7b6e4321a20184@faceoff
DTSTART:20260705T004500Z
DURATION:PT3H30M
SUMMARY:San Diego Wave vs Gotham FC
LOCATION:Snapdragon Stadium
DESCRIPTION:UPCOMING
END:VEVENT
BEGIN:VEVENT
UID:nwsl::Football_Match::5b72b24c33eb4dcb92a73b1259a79d03@faceoff
DTSTART:20260712T004500Z
DURATION:PT3H30M
SUMMARY:San Diego Wave vs Angel City
LOCATION:Snapdragon Stadium
DESCRIPTION:UPCOMING
END:VEVENT
BEGIN:VEVENT
UID:nwsl::Football_Match::3435d5d90a2e4c2e9763734077f9bbb8@faceoff
DTSTART:20260718T000000Z
DURATION:PT3H30M
SUMMARY:San Diego Wave @ Kansas City Current
LOCATION:CPKC Stadium
DESCRIPTION:UPCOMING
END:VEVENT
BEGIN:VEVENT
UID:nwsl::Football_Match::661cbf0f4f6b48db92c1c84c57754eff@faceoff
DTSTART:20260726T210000Z
DURATION:PT3H30M
SUMMARY:San Diego Wave vs Seattle Reign
LOCATION:Snapdragon Stadium
DESCRIPTION:UPCOMING
END:VEVENT
BEGIN:VEVENT
UID:nwsl::Football_Match::bef6e52626144320a57fae6d35ec014f@faceoff
DTSTART:20260802T200000Z
DURATION:PT3H30M
SUMMARY:San Diego Wave @ Washington Spirit
LOCATION:Audi Field
DESCRIPTION:UPCOMING
END:VEVENT
BEGIN:VEVENT
UID:nwsl::Football_Match::cdc0c0c8e71a4898bf7c6eb37517d9e8@faceoff
DTSTART:20260808T000000Z
DURATION:PT3H30M
SUMMARY:San Diego Wave @ Gotham FC
LOCATION:Sports Illustrated Stadium
DESCRIPTION:UPCOMING
END:VEVENT
BEGIN:VEVENT
UID:nwsl::Football_Match::27b3f650634b411487f905b86f033dab@faceoff
DTSTART:20260815T020000Z
DURATION:PT3H30M
SUMMARY:San Diego Wave vs Denver Summit
LOCATION:Snapdragon Stadium
DESCRIPTION:UPCOMING
END:VEVENT
BEGIN:VEVENT
UID:nwsl::Football_Match::67ef3bea752c4f069b18bdbb0bf40a21@faceoff
DTSTART:20260822T020000Z
DURATION:PT3H30M
SUMMARY:San Diego Wave vs Utah Royals
LOCATION:Snapdragon Stadium
DESCRIPTION:UPCOMING
END:VEVENT
BEGIN:VEVENT
UID:nwsl::Football_Match::e495fc091f3e415781786d006a6c983c@faceoff
DTSTART:20260829T020000Z
DURATION:PT3H30M
SUMMARY:San Diego Wave vs Racing Louisville
LOCATION:Snapdragon Stadium
DESCRIPTION:UPCOMING
END:VEVENT
BEGIN:VEVENT
UID:nwsl::Football_Match::c2df43c5a18a40f284c27b62b0b99035@faceoff
DTSTART:20260907T010000Z
DURATION:PT3H30M
SUMMARY:San Diego Wave @ Seattle Reign
LOCATION:Lumen Field
DESCRIPTION:UPCOMING
END:VEVENT
BEGIN:VEVENT
UID:nwsl::Football_Match::a62a9d084ab34dbdadab8fd317212307@faceoff
DTSTART:20260912T223000Z
DURATION:PT3H30M
SUMMARY:San Diego Wave vs North Carolina Courage
LOCATION:Snapdragon Stadium
DESCRIPTION:UPCOMING
END:VEVENT
BEGIN:VEVENT
UID:nwsl::Football_Match::d408ea4caf684722b9838915fc3f1a77@faceoff
DTSTART:20260919T020000Z
DURATION:PT3H30M
SUMMARY:San Diego Wave vs Kansas City Current
LOCATION:Snapdragon Stadium
DESCRIPTION:UPCOMING
END:VEVENT
BEGIN:VEVENT
UID:nwsl::Football_Match::d17fc704715a41fb88a7b002610ad0bb@faceoff
DTSTART:20260925T223000Z
DURATION:PT3H30M
SUMMARY:San Diego Wave @ Racing Louisville
LOCATION:Lynn Family Stadium
DESCRIPTION:UPCOMING
END:VEVENT
BEGIN:VEVENT
UID:nwsl::Football_Match::ebba373c52b345638106b556d564573a@faceoff
DTSTART:20261003T000000Z
DURATION:PT3H30M
SUMMARY:San Diego Wave @ Orlando Pride
LOCATION:Inter&Co Stadium
DESCRIPTION:UPCOMING
END:VEVENT
BEGIN:VEVENT
UID:nwsl::Football_Match::2a614454baf84677b23215caa8093a52@faceoff
DTSTART:20261017T230000Z
DURATION:PT3H30M
SUMMARY:San Diego Wave @ North Carolina Courage
LOCATION:First Horizon Stadium at WakeMed Soccer Park
DESCRIPTION:UPCOMING
END:VEVENT
BEGIN:VEVENT
UID:nwsl::Football_Match::a1ace14f78d64eb6866eb29ab637853c@faceoff
DTSTART:20261025T230000Z
DURATION:PT3H30M
SUMMARY:San Diego Wave vs Boston Legacy
LOCATION:Snapdragon Stadium
DESCRIPTION:UPCOMING
END:VEVENT
BEGIN:VEVENT
UID:nwsl::Football_Match::f5e301ecb3f3408b85ed3dac933e4bf0@faceoff
DTSTART:20261101T220000Z
DURATION:PT3H30M
SUMMARY:San Diego Wave @ Bay
LOCATION:PayPal Park
DESCRIPTION:UPCOMING
END:VEVENT
END:VCALENDAR
