BEGIN:VCALENDAR
VERSION:2.0
X-WR-CALNAME:Portland Thorns Schedule
REFRESH-INTERVAL;VALUE=DURATION:PT1H
X-PUBLISHED-TTL:PT1H
BEGIN:VEVENT
UID:nwsl::Football_Match::834675f37cea4328bece6743d94c7d2d@faceoff
DTSTART:20260314T000000Z
DURATION:PT3H30M
SUMMARY:Portland Thorns @ Washington Spirit
LOCATION:Audi Field
DESCRIPTION:FINISHED
END:VEVENT
BEGIN:VEVENT
UID:nwsl::Football_Match::ad208bff0c6f499894114e2368929fc5@faceoff
DTSTART:20260321T020000Z
DURATION:PT3H30M
SUMMARY:Portland Thorns vs Seattle Reign
LOCATION:Providence Park
DESCRIPTION:FINISHED
END:VEVENT
BEGIN:VEVENT
UID:nwsl::Football_Match::7d92bf1d386548b7b769341a490ef330@faceoff
DTSTART:20260326T020000Z
DURATION:PT3H30M
SUMMARY:Portland Thorns @ San Diego Wave
LOCATION:Snapdragon Stadium
DESCRIPTION:FINISHED
END:VEVENT
BEGIN:VEVENT
UID:nwsl::Football_Match::12d1439704b741048918ec6a12753556@faceoff
DTSTART:20260328T200000Z
DURATION:PT3H30M
SUMMARY:Portland Thorns vs Kansas City Current
LOCATION:Providence Park
DESCRIPTION:FINISHED
END:VEVENT
BEGIN:VEVENT
UID:nwsl::Football_Match::499035b554b5447eaa1e78d29bcc485d@faceoff
DTSTART:20260404T223000Z
DURATION:PT3H30M
SUMMARY:Portland Thorns @ North Carolina Courage
LOCATION:First Horizon Stadium at WakeMed Soccer Park
DESCRIPTION:FINISHED
END:VEVENT
BEGIN:VEVENT
UID:nwsl::Football_Match::007c4ad4a4e245398501034108375d5b@faceoff
DTSTART:20260426T220000Z
DURATION:PT3H30M
SUMMARY:Portland Thorns @ Angel City
LOCATION:BMO Stadium
DESCRIPTION:UPCOMING
END:VEVENT
BEGIN:VEVENT
UID:nwsl::Football_Match::364a31ef3f56419d8a662770c76601f4@faceoff
DTSTART:20260430T020000Z
DURATION:PT3H30M
SUMMARY:Portland Thorns vs San Diego Wave
LOCATION:Providence Park
DESCRIPTION:UPCOMING
END:VEVENT
BEGIN:VEVENT
UID:nwsl::Football_Match::1bdfbb36082d4a70b5c32fda24052f46@faceoff
DTSTART:20260503T170000Z
DURATION:PT3H30M
SUMMARY:Portland Thorns @ Chicago Stars
LOCATION:Northwestern Medicine Field at Martin Stadium
DESCRIPTION:UPCOMING
END:VEVENT
BEGIN:VEVENT
UID:nwsl::Football_Match::7572b3411b1b46b199191135b42b685d@faceoff
DTSTART:20260508T223000Z
DURATION:PT3H30M
SUMMARY:Portland Thorns @ Racing Louisville
LOCATION:Lynn Family Stadium
DESCRIPTION:UPCOMING
END:VEVENT
BEGIN:VEVENT
UID:nwsl::Football_Match::854d8cbe383a42e39c429863b02986f5@faceoff
DTSTART:20260517T220000Z
DURATION:PT3H30M
SUMMARY:Portland Thorns vs Angel City
LOCATION:Providence Park
DESCRIPTION:UPCOMING
END:VEVENT
BEGIN:VEVENT
UID:nwsl::Football_Match::d11f333ad954497695aadc3be644040c@faceoff
DTSTART:20260521T020000Z
DURATION:PT3H30M
SUMMARY:Portland Thorns vs Bay
LOCATION:Providence Park
DESCRIPTION:UPCOMING
END:VEVENT
BEGIN:VEVENT
UID:nwsl::Football_Match::360229922d4c45feb4a7609ac2b06cef@faceoff
DTSTART:20260524T170000Z
DURATION:PT3H30M
SUMMARY:Portland Thorns @ Kansas City Current
LOCATION:CPKC Stadium
DESCRIPTION:UPCOMING
END:VEVENT
BEGIN:VEVENT
UID:nwsl::Football_Match::e64e64e55bac469b85f4ca1b7e5bf7eb@faceoff
DTSTART:20260530T200000Z
DURATION:PT3H30M
SUMMARY:Portland Thorns vs Utah Royals
LOCATION:Providence Park
DESCRIPTION:UPCOMING
END:VEVENT
BEGIN:VEVENT
UID:nwsl::Football_Match::51daec146700426fb6d0ae139b352449@faceoff
DTSTART:20260705T230000Z
DURATION:PT3H30M
SUMMARY:Portland Thorns vs Racing Louisville
LOCATION:Providence Park
DESCRIPTION:UPCOMING
END:VEVENT
BEGIN:VEVENT
UID:nwsl::Football_Match::98d379faee114d39858e722fdfab2e83@faceoff
DTSTART:20260712T200000Z
DURATION:PT3H30M
SUMMARY:Portland Thorns @ Seattle Reign
LOCATION:Lumen Field
DESCRIPTION:UPCOMING
END:VEVENT
BEGIN:VEVENT
UID:nwsl::Football_Match::c572f38b34cd41299aacd5ca0b03d459@faceoff
DTSTART:20260718T180000Z
DURATION:PT3H30M
SUMMARY:Portland Thorns @ Denver Summit
LOCATION:Centennial Stadium
DESCRIPTION:UPCOMING
END:VEVENT
BEGIN:VEVENT
UID:nwsl::Football_Match::204dc2e7a3e34e42a5c5452e9b725196@faceoff
DTSTART:20260725T020000Z
DURATION:PT3H30M
SUMMARY:Portland Thorns vs Gotham FC
LOCATION:Providence Park
DESCRIPTION:UPCOMING
END:VEVENT
BEGIN:VEVENT
UID:nwsl::Football_Match::480fa23a4f5444fa9381737b92df261f@faceoff
DTSTART:20260802T230000Z
DURATION:PT3H30M
SUMMARY:Portland Thorns @ Utah Royals
LOCATION:America First Field
DESCRIPTION:UPCOMING
END:VEVENT
BEGIN:VEVENT
UID:nwsl::Football_Match::f887b710b49f4d9d9cb7b57c6176531f@faceoff
DTSTART:20260809T200000Z
DURATION:PT3H30M
SUMMARY:Portland Thorns @ Boston Legacy
LOCATION:Centreville Bank Stadium
DESCRIPTION:UPCOMING
END:VEVENT
BEGIN:VEVENT
UID:nwsl::Football_Match::a784281ced3d4ae0a66682030e3c8ad2@faceoff
DTSTART:20260816T004500Z
DURATION:PT3H30M
SUMMARY:Portland Thorns vs Orlando Pride
LOCATION:Providence Park
DESCRIPTION:UPCOMING
END:VEVENT
BEGIN:VEVENT
UID:nwsl::Football_Match::7ac6c3efc9644f7db1e1c8fee444fdb5@faceoff
DTSTART:20260823T004500Z
DURATION:PT3H30M
SUMMARY:Portland Thorns vs Denver Summit
LOCATION:Providence Park
DESCRIPTION:UPCOMING
END:VEVENT
BEGIN:VEVENT
UID:nwsl::Football_Match::4f89a6e4705c470f8afb28aff5c5ad06@faceoff
DTSTART:20260829T000000Z
DURATION:PT3H30M
SUMMARY:Portland Thorns @ Gotham FC
LOCATION:Sports Illustrated Stadium
DESCRIPTION:UPCOMING
END:VEVENT
BEGIN:VEVENT
UID:nwsl::Football_Match::30c0380470324f7086cd1167b63b151d@faceoff
DTSTART:20260906T200000Z
DURATION:PT3H30M
SUMMARY:Portland Thorns vs Washington Spirit
LOCATION:Providence Park
DESCRIPTION:UPCOMING
END:VEVENT
BEGIN:VEVENT
UID:nwsl::Football_Match::96c6414abe28433091872c0766c9bf34@faceoff
DTSTART:20260913T230000Z
DURATION:PT3H30M
SUMMARY:Portland Thorns vs Chicago Stars
LOCATION:Providence Park
DESCRIPTION:UPCOMING
END:VEVENT
BEGIN:VEVENT
UID:nwsl::Football_Match::be31bbfaf7014c44a2fc2db6adcb8224@faceoff
DTSTART:20260919T200000Z
DURATION:PT3H30M
SUMMARY:Portland Thorns @ Orlando Pride
LOCATION:Inter&Co Stadium
DESCRIPTION:UPCOMING
END:VEVENT
BEGIN:VEVENT
UID:nwsl::Football_Match::21a43502ff434083824a9534af92af91@faceoff
DTSTART:20260927T004500Z
DURATION:PT3H30M
SUMMARY:Portland Thorns vs Houston Dash
LOCATION:Providence Park
DESCRIPTION:UPCOMING
END:VEVENT
BEGIN:VEVENT
UID:nwsl::Football_Match::39f1ac94b0984f1aa2030d36f5cd2534@faceoff
DTSTART:20261004T004500Z
DURATION:PT3H30M
SUMMARY:Portland Thorns vs Boston Legacy
LOCATION:Providence Park
DESCRIPTION:UPCOMING
END:VEVENT
BEGIN:VEVENT
UID:nwsl::Football_Match::dbae98ca60224a9284122d1f023c1c0e@faceoff
DTSTART:20261018T210000Z
DURATION:PT3H30M
SUMMARY:Portland Thorns @ Bay
LOCATION:PayPal Park
DESCRIPTION:UPCOMING
END:VEVENT
BEGIN:VEVENT
UID:nwsl::Football_Match::0dbb79b8208d489e9cc7e6082c8c8dca@faceoff
DTSTART:20261024T020000Z
DURATION:PT3H30M
SUMMARY:Portland Thorns vs North Carolina Courage
LOCATION:Providence Park
DESCRIPTION:UPCOMING
END:VEVENT
BEGIN:VEVENT
UID:nwsl::Football_Match::957badcf899e40fc9fa3e1009df3c679@faceoff
DTSTART:20261101T220000Z
DURATION:PT3H30M
SUMMARY:Portland Thorns @ Houston Dash
LOCATION:Shell Energy Stadium
DESCRIPTION:UPCOMING
END:VEVENT
END:VCALENDAR
