BEGIN:VCALENDAR
VERSION:2.0
X-WR-CALNAME:Orlando Pride Schedule
REFRESH-INTERVAL;VALUE=DURATION:PT1H
X-PUBLISHED-TTL:PT1H
BEGIN:VEVENT
UID:nwsl::Football_Match::2c285b125cce400eaaa3978448617f1c@faceoff
DTSTART:20260315T200000Z
DURATION:PT3H30M
SUMMARY:Orlando Pride vs Seattle Reign
LOCATION:Inter&Co Stadium
DESCRIPTION:FINISHED
END:VEVENT
BEGIN:VEVENT
UID:nwsl::Football_Match::f8fe02475dcc41efbcbf1690a485c58a@faceoff
DTSTART:20260321T000000Z
DURATION:PT3H30M
SUMMARY:Orlando Pride vs Denver Summit
LOCATION:Inter&Co Stadium
DESCRIPTION:FINISHED
END:VEVENT
BEGIN:VEVENT
UID:nwsl::Football_Match::33975f4423f8475c91407acab5672a09@faceoff
DTSTART:20260326T000000Z
DURATION:PT3H30M
SUMMARY:Orlando Pride @ Chicago Stars
LOCATION:Northwestern Medicine Field at Martin Stadium
DESCRIPTION:FINISHED
END:VEVENT
BEGIN:VEVENT
UID:nwsl::Football_Match::05d48558093840718784fc44fdd61b15@faceoff
DTSTART:20260329T230000Z
DURATION:PT3H30M
SUMMARY:Orlando Pride @ Gotham FC
LOCATION:Sports Illustrated Stadium
DESCRIPTION:FINISHED
END:VEVENT
BEGIN:VEVENT
UID:nwsl::Football_Match::4c2fb39d40214da08d557b7ee5829e94@faceoff
DTSTART:20260404T000000Z
DURATION:PT3H30M
SUMMARY:Orlando Pride vs Angel City
LOCATION:Inter&Co Stadium
DESCRIPTION:FINISHED
END:VEVENT
BEGIN:VEVENT
UID:nwsl::Football_Match::6bcd56db280148eab9a616d15aac25a5@faceoff
DTSTART:20260424T213000Z
DURATION:PT3H30M
SUMMARY:Orlando Pride @ Racing Louisville
LOCATION:Lynn Family Stadium
DESCRIPTION:UPCOMING
END:VEVENT
BEGIN:VEVENT
UID:nwsl::Football_Match::c34bff42258245b1ab4bcf23425eb8ae@faceoff
DTSTART:20260502T200000Z
DURATION:PT3H30M
SUMMARY:Orlando Pride vs Washington Spirit
LOCATION:Inter&Co Stadium
DESCRIPTION:UPCOMING
END:VEVENT
BEGIN:VEVENT
UID:nwsl::Football_Match::3c8b1776bfd140d1b3ea57e9b7cad8cb@faceoff
DTSTART:20260509T000000Z
DURATION:PT3H30M
SUMMARY:Orlando Pride vs North Carolina Courage
LOCATION:Inter&Co Stadium
DESCRIPTION:UPCOMING
END:VEVENT
BEGIN:VEVENT
UID:nwsl::Football_Match::342540cd5dd44f9398d74d2a5462c3f8@faceoff
DTSTART:20260512T230000Z
DURATION:PT3H30M
SUMMARY:Orlando Pride @ Boston Legacy
LOCATION:Gillette Stadium
DESCRIPTION:UPCOMING
END:VEVENT
BEGIN:VEVENT
UID:nwsl::Football_Match::b94cd118a1fd4efabe905959b185fe62@faceoff
DTSTART:20260517T004500Z
DURATION:PT3H30M
SUMMARY:Orlando Pride @ Denver Summit
LOCATION:Dick's Sporting Goods Park
DESCRIPTION:UPCOMING
END:VEVENT
BEGIN:VEVENT
UID:nwsl::Football_Match::68dc815ba69141c28bd98582a6932048@faceoff
DTSTART:20260524T230000Z
DURATION:PT3H30M
SUMMARY:Orlando Pride @ San Diego Wave
LOCATION:Snapdragon Stadium
DESCRIPTION:UPCOMING
END:VEVENT
BEGIN:VEVENT
UID:nwsl::Football_Match::b9d827016f744de58afaee249641ed98@faceoff
DTSTART:20260529T230000Z
DURATION:PT3H30M
SUMMARY:Orlando Pride vs Bay
LOCATION:Inter&Co Stadium
DESCRIPTION:UPCOMING
END:VEVENT
BEGIN:VEVENT
UID:nwsl::Football_Match::2c549633c6cc415ea4ebf1bf2caa5483@faceoff
DTSTART:20260704T020000Z
DURATION:PT3H30M
SUMMARY:Orlando Pride @ Angel City
LOCATION:BMO Stadium
DESCRIPTION:UPCOMING
END:VEVENT
BEGIN:VEVENT
UID:nwsl::Football_Match::7871ffcddc23468ea83c3b402f1e95eb@faceoff
DTSTART:20260711T000000Z
DURATION:PT3H30M
SUMMARY:Orlando Pride vs Kansas City Current
LOCATION:Inter&Co Stadium
DESCRIPTION:UPCOMING
END:VEVENT
BEGIN:VEVENT
UID:nwsl::Football_Match::849a6ed39ba74df1989032785c8929a5@faceoff
DTSTART:20260715T230000Z
DURATION:PT3H30M
SUMMARY:Orlando Pride vs Boston Legacy
LOCATION:Inter&Co Stadium
DESCRIPTION:UPCOMING
END:VEVENT
BEGIN:VEVENT
UID:nwsl::Football_Match::f8833eb753cf4c23aa491e8a6ddb54a8@faceoff
DTSTART:20260719T004500Z
DURATION:PT3H30M
SUMMARY:Orlando Pride @ Utah Royals
LOCATION:America First Field
DESCRIPTION:UPCOMING
END:VEVENT
BEGIN:VEVENT
UID:nwsl::Football_Match::ef475cff50864cf6a39253891358d8ca@faceoff
DTSTART:20260725T000000Z
DURATION:PT3H30M
SUMMARY:Orlando Pride vs Chicago Stars
LOCATION:Inter&Co Stadium
DESCRIPTION:UPCOMING
END:VEVENT
BEGIN:VEVENT
UID:nwsl::Football_Match::07ee3f6c2e374077834c9d1862f5724f@faceoff
DTSTART:20260801T000000Z
DURATION:PT3H30M
SUMMARY:Orlando Pride @ North Carolina Courage
LOCATION:First Horizon Stadium at WakeMed Soccer Park
DESCRIPTION:UPCOMING
END:VEVENT
BEGIN:VEVENT
UID:nwsl::Football_Match::a7200d170faa45608518b42f237d1c82@faceoff
DTSTART:20260807T230000Z
DURATION:PT3H30M
SUMMARY:Orlando Pride vs Racing Louisville
LOCATION:Inter&Co Stadium
DESCRIPTION:UPCOMING
END:VEVENT
BEGIN:VEVENT
UID:nwsl::Football_Match::a784281ced3d4ae0a66682030e3c8ad2@faceoff
DTSTART:20260816T004500Z
DURATION:PT3H30M
SUMMARY:Orlando Pride @ Portland Thorns
LOCATION:Providence Park
DESCRIPTION:UPCOMING
END:VEVENT
BEGIN:VEVENT
UID:nwsl::Football_Match::e0521b4af9ce41269d5691cf6b1ed7c4@faceoff
DTSTART:20260823T200000Z
DURATION:PT3H30M
SUMMARY:Orlando Pride @ Washington Spirit
LOCATION:Audi Field
DESCRIPTION:UPCOMING
END:VEVENT
BEGIN:VEVENT
UID:nwsl::Football_Match::a47118a226254066a8b297c06de27375@faceoff
DTSTART:20260829T230000Z
DURATION:PT3H30M
SUMMARY:Orlando Pride vs Utah Royals
LOCATION:Inter&Co Stadium
DESCRIPTION:UPCOMING
END:VEVENT
BEGIN:VEVENT
UID:nwsl::Football_Match::eef0b22098514eafabd56c42e56be744@faceoff
DTSTART:20260906T230000Z
DURATION:PT3H30M
SUMMARY:Orlando Pride vs Houston Dash
LOCATION:Inter&Co Stadium
DESCRIPTION:UPCOMING
END:VEVENT
BEGIN:VEVENT
UID:nwsl::Football_Match::92e1a370f3ef417a9b8284c8ae30b130@faceoff
DTSTART:20260912T000000Z
DURATION:PT3H30M
SUMMARY:Orlando Pride @ Kansas City Current
LOCATION:CPKC Stadium
DESCRIPTION:UPCOMING
END:VEVENT
BEGIN:VEVENT
UID:nwsl::Football_Match::be31bbfaf7014c44a2fc2db6adcb8224@faceoff
DTSTART:20260919T200000Z
DURATION:PT3H30M
SUMMARY:Orlando Pride vs Portland Thorns
LOCATION:Inter&Co Stadium
DESCRIPTION:UPCOMING
END:VEVENT
BEGIN:VEVENT
UID:nwsl::Football_Match::c81c9a6fe18f44be99428502cc9f2963@faceoff
DTSTART:20260927T210000Z
DURATION:PT3H30M
SUMMARY:Orlando Pride @ Bay
LOCATION:PayPal Park
DESCRIPTION:UPCOMING
END:VEVENT
BEGIN:VEVENT
UID:nwsl::Football_Match::ebba373c52b345638106b556d564573a@faceoff
DTSTART:20261003T000000Z
DURATION:PT3H30M
SUMMARY:Orlando Pride vs San Diego Wave
LOCATION:Inter&Co Stadium
DESCRIPTION:UPCOMING
END:VEVENT
BEGIN:VEVENT
UID:nwsl::Football_Match::1b86b6519fbf4cf290e7c362c062b1b0@faceoff
DTSTART:20261018T170000Z
DURATION:PT3H30M
SUMMARY:Orlando Pride @ Houston Dash
LOCATION:Shell Energy Stadium
DESCRIPTION:UPCOMING
END:VEVENT
BEGIN:VEVENT
UID:nwsl::Football_Match::2aa2a1eb06304f2baca7d9add0808c35@faceoff
DTSTART:20261025T190000Z
DURATION:PT3H30M
SUMMARY:Orlando Pride vs Gotham FC
LOCATION:Inter&Co Stadium
DESCRIPTION:UPCOMING
END:VEVENT
BEGIN:VEVENT
UID:nwsl::Football_Match::b2d2f1fc43bf4b3b8b9482a480ad8fbd@faceoff
DTSTART:20261101T220000Z
DURATION:PT3H30M
SUMMARY:Orlando Pride @ Seattle Reign
LOCATION:Lumen Field
DESCRIPTION:UPCOMING
END:VEVENT
END:VCALENDAR
