BEGIN:VCALENDAR
VERSION:2.0
X-WR-CALNAME:North Carolina Courage Schedule
REFRESH-INTERVAL;VALUE=DURATION:PT1H
X-PUBLISHED-TTL:PT1H
BEGIN:VEVENT
UID:nwsl::Football_Match::d4a76ec9052f48348b0f7521ba3bb327@faceoff
DTSTART:20260314T230000Z
DURATION:PT3H30M
SUMMARY:North Carolina Courage vs Racing Louisville
LOCATION:First Horizon Stadium at WakeMed Soccer Park
DESCRIPTION:FINISHED
END:VEVENT
BEGIN:VEVENT
UID:nwsl::Football_Match::feb92d3df0bd41a7a72eb29cbce6cd2a@faceoff
DTSTART:20260321T223000Z
DURATION:PT3H30M
SUMMARY:North Carolina Courage @ Gotham FC
LOCATION:Sports Illustrated Stadium
DESCRIPTION:FINISHED
END:VEVENT
BEGIN:VEVENT
UID:nwsl::Football_Match::5306635547774401bae5d27eabccfefe@faceoff
DTSTART:20260328T230000Z
DURATION:PT3H30M
SUMMARY:North Carolina Courage vs Bay
LOCATION:First Horizon Stadium at WakeMed Soccer Park
DESCRIPTION:FINISHED
END:VEVENT
BEGIN:VEVENT
UID:nwsl::Football_Match::499035b554b5447eaa1e78d29bcc485d@faceoff
DTSTART:20260404T223000Z
DURATION:PT3H30M
SUMMARY:North Carolina Courage vs Portland Thorns
LOCATION:First Horizon Stadium at WakeMed Soccer Park
DESCRIPTION:FINISHED
END:VEVENT
BEGIN:VEVENT
UID:nwsl::Football_Match::264f47b896184e219609b3346485386a@faceoff
DTSTART:20260426T000000Z
DURATION:PT3H30M
SUMMARY:North Carolina Courage @ Houston Dash
LOCATION:Shell Energy Stadium
DESCRIPTION:UPCOMING
END:VEVENT
BEGIN:VEVENT
UID:nwsl::Football_Match::eab4b1d55ad147b6a8398fd9897dd123@faceoff
DTSTART:20260429T230000Z
DURATION:PT3H30M
SUMMARY:North Carolina Courage @ Boston Legacy
LOCATION:Gillette Stadium
DESCRIPTION:UPCOMING
END:VEVENT
BEGIN:VEVENT
UID:nwsl::Football_Match::3ed7cc292180473d970631299e549340@faceoff
DTSTART:20260502T223000Z
DURATION:PT3H30M
SUMMARY:North Carolina Courage vs Kansas City Current
LOCATION:First Horizon Stadium at WakeMed Soccer Park
DESCRIPTION:UPCOMING
END:VEVENT
BEGIN:VEVENT
UID:nwsl::Football_Match::3c8b1776bfd140d1b3ea57e9b7cad8cb@faceoff
DTSTART:20260509T000000Z
DURATION:PT3H30M
SUMMARY:North Carolina Courage @ Orlando Pride
LOCATION:Inter&Co Stadium
DESCRIPTION:UPCOMING
END:VEVENT
BEGIN:VEVENT
UID:nwsl::Football_Match::004466bf51734c7f894a6fd1c0d049b4@faceoff
DTSTART:20260516T223000Z
DURATION:PT3H30M
SUMMARY:North Carolina Courage vs Chicago Stars
LOCATION:First Horizon Stadium at WakeMed Soccer Park
DESCRIPTION:UPCOMING
END:VEVENT
BEGIN:VEVENT
UID:nwsl::Football_Match::e657423ef61141bda58a8d059e3f94ff@faceoff
DTSTART:20260523T200000Z
DURATION:PT3H30M
SUMMARY:North Carolina Courage @ Racing Louisville
LOCATION:Lynn Family Stadium
DESCRIPTION:UPCOMING
END:VEVENT
BEGIN:VEVENT
UID:nwsl::Football_Match::ed19a249a6e44aecaceb54fafba6636e@faceoff
DTSTART:20260531T230000Z
DURATION:PT3H30M
SUMMARY:North Carolina Courage @ Angel City
LOCATION:BMO Stadium
DESCRIPTION:UPCOMING
END:VEVENT
BEGIN:VEVENT
UID:nwsl::Football_Match::98c13cd2f1554ce0ba2aca6de0766735@faceoff
DTSTART:20260704T223000Z
DURATION:PT3H30M
SUMMARY:North Carolina Courage vs Seattle Reign
LOCATION:First Horizon Stadium at WakeMed Soccer Park
DESCRIPTION:UPCOMING
END:VEVENT
BEGIN:VEVENT
UID:nwsl::Football_Match::53fb5619acbc4ea88e16ecb5edcba87f@faceoff
DTSTART:20260711T223000Z
DURATION:PT3H30M
SUMMARY:North Carolina Courage vs Washington Spirit
LOCATION:First Horizon Stadium at WakeMed Soccer Park
DESCRIPTION:UPCOMING
END:VEVENT
BEGIN:VEVENT
UID:nwsl::Football_Match::98136f55a1964ab1a2bda5ccb1e252f3@faceoff
DTSTART:20260718T200000Z
DURATION:PT3H30M
SUMMARY:North Carolina Courage @ Bay
LOCATION:PayPal Park
DESCRIPTION:UPCOMING
END:VEVENT
BEGIN:VEVENT
UID:nwsl::Football_Match::744869396bca4a5c951f0d17969b5574@faceoff
DTSTART:20260725T234500Z
DURATION:PT3H30M
SUMMARY:North Carolina Courage vs Utah Royals
LOCATION:First Horizon Stadium at WakeMed Soccer Park
DESCRIPTION:UPCOMING
END:VEVENT
BEGIN:VEVENT
UID:nwsl::Football_Match::07ee3f6c2e374077834c9d1862f5724f@faceoff
DTSTART:20260801T000000Z
DURATION:PT3H30M
SUMMARY:North Carolina Courage vs Orlando Pride
LOCATION:First Horizon Stadium at WakeMed Soccer Park
DESCRIPTION:UPCOMING
END:VEVENT
BEGIN:VEVENT
UID:nwsl::Football_Match::b8beb36b96a94acd8f35d2cc14d7e7c1@faceoff
DTSTART:20260806T020000Z
DURATION:PT3H30M
SUMMARY:North Carolina Courage @ Denver Summit
LOCATION:Centennial Stadium
DESCRIPTION:UPCOMING
END:VEVENT
BEGIN:VEVENT
UID:nwsl::Football_Match::00ee9ae7e88f40289e9d12114cbe1f92@faceoff
DTSTART:20260808T223000Z
DURATION:PT3H30M
SUMMARY:North Carolina Courage @ Washington Spirit
LOCATION:Audi Field
DESCRIPTION:UPCOMING
END:VEVENT
BEGIN:VEVENT
UID:nwsl::Football_Match::0a28ee42682347f09223a744ca6e7c79@faceoff
DTSTART:20260816T230000Z
DURATION:PT3H30M
SUMMARY:North Carolina Courage vs Houston Dash
LOCATION:First Horizon Stadium at WakeMed Soccer Park
DESCRIPTION:UPCOMING
END:VEVENT
BEGIN:VEVENT
UID:nwsl::Football_Match::524aaa30ed5541c89254a234bdf9edc8@faceoff
DTSTART:20260822T233000Z
DURATION:PT3H30M
SUMMARY:North Carolina Courage vs Boston Legacy
LOCATION:First Horizon Stadium at WakeMed Soccer Park
DESCRIPTION:UPCOMING
END:VEVENT
BEGIN:VEVENT
UID:nwsl::Football_Match::6105198d78234fca8a2231fa65407451@faceoff
DTSTART:20260827T000000Z
DURATION:PT3H30M
SUMMARY:North Carolina Courage vs Angel City
LOCATION:First Horizon Stadium at WakeMed Soccer Park
DESCRIPTION:UPCOMING
END:VEVENT
BEGIN:VEVENT
UID:nwsl::Football_Match::f0561dd827af4adeb496e7e6da64b013@faceoff
DTSTART:20260829T223000Z
DURATION:PT3H30M
SUMMARY:North Carolina Courage @ Kansas City Current
LOCATION:CPKC Stadium
DESCRIPTION:UPCOMING
END:VEVENT
BEGIN:VEVENT
UID:nwsl::Football_Match::5cc0e98afcc24eca929534ed273b6f1e@faceoff
DTSTART:20260906T200000Z
DURATION:PT3H30M
SUMMARY:North Carolina Courage @ Chicago Stars
LOCATION:Northwestern Medicine Field at Martin Stadium
DESCRIPTION:UPCOMING
END:VEVENT
BEGIN:VEVENT
UID:nwsl::Football_Match::a62a9d084ab34dbdadab8fd317212307@faceoff
DTSTART:20260912T223000Z
DURATION:PT3H30M
SUMMARY:North Carolina Courage @ San Diego Wave
LOCATION:Snapdragon Stadium
DESCRIPTION:UPCOMING
END:VEVENT
BEGIN:VEVENT
UID:nwsl::Football_Match::0b1ebf19487d44cfb7c11506edd639e1@faceoff
DTSTART:20260919T223000Z
DURATION:PT3H30M
SUMMARY:North Carolina Courage vs Gotham FC
LOCATION:First Horizon Stadium at WakeMed Soccer Park
DESCRIPTION:UPCOMING
END:VEVENT
BEGIN:VEVENT
UID:nwsl::Football_Match::4d3fb3b31d854df186bf1dd36667c4b4@faceoff
DTSTART:20260927T230000Z
DURATION:PT3H30M
SUMMARY:North Carolina Courage @ Utah Royals
LOCATION:America First Field
DESCRIPTION:UPCOMING
END:VEVENT
BEGIN:VEVENT
UID:nwsl::Football_Match::15d87d77685447c1be31d4531922c6b3@faceoff
DTSTART:20261003T020000Z
DURATION:PT3H30M
SUMMARY:North Carolina Courage @ Seattle Reign
LOCATION:Lumen Field
DESCRIPTION:UPCOMING
END:VEVENT
BEGIN:VEVENT
UID:nwsl::Football_Match::2a614454baf84677b23215caa8093a52@faceoff
DTSTART:20261017T230000Z
DURATION:PT3H30M
SUMMARY:North Carolina Courage vs San Diego Wave
LOCATION:First Horizon Stadium at WakeMed Soccer Park
DESCRIPTION:UPCOMING
END:VEVENT
BEGIN:VEVENT
UID:nwsl::Football_Match::0dbb79b8208d489e9cc7e6082c8c8dca@faceoff
DTSTART:20261024T020000Z
DURATION:PT3H30M
SUMMARY:North Carolina Courage @ Portland Thorns
LOCATION:Providence Park
DESCRIPTION:UPCOMING
END:VEVENT
BEGIN:VEVENT
UID:nwsl::Football_Match::74495608b90c4f1b9bcd03b28503c1fc@faceoff
DTSTART:20261101T220000Z
DURATION:PT3H30M
SUMMARY:North Carolina Courage vs Denver Summit
LOCATION:First Horizon Stadium at WakeMed Soccer Park
DESCRIPTION:UPCOMING
END:VEVENT
END:VCALENDAR
