BEGIN:VCALENDAR
VERSION:2.0
X-WR-CALNAME:Racing Louisville Schedule
REFRESH-INTERVAL;VALUE=DURATION:PT1H
X-PUBLISHED-TTL:PT1H
BEGIN:VEVENT
UID:nwsl::Football_Match::d4a76ec9052f48348b0f7521ba3bb327@faceoff
DTSTART:20260314T230000Z
DURATION:PT3H30M
SUMMARY:Racing Louisville @ North Carolina Courage
LOCATION:First Horizon Stadium at WakeMed Soccer Park
DESCRIPTION:FINISHED
END:VEVENT
BEGIN:VEVENT
UID:nwsl::Football_Match::e12503a4f6b744dd9ce904fb3d900d88@faceoff
DTSTART:20260321T000000Z
DURATION:PT3H30M
SUMMARY:Racing Louisville vs Washington Spirit
LOCATION:Lynn Family Stadium
DESCRIPTION:FINISHED
END:VEVENT
BEGIN:VEVENT
UID:nwsl::Football_Match::975a9b81cd8442fc9154d24a3eafa99b@faceoff
DTSTART:20260328T223000Z
DURATION:PT3H30M
SUMMARY:Racing Louisville @ Seattle Reign
LOCATION:One Spokane Stadium
DESCRIPTION:FINISHED
END:VEVENT
BEGIN:VEVENT
UID:nwsl::Football_Match::f510bf2ec5834a49a437dafb1c1ad41b@faceoff
DTSTART:20260404T003000Z
DURATION:PT3H30M
SUMMARY:Racing Louisville @ Houston Dash
LOCATION:Shell Energy Stadium
DESCRIPTION:FINISHED
END:VEVENT
BEGIN:VEVENT
UID:nwsl::Football_Match::6bcd56db280148eab9a616d15aac25a5@faceoff
DTSTART:20260424T213000Z
DURATION:PT3H30M
SUMMARY:Racing Louisville vs Orlando Pride
LOCATION:Lynn Family Stadium
DESCRIPTION:UPCOMING
END:VEVENT
BEGIN:VEVENT
UID:nwsl::Football_Match::a2f4aa3ef0c74a43b419ead89007f663@faceoff
DTSTART:20260429T230000Z
DURATION:PT3H30M
SUMMARY:Racing Louisville @ Washington Spirit
LOCATION:Audi Field
DESCRIPTION:UPCOMING
END:VEVENT
BEGIN:VEVENT
UID:nwsl::Football_Match::b39ed47d9b3e4326ac10c1804cd6fab4@faceoff
DTSTART:20260503T210000Z
DURATION:PT3H30M
SUMMARY:Racing Louisville @ Gotham FC
LOCATION:Sports Illustrated Stadium
DESCRIPTION:UPCOMING
END:VEVENT
BEGIN:VEVENT
UID:nwsl::Football_Match::7572b3411b1b46b199191135b42b685d@faceoff
DTSTART:20260508T223000Z
DURATION:PT3H30M
SUMMARY:Racing Louisville vs Portland Thorns
LOCATION:Lynn Family Stadium
DESCRIPTION:UPCOMING
END:VEVENT
BEGIN:VEVENT
UID:nwsl::Football_Match::8a84e3a00a5640d88d36ec4fd1854934@faceoff
DTSTART:20260518T000000Z
DURATION:PT3H30M
SUMMARY:Racing Louisville @ Utah Royals
LOCATION:America First Field
DESCRIPTION:UPCOMING
END:VEVENT
BEGIN:VEVENT
UID:nwsl::Football_Match::e657423ef61141bda58a8d059e3f94ff@faceoff
DTSTART:20260523T200000Z
DURATION:PT3H30M
SUMMARY:Racing Louisville vs North Carolina Courage
LOCATION:Lynn Family Stadium
DESCRIPTION:UPCOMING
END:VEVENT
BEGIN:VEVENT
UID:nwsl::Football_Match::3bd415d8b50c4025819575e1942de7db@faceoff
DTSTART:20260530T000000Z
DURATION:PT3H30M
SUMMARY:Racing Louisville vs Denver Summit
LOCATION:Lynn Family Stadium
DESCRIPTION:UPCOMING
END:VEVENT
BEGIN:VEVENT
UID:nwsl::Football_Match::51daec146700426fb6d0ae139b352449@faceoff
DTSTART:20260705T230000Z
DURATION:PT3H30M
SUMMARY:Racing Louisville @ Portland Thorns
LOCATION:Providence Park
DESCRIPTION:UPCOMING
END:VEVENT
BEGIN:VEVENT
UID:nwsl::Football_Match::a9638c2402094ed18333eadfb07e1b69@faceoff
DTSTART:20260711T000000Z
DURATION:PT3H30M
SUMMARY:Racing Louisville vs Bay
LOCATION:Lynn Family Stadium
DESCRIPTION:UPCOMING
END:VEVENT
BEGIN:VEVENT
UID:nwsl::Football_Match::7ad37543528a44438962cd2c2dcaddf7@faceoff
DTSTART:20260719T000000Z
DURATION:PT3H30M
SUMMARY:Racing Louisville vs Houston Dash
LOCATION:Lynn Family Stadium
DESCRIPTION:UPCOMING
END:VEVENT
BEGIN:VEVENT
UID:nwsl::Football_Match::3582498efa1048ad98c077e2e4737b92@faceoff
DTSTART:20260727T010000Z
DURATION:PT3H30M
SUMMARY:Racing Louisville @ Angel City
LOCATION:BMO Stadium
DESCRIPTION:UPCOMING
END:VEVENT
BEGIN:VEVENT
UID:nwsl::Football_Match::9e6fcad85405471489e115645c11704c@faceoff
DTSTART:20260730T000000Z
DURATION:PT3H30M
SUMMARY:Racing Louisville @ Kansas City Current
LOCATION:CPKC Stadium
DESCRIPTION:UPCOMING
END:VEVENT
BEGIN:VEVENT
UID:nwsl::Football_Match::25252eeb6ff743e4a0bbc6394b56c159@faceoff
DTSTART:20260801T200000Z
DURATION:PT3H30M
SUMMARY:Racing Louisville vs Chicago Stars
LOCATION:Lynn Family Stadium
DESCRIPTION:UPCOMING
END:VEVENT
BEGIN:VEVENT
UID:nwsl::Football_Match::a7200d170faa45608518b42f237d1c82@faceoff
DTSTART:20260807T230000Z
DURATION:PT3H30M
SUMMARY:Racing Louisville @ Orlando Pride
LOCATION:Inter&Co Stadium
DESCRIPTION:UPCOMING
END:VEVENT
BEGIN:VEVENT
UID:nwsl::Football_Match::aa4ca5e4dfec4c5086d147918da45804@faceoff
DTSTART:20260815T223000Z
DURATION:PT3H30M
SUMMARY:Racing Louisville vs Boston Legacy
LOCATION:Lynn Family Stadium
DESCRIPTION:UPCOMING
END:VEVENT
BEGIN:VEVENT
UID:nwsl::Football_Match::44bac11ab576401aa821cfecc2a929fc@faceoff
DTSTART:20260819T223000Z
DURATION:PT3H30M
SUMMARY:Racing Louisville vs Seattle Reign
LOCATION:Lynn Family Stadium
DESCRIPTION:UPCOMING
END:VEVENT
BEGIN:VEVENT
UID:nwsl::Football_Match::9d6ba239486546b48999d8ec420558bd@faceoff
DTSTART:20260823T180000Z
DURATION:PT3H30M
SUMMARY:Racing Louisville @ Chicago Stars
LOCATION:Northwestern Medicine Field at Martin Stadium
DESCRIPTION:UPCOMING
END:VEVENT
BEGIN:VEVENT
UID:nwsl::Football_Match::e495fc091f3e415781786d006a6c983c@faceoff
DTSTART:20260829T020000Z
DURATION:PT3H30M
SUMMARY:Racing Louisville @ San Diego Wave
LOCATION:Snapdragon Stadium
DESCRIPTION:UPCOMING
END:VEVENT
BEGIN:VEVENT
UID:nwsl::Football_Match::d841246f6de74121ba24d0338f994d28@faceoff
DTSTART:20260905T223000Z
DURATION:PT3H30M
SUMMARY:Racing Louisville vs Angel City
LOCATION:Lynn Family Stadium
DESCRIPTION:UPCOMING
END:VEVENT
BEGIN:VEVENT
UID:nwsl::Football_Match::85fc81c24e90424c88e6cca3e1269701@faceoff
DTSTART:20260911T223000Z
DURATION:PT3H30M
SUMMARY:Racing Louisville vs Gotham FC
LOCATION:Lynn Family Stadium
DESCRIPTION:UPCOMING
END:VEVENT
BEGIN:VEVENT
UID:nwsl::Football_Match::ad4e698162d148cbab946db825dd58da@faceoff
DTSTART:20260920T230000Z
DURATION:PT3H30M
SUMMARY:Racing Louisville @ Bay
LOCATION:PayPal Park
DESCRIPTION:UPCOMING
END:VEVENT
BEGIN:VEVENT
UID:nwsl::Football_Match::d17fc704715a41fb88a7b002610ad0bb@faceoff
DTSTART:20260925T223000Z
DURATION:PT3H30M
SUMMARY:Racing Louisville vs San Diego Wave
LOCATION:Lynn Family Stadium
DESCRIPTION:UPCOMING
END:VEVENT
BEGIN:VEVENT
UID:nwsl::Football_Match::f98c224749b0477fa9ec43348f231b28@faceoff
DTSTART:20261003T200000Z
DURATION:PT3H30M
SUMMARY:Racing Louisville vs Utah Royals
LOCATION:Lynn Family Stadium
DESCRIPTION:UPCOMING
END:VEVENT
BEGIN:VEVENT
UID:nwsl::Football_Match::b8c8d180a8c040eb9147a88cc5352782@faceoff
DTSTART:20261017T000000Z
DURATION:PT3H30M
SUMMARY:Racing Louisville @ Boston Legacy
LOCATION:Gillette Stadium
DESCRIPTION:UPCOMING
END:VEVENT
BEGIN:VEVENT
UID:nwsl::Football_Match::80c9820887f8439b9b938ed30d4013d3@faceoff
DTSTART:20261024T223000Z
DURATION:PT3H30M
SUMMARY:Racing Louisville @ Denver Summit
LOCATION:Centennial Stadium
DESCRIPTION:UPCOMING
END:VEVENT
BEGIN:VEVENT
UID:nwsl::Football_Match::3b59ccb747c0492d8adcfa21e2d81c05@faceoff
DTSTART:20261101T220000Z
DURATION:PT3H30M
SUMMARY:Racing Louisville vs Kansas City Current
LOCATION:Lynn Family Stadium
DESCRIPTION:UPCOMING
END:VEVENT
END:VCALENDAR
