BEGIN:VCALENDAR
VERSION:2.0
X-WR-CALNAME:Angel City Schedule
REFRESH-INTERVAL;VALUE=DURATION:PT1H
X-PUBLISHED-TTL:PT1H
BEGIN:VEVENT
UID:nwsl::Football_Match::49defb2be0664b1e9f9b5ac09f4040a5@faceoff
DTSTART:20260315T230000Z
DURATION:PT3H30M
SUMMARY:Angel City vs Chicago Stars
LOCATION:BMO Stadium
DESCRIPTION:FINISHED
END:VEVENT
BEGIN:VEVENT
UID:nwsl::Football_Match::4f7aaf11b3b14c4eaaecb3ca3928ef39@faceoff
DTSTART:20260322T004500Z
DURATION:PT3H30M
SUMMARY:Angel City @ Bay
LOCATION:PayPal Park
DESCRIPTION:FINISHED
END:VEVENT
BEGIN:VEVENT
UID:nwsl::Football_Match::be232946d15a40beb5bd5649bf62b4f2@faceoff
DTSTART:20260328T020000Z
DURATION:PT3H30M
SUMMARY:Angel City vs Houston Dash
LOCATION:BMO Stadium
DESCRIPTION:FINISHED
END:VEVENT
BEGIN:VEVENT
UID:nwsl::Football_Match::4c2fb39d40214da08d557b7ee5829e94@faceoff
DTSTART:20260404T000000Z
DURATION:PT3H30M
SUMMARY:Angel City @ Orlando Pride
LOCATION:Inter&Co Stadium
DESCRIPTION:FINISHED
END:VEVENT
BEGIN:VEVENT
UID:nwsl::Football_Match::007c4ad4a4e245398501034108375d5b@faceoff
DTSTART:20260426T220000Z
DURATION:PT3H30M
SUMMARY:Angel City vs Portland Thorns
LOCATION:BMO Stadium
DESCRIPTION:UPCOMING
END:VEVENT
BEGIN:VEVENT
UID:nwsl::Football_Match::35b506fd36514dd89ca551c94e145f9a@faceoff
DTSTART:20260503T004500Z
DURATION:PT3H30M
SUMMARY:Angel City vs Utah Royals
LOCATION:BMO Stadium
DESCRIPTION:UPCOMING
END:VEVENT
BEGIN:VEVENT
UID:nwsl::Football_Match::049cbf32aa174425b54d161eeb0990bd@faceoff
DTSTART:20260510T004500Z
DURATION:PT3H30M
SUMMARY:Angel City vs San Diego Wave
LOCATION:BMO Stadium
DESCRIPTION:UPCOMING
END:VEVENT
BEGIN:VEVENT
UID:nwsl::Football_Match::854d8cbe383a42e39c429863b02986f5@faceoff
DTSTART:20260517T220000Z
DURATION:PT3H30M
SUMMARY:Angel City @ Portland Thorns
LOCATION:Providence Park
DESCRIPTION:UPCOMING
END:VEVENT
BEGIN:VEVENT
UID:nwsl::Football_Match::765d54c7493541808cd438bc92a08c6c@faceoff
DTSTART:20260521T020000Z
DURATION:PT3H30M
SUMMARY:Angel City vs Kansas City Current
LOCATION:BMO Stadium
DESCRIPTION:UPCOMING
END:VEVENT
BEGIN:VEVENT
UID:nwsl::Football_Match::930be80a40a045d39d39fab926751c2c@faceoff
DTSTART:20260524T004500Z
DURATION:PT3H30M
SUMMARY:Angel City @ Houston Dash
LOCATION:Shell Energy Stadium
DESCRIPTION:UPCOMING
END:VEVENT
BEGIN:VEVENT
UID:nwsl::Football_Match::ed19a249a6e44aecaceb54fafba6636e@faceoff
DTSTART:20260531T230000Z
DURATION:PT3H30M
SUMMARY:Angel City vs North Carolina Courage
LOCATION:BMO Stadium
DESCRIPTION:UPCOMING
END:VEVENT
BEGIN:VEVENT
UID:nwsl::Football_Match::2c549633c6cc415ea4ebf1bf2caa5483@faceoff
DTSTART:20260704T020000Z
DURATION:PT3H30M
SUMMARY:Angel City vs Orlando Pride
LOCATION:BMO Stadium
DESCRIPTION:UPCOMING
END:VEVENT
BEGIN:VEVENT
UID:nwsl::Football_Match::5b72b24c33eb4dcb92a73b1259a79d03@faceoff
DTSTART:20260712T004500Z
DURATION:PT3H30M
SUMMARY:Angel City @ San Diego Wave
LOCATION:Snapdragon Stadium
DESCRIPTION:UPCOMING
END:VEVENT
BEGIN:VEVENT
UID:nwsl::Football_Match::c18ef3da85a74988b0ab683ffce37f3e@faceoff
DTSTART:20260718T223000Z
DURATION:PT3H30M
SUMMARY:Angel City @ Chicago Stars
LOCATION:Northwestern Medicine Field at Martin Stadium
DESCRIPTION:UPCOMING
END:VEVENT
BEGIN:VEVENT
UID:nwsl::Football_Match::3582498efa1048ad98c077e2e4737b92@faceoff
DTSTART:20260727T010000Z
DURATION:PT3H30M
SUMMARY:Angel City vs Racing Louisville
LOCATION:BMO Stadium
DESCRIPTION:UPCOMING
END:VEVENT
BEGIN:VEVENT
UID:nwsl::Football_Match::88db027399ad46c4a43f362d25b4b578@faceoff
DTSTART:20260801T223000Z
DURATION:PT3H30M
SUMMARY:Angel City @ Kansas City Current
LOCATION:CPKC Stadium
DESCRIPTION:UPCOMING
END:VEVENT
BEGIN:VEVENT
UID:nwsl::Football_Match::c980ca2ca26b44eda01deade50bb4cf7@faceoff
DTSTART:20260810T010000Z
DURATION:PT3H30M
SUMMARY:Angel City @ Seattle Reign
LOCATION:Lumen Field
DESCRIPTION:UPCOMING
END:VEVENT
BEGIN:VEVENT
UID:nwsl::Football_Match::d0b8211816814df696fda00309ff5a40@faceoff
DTSTART:20260817T010000Z
DURATION:PT3H30M
SUMMARY:Angel City vs Washington Spirit
LOCATION:BMO Stadium
DESCRIPTION:UPCOMING
END:VEVENT
BEGIN:VEVENT
UID:nwsl::Football_Match::39eca8632fc74907bbb60943a547daf4@faceoff
DTSTART:20260824T000000Z
DURATION:PT3H30M
SUMMARY:Angel City vs Gotham FC
LOCATION:BMO Stadium
DESCRIPTION:UPCOMING
END:VEVENT
BEGIN:VEVENT
UID:nwsl::Football_Match::6105198d78234fca8a2231fa65407451@faceoff
DTSTART:20260827T000000Z
DURATION:PT3H30M
SUMMARY:Angel City @ North Carolina Courage
LOCATION:First Horizon Stadium at WakeMed Soccer Park
DESCRIPTION:UPCOMING
END:VEVENT
BEGIN:VEVENT
UID:nwsl::Football_Match::4545985ba6f445e0b184d58ef33575c4@faceoff
DTSTART:20260901T000000Z
DURATION:PT3H30M
SUMMARY:Angel City @ Boston Legacy
LOCATION:Gillette Stadium
DESCRIPTION:UPCOMING
END:VEVENT
BEGIN:VEVENT
UID:nwsl::Football_Match::d841246f6de74121ba24d0338f994d28@faceoff
DTSTART:20260905T223000Z
DURATION:PT3H30M
SUMMARY:Angel City @ Racing Louisville
LOCATION:Lynn Family Stadium
DESCRIPTION:UPCOMING
END:VEVENT
BEGIN:VEVENT
UID:nwsl::Football_Match::6917097b9b664560a221408c048d4257@faceoff
DTSTART:20260912T020000Z
DURATION:PT3H30M
SUMMARY:Angel City vs Denver Summit
LOCATION:BMO Stadium
DESCRIPTION:UPCOMING
END:VEVENT
BEGIN:VEVENT
UID:nwsl::Football_Match::d4287fd6eca744deba9a7ade9b6675b8@faceoff
DTSTART:20260917T020000Z
DURATION:PT3H30M
SUMMARY:Angel City vs Seattle Reign
LOCATION:BMO Stadium
DESCRIPTION:UPCOMING
END:VEVENT
BEGIN:VEVENT
UID:nwsl::Football_Match::05ab00d90cf8420489e9156d020a310d@faceoff
DTSTART:20260920T230000Z
DURATION:PT3H30M
SUMMARY:Angel City @ Utah Royals
LOCATION:America First Field
DESCRIPTION:UPCOMING
END:VEVENT
BEGIN:VEVENT
UID:nwsl::Football_Match::c1833a8094194490a2e9cb11bede80da@faceoff
DTSTART:20260926T223000Z
DURATION:PT3H30M
SUMMARY:Angel City @ Washington Spirit
LOCATION:Audi Field
DESCRIPTION:UPCOMING
END:VEVENT
BEGIN:VEVENT
UID:nwsl::Football_Match::d972aa7ab8cd444cb241e84ba664d38d@faceoff
DTSTART:20261004T160000Z
DURATION:PT3H30M
SUMMARY:Angel City @ Gotham FC
LOCATION:Sports Illustrated Stadium
DESCRIPTION:UPCOMING
END:VEVENT
BEGIN:VEVENT
UID:nwsl::Football_Match::0b32b5ef41df4943b2070f9a6a44d109@faceoff
DTSTART:20261018T004500Z
DURATION:PT3H30M
SUMMARY:Angel City @ Denver Summit
LOCATION:Centennial Stadium
DESCRIPTION:UPCOMING
END:VEVENT
BEGIN:VEVENT
UID:nwsl::Football_Match::cd066f126f8640ba873d22791b43ea72@faceoff
DTSTART:20261025T004500Z
DURATION:PT3H30M
SUMMARY:Angel City vs Bay
LOCATION:BMO Stadium
DESCRIPTION:UPCOMING
END:VEVENT
BEGIN:VEVENT
UID:nwsl::Football_Match::f61f11638bb74d8cae6d52d2602cf964@faceoff
DTSTART:20261101T220000Z
DURATION:PT3H30M
SUMMARY:Angel City vs Boston Legacy
DESCRIPTION:UPCOMING
END:VEVENT
END:VCALENDAR
