BEGIN:VCALENDAR
VERSION:2.0
X-WR-CALNAME:Kansas City Current Schedule
REFRESH-INTERVAL;VALUE=DURATION:PT1H
X-PUBLISHED-TTL:PT1H
BEGIN:VEVENT
UID:nwsl::Football_Match::b76033576eb641b1b637daada7cdd9c5@faceoff
DTSTART:20260314T200000Z
DURATION:PT3H30M
SUMMARY:Kansas City Current vs Utah Royals
LOCATION:CPKC Stadium
DESCRIPTION:FINISHED
END:VEVENT
BEGIN:VEVENT
UID:nwsl::Football_Match::f7954bf84d594e31993de28c409c5da6@faceoff
DTSTART:20260322T180000Z
DURATION:PT3H30M
SUMMARY:Kansas City Current @ Chicago Stars
LOCATION:Northwestern Medicine Field at Martin Stadium
DESCRIPTION:FINISHED
END:VEVENT
BEGIN:VEVENT
UID:nwsl::Football_Match::8f386b302bf642fcb1bc915b8700b754@faceoff
DTSTART:20260326T010000Z
DURATION:PT3H30M
SUMMARY:Kansas City Current @ Seattle Reign
LOCATION:One Spokane Stadium
DESCRIPTION:FINISHED
END:VEVENT
BEGIN:VEVENT
UID:nwsl::Football_Match::12d1439704b741048918ec6a12753556@faceoff
DTSTART:20260328T200000Z
DURATION:PT3H30M
SUMMARY:Kansas City Current @ Portland Thorns
LOCATION:Providence Park
DESCRIPTION:FINISHED
END:VEVENT
BEGIN:VEVENT
UID:nwsl::Football_Match::3caa690a71774732bf0da7efe1a64975@faceoff
DTSTART:20260404T200000Z
DURATION:PT3H30M
SUMMARY:Kansas City Current vs Gotham FC
LOCATION:CPKC Stadium
DESCRIPTION:FINISHED
END:VEVENT
BEGIN:VEVENT
UID:nwsl::Football_Match::9d4b3aa133204223ae1a8643ca6755bd@faceoff
DTSTART:20260425T000000Z
DURATION:PT3H30M
SUMMARY:Kansas City Current @ Washington Spirit
LOCATION:Audi Field
DESCRIPTION:UPCOMING
END:VEVENT
BEGIN:VEVENT
UID:nwsl::Football_Match::3ed7cc292180473d970631299e549340@faceoff
DTSTART:20260502T223000Z
DURATION:PT3H30M
SUMMARY:Kansas City Current @ North Carolina Courage
LOCATION:First Horizon Stadium at WakeMed Soccer Park
DESCRIPTION:UPCOMING
END:VEVENT
BEGIN:VEVENT
UID:nwsl::Football_Match::548e3a5bfdfe428b90c88ebfeaac43ba@faceoff
DTSTART:20260510T163000Z
DURATION:PT3H30M
SUMMARY:Kansas City Current vs Chicago Stars
LOCATION:CPKC Stadium
DESCRIPTION:UPCOMING
END:VEVENT
BEGIN:VEVENT
UID:nwsl::Football_Match::ed0dd748918a492889ec4b16581b218e@faceoff
DTSTART:20260516T000000Z
DURATION:PT3H30M
SUMMARY:Kansas City Current vs Houston Dash
LOCATION:CPKC Stadium
DESCRIPTION:UPCOMING
END:VEVENT
BEGIN:VEVENT
UID:nwsl::Football_Match::765d54c7493541808cd438bc92a08c6c@faceoff
DTSTART:20260521T020000Z
DURATION:PT3H30M
SUMMARY:Kansas City Current @ Angel City
LOCATION:BMO Stadium
DESCRIPTION:UPCOMING
END:VEVENT
BEGIN:VEVENT
UID:nwsl::Football_Match::360229922d4c45feb4a7609ac2b06cef@faceoff
DTSTART:20260524T170000Z
DURATION:PT3H30M
SUMMARY:Kansas City Current vs Portland Thorns
LOCATION:CPKC Stadium
DESCRIPTION:UPCOMING
END:VEVENT
BEGIN:VEVENT
UID:nwsl::Football_Match::dfa52aae954d496b9673b480b577afce@faceoff
DTSTART:20260530T173000Z
DURATION:PT3H30M
SUMMARY:Kansas City Current vs Boston Legacy
LOCATION:CPKC Stadium
DESCRIPTION:UPCOMING
END:VEVENT
BEGIN:VEVENT
UID:nwsl::Football_Match::ec7d28b04d3d4a9ca6d024c41a37702f@faceoff
DTSTART:20260704T013000Z
DURATION:PT3H30M
SUMMARY:Kansas City Current @ Denver Summit
LOCATION:Centennial Stadium
DESCRIPTION:UPCOMING
END:VEVENT
BEGIN:VEVENT
UID:nwsl::Football_Match::7871ffcddc23468ea83c3b402f1e95eb@faceoff
DTSTART:20260711T000000Z
DURATION:PT3H30M
SUMMARY:Kansas City Current @ Orlando Pride
LOCATION:Inter&Co Stadium
DESCRIPTION:UPCOMING
END:VEVENT
BEGIN:VEVENT
UID:nwsl::Football_Match::3435d5d90a2e4c2e9763734077f9bbb8@faceoff
DTSTART:20260718T000000Z
DURATION:PT3H30M
SUMMARY:Kansas City Current vs San Diego Wave
LOCATION:CPKC Stadium
DESCRIPTION:UPCOMING
END:VEVENT
BEGIN:VEVENT
UID:nwsl::Football_Match::9153b9a549084950b2853ba562c3b8f7@faceoff
DTSTART:20260725T210000Z
DURATION:PT3H30M
SUMMARY:Kansas City Current @ Boston Legacy
LOCATION:Centreville Bank Stadium
DESCRIPTION:UPCOMING
END:VEVENT
BEGIN:VEVENT
UID:nwsl::Football_Match::9e6fcad85405471489e115645c11704c@faceoff
DTSTART:20260730T000000Z
DURATION:PT3H30M
SUMMARY:Kansas City Current vs Racing Louisville
LOCATION:CPKC Stadium
DESCRIPTION:UPCOMING
END:VEVENT
BEGIN:VEVENT
UID:nwsl::Football_Match::88db027399ad46c4a43f362d25b4b578@faceoff
DTSTART:20260801T223000Z
DURATION:PT3H30M
SUMMARY:Kansas City Current vs Angel City
LOCATION:CPKC Stadium
DESCRIPTION:UPCOMING
END:VEVENT
BEGIN:VEVENT
UID:nwsl::Football_Match::28f8f242a954432086faea2042e2181c@faceoff
DTSTART:20260809T004500Z
DURATION:PT3H30M
SUMMARY:Kansas City Current @ Houston Dash
LOCATION:Shell Energy Stadium
DESCRIPTION:UPCOMING
END:VEVENT
BEGIN:VEVENT
UID:nwsl::Football_Match::735a7938e6944227b87b8921d7cd3a67@faceoff
DTSTART:20260815T000000Z
DURATION:PT3H30M
SUMMARY:Kansas City Current @ Gotham FC
LOCATION:Sports Illustrated Stadium
DESCRIPTION:UPCOMING
END:VEVENT
BEGIN:VEVENT
UID:nwsl::Football_Match::4370313a480045088cb8d010332afd6b@faceoff
DTSTART:20260822T223000Z
DURATION:PT3H30M
SUMMARY:Kansas City Current vs Seattle Reign
LOCATION:CPKC Stadium
DESCRIPTION:UPCOMING
END:VEVENT
BEGIN:VEVENT
UID:nwsl::Football_Match::f0561dd827af4adeb496e7e6da64b013@faceoff
DTSTART:20260829T223000Z
DURATION:PT3H30M
SUMMARY:Kansas City Current vs North Carolina Courage
LOCATION:CPKC Stadium
DESCRIPTION:UPCOMING
END:VEVENT
BEGIN:VEVENT
UID:nwsl::Football_Match::94f5f1f3d4174b6cbddfcfa79543be00@faceoff
DTSTART:20260905T020000Z
DURATION:PT3H30M
SUMMARY:Kansas City Current @ Bay
LOCATION:PayPal Park
DESCRIPTION:UPCOMING
END:VEVENT
BEGIN:VEVENT
UID:nwsl::Football_Match::92e1a370f3ef417a9b8284c8ae30b130@faceoff
DTSTART:20260912T000000Z
DURATION:PT3H30M
SUMMARY:Kansas City Current vs Orlando Pride
LOCATION:CPKC Stadium
DESCRIPTION:UPCOMING
END:VEVENT
BEGIN:VEVENT
UID:nwsl::Football_Match::d408ea4caf684722b9838915fc3f1a77@faceoff
DTSTART:20260919T020000Z
DURATION:PT3H30M
SUMMARY:Kansas City Current @ San Diego Wave
LOCATION:Snapdragon Stadium
DESCRIPTION:UPCOMING
END:VEVENT
BEGIN:VEVENT
UID:nwsl::Football_Match::d69b19f5f70445cc8a81b5e4a777a473@faceoff
DTSTART:20260926T163000Z
DURATION:PT3H30M
SUMMARY:Kansas City Current vs Denver Summit
LOCATION:CPKC Stadium
DESCRIPTION:UPCOMING
END:VEVENT
BEGIN:VEVENT
UID:nwsl::Football_Match::d0fa9a068cd4428d9334fc88fc04c92a@faceoff
DTSTART:20261003T223000Z
DURATION:PT3H30M
SUMMARY:Kansas City Current vs Bay
LOCATION:CPKC Stadium
DESCRIPTION:UPCOMING
END:VEVENT
BEGIN:VEVENT
UID:nwsl::Football_Match::72fcfeb1186844dfaee148dbc81e0a6b@faceoff
DTSTART:20261017T223000Z
DURATION:PT3H30M
SUMMARY:Kansas City Current @ Utah Royals
LOCATION:America First Field
DESCRIPTION:UPCOMING
END:VEVENT
BEGIN:VEVENT
UID:nwsl::Football_Match::376e787d24a24255aaa0785bf264cdaf@faceoff
DTSTART:20261025T210000Z
DURATION:PT3H30M
SUMMARY:Kansas City Current vs Washington Spirit
LOCATION:CPKC Stadium
DESCRIPTION:UPCOMING
END:VEVENT
BEGIN:VEVENT
UID:nwsl::Football_Match::3b59ccb747c0492d8adcfa21e2d81c05@faceoff
DTSTART:20261101T220000Z
DURATION:PT3H30M
SUMMARY:Kansas City Current @ Racing Louisville
LOCATION:Lynn Family Stadium
DESCRIPTION:UPCOMING
END:VEVENT
END:VCALENDAR
