BEGIN:VCALENDAR
VERSION:2.0
X-WR-CALNAME:Houston Dash Schedule
REFRESH-INTERVAL;VALUE=DURATION:PT1H
X-PUBLISHED-TTL:PT1H
BEGIN:VEVENT
UID:nwsl::Football_Match::838546b8a5aa482b9906d8fbb56317b7@faceoff
DTSTART:20260315T004500Z
DURATION:PT3H30M
SUMMARY:Houston Dash @ San Diego Wave
LOCATION:Snapdragon Stadium
DESCRIPTION:FINISHED
END:VEVENT
BEGIN:VEVENT
UID:nwsl::Football_Match::17455ad3a5f94cf0895aa9a65e0dacb8@faceoff
DTSTART:20260321T200000Z
DURATION:PT3H30M
SUMMARY:Houston Dash vs Boston Legacy
LOCATION:Shell Energy Stadium
DESCRIPTION:FINISHED
END:VEVENT
BEGIN:VEVENT
UID:nwsl::Football_Match::be232946d15a40beb5bd5649bf62b4f2@faceoff
DTSTART:20260328T020000Z
DURATION:PT3H30M
SUMMARY:Houston Dash @ Angel City
LOCATION:BMO Stadium
DESCRIPTION:FINISHED
END:VEVENT
BEGIN:VEVENT
UID:nwsl::Football_Match::f510bf2ec5834a49a437dafb1c1ad41b@faceoff
DTSTART:20260404T003000Z
DURATION:PT3H30M
SUMMARY:Houston Dash vs Racing Louisville
LOCATION:Shell Energy Stadium
DESCRIPTION:FINISHED
END:VEVENT
BEGIN:VEVENT
UID:nwsl::Football_Match::264f47b896184e219609b3346485386a@faceoff
DTSTART:20260426T000000Z
DURATION:PT3H30M
SUMMARY:Houston Dash vs North Carolina Courage
LOCATION:Shell Energy Stadium
DESCRIPTION:UPCOMING
END:VEVENT
BEGIN:VEVENT
UID:nwsl::Football_Match::a135330bf54743fb92529e9d6dd2441d@faceoff
DTSTART:20260502T000000Z
DURATION:PT3H30M
SUMMARY:Houston Dash vs Seattle Reign
LOCATION:Shell Energy Stadium
DESCRIPTION:UPCOMING
END:VEVENT
BEGIN:VEVENT
UID:nwsl::Football_Match::c6fb70ead63643ceac5aecc6bb4f652d@faceoff
DTSTART:20260507T020000Z
DURATION:PT3H30M
SUMMARY:Houston Dash @ Utah Royals
LOCATION:America First Field
DESCRIPTION:UPCOMING
END:VEVENT
BEGIN:VEVENT
UID:nwsl::Football_Match::b38fa7480bf244cca3bf0e5dd9ba0e48@faceoff
DTSTART:20260510T000000Z
DURATION:PT3H30M
SUMMARY:Houston Dash vs Denver Summit
LOCATION:Shell Energy Stadium
DESCRIPTION:UPCOMING
END:VEVENT
BEGIN:VEVENT
UID:nwsl::Football_Match::ed0dd748918a492889ec4b16581b218e@faceoff
DTSTART:20260516T000000Z
DURATION:PT3H30M
SUMMARY:Houston Dash @ Kansas City Current
LOCATION:CPKC Stadium
DESCRIPTION:UPCOMING
END:VEVENT
BEGIN:VEVENT
UID:nwsl::Football_Match::360fed438a5e4e7cac67e255c7dc9ac8@faceoff
DTSTART:20260521T000000Z
DURATION:PT3H30M
SUMMARY:Houston Dash vs San Diego Wave
LOCATION:Shell Energy Stadium
DESCRIPTION:UPCOMING
END:VEVENT
BEGIN:VEVENT
UID:nwsl::Football_Match::930be80a40a045d39d39fab926751c2c@faceoff
DTSTART:20260524T004500Z
DURATION:PT3H30M
SUMMARY:Houston Dash vs Angel City
LOCATION:Shell Energy Stadium
DESCRIPTION:UPCOMING
END:VEVENT
BEGIN:VEVENT
UID:nwsl::Football_Match::6e288a27554f4af89fc3d08e7abdbf2b@faceoff
DTSTART:20260531T190000Z
DURATION:PT3H30M
SUMMARY:Houston Dash @ Gotham FC
LOCATION:Sports Illustrated Stadium
DESCRIPTION:UPCOMING
END:VEVENT
BEGIN:VEVENT
UID:nwsl::Football_Match::6576393993da4f0786f4a2a53b87ca8e@faceoff
DTSTART:20260704T000000Z
DURATION:PT3H30M
SUMMARY:Houston Dash @ Washington Spirit
LOCATION:Audi Field
DESCRIPTION:UPCOMING
END:VEVENT
BEGIN:VEVENT
UID:nwsl::Football_Match::81914443c9584c458d9c7b1540667271@faceoff
DTSTART:20260712T230000Z
DURATION:PT3H30M
SUMMARY:Houston Dash @ Denver Summit
LOCATION:Centennial Stadium
DESCRIPTION:UPCOMING
END:VEVENT
BEGIN:VEVENT
UID:nwsl::Football_Match::7ad37543528a44438962cd2c2dcaddf7@faceoff
DTSTART:20260719T000000Z
DURATION:PT3H30M
SUMMARY:Houston Dash @ Racing Louisville
LOCATION:Lynn Family Stadium
DESCRIPTION:UPCOMING
END:VEVENT
BEGIN:VEVENT
UID:nwsl::Football_Match::d2399986560545e78a2099e9bcbf0127@faceoff
DTSTART:20260725T000000Z
DURATION:PT3H30M
SUMMARY:Houston Dash vs Bay
LOCATION:Shell Energy Stadium
DESCRIPTION:UPCOMING
END:VEVENT
BEGIN:VEVENT
UID:nwsl::Football_Match::63ea5dff063f4e92bc96648fffdc2357@faceoff
DTSTART:20260802T000000Z
DURATION:PT3H30M
SUMMARY:Houston Dash vs Gotham FC
LOCATION:Shell Energy Stadium
DESCRIPTION:UPCOMING
END:VEVENT
BEGIN:VEVENT
UID:nwsl::Football_Match::28f8f242a954432086faea2042e2181c@faceoff
DTSTART:20260809T004500Z
DURATION:PT3H30M
SUMMARY:Houston Dash vs Kansas City Current
LOCATION:Shell Energy Stadium
DESCRIPTION:UPCOMING
END:VEVENT
BEGIN:VEVENT
UID:nwsl::Football_Match::0a28ee42682347f09223a744ca6e7c79@faceoff
DTSTART:20260816T230000Z
DURATION:PT3H30M
SUMMARY:Houston Dash @ North Carolina Courage
LOCATION:First Horizon Stadium at WakeMed Soccer Park
DESCRIPTION:UPCOMING
END:VEVENT
BEGIN:VEVENT
UID:nwsl::Football_Match::dd2236b48b7e4baf978994c2af997a61@faceoff
DTSTART:20260820T000000Z
DURATION:PT3H30M
SUMMARY:Houston Dash vs Chicago Stars
LOCATION:Shell Energy Stadium
DESCRIPTION:UPCOMING
END:VEVENT
BEGIN:VEVENT
UID:nwsl::Football_Match::b470230cb7104eceaa46c4b4e239ee02@faceoff
DTSTART:20260823T220000Z
DURATION:PT3H30M
SUMMARY:Houston Dash @ Bay
LOCATION:PayPal Park
DESCRIPTION:UPCOMING
END:VEVENT
BEGIN:VEVENT
UID:nwsl::Football_Match::7541c8dd578c49e4a1d6adbe7fc81d59@faceoff
DTSTART:20260830T230000Z
DURATION:PT3H30M
SUMMARY:Houston Dash @ Seattle Reign
LOCATION:Lumen Field
DESCRIPTION:UPCOMING
END:VEVENT
BEGIN:VEVENT
UID:nwsl::Football_Match::eef0b22098514eafabd56c42e56be744@faceoff
DTSTART:20260906T230000Z
DURATION:PT3H30M
SUMMARY:Houston Dash @ Orlando Pride
LOCATION:Inter&Co Stadium
DESCRIPTION:UPCOMING
END:VEVENT
BEGIN:VEVENT
UID:nwsl::Football_Match::18c50880df344037b669f68e2e38250e@faceoff
DTSTART:20260913T004500Z
DURATION:PT3H30M
SUMMARY:Houston Dash vs Utah Royals
LOCATION:Shell Energy Stadium
DESCRIPTION:UPCOMING
END:VEVENT
BEGIN:VEVENT
UID:nwsl::Football_Match::f8a86ca1b5d54d2dac7de99d2a93f812@faceoff
DTSTART:20260920T180000Z
DURATION:PT3H30M
SUMMARY:Houston Dash @ Boston Legacy
LOCATION:Centreville Bank Stadium
DESCRIPTION:UPCOMING
END:VEVENT
BEGIN:VEVENT
UID:nwsl::Football_Match::21a43502ff434083824a9534af92af91@faceoff
DTSTART:20260927T004500Z
DURATION:PT3H30M
SUMMARY:Houston Dash @ Portland Thorns
LOCATION:Providence Park
DESCRIPTION:UPCOMING
END:VEVENT
BEGIN:VEVENT
UID:nwsl::Football_Match::9dae366cd55b408394886b5a75df15a8@faceoff
DTSTART:20261004T230000Z
DURATION:PT3H30M
SUMMARY:Houston Dash vs Washington Spirit
LOCATION:Shell Energy Stadium
DESCRIPTION:UPCOMING
END:VEVENT
BEGIN:VEVENT
UID:nwsl::Football_Match::1b86b6519fbf4cf290e7c362c062b1b0@faceoff
DTSTART:20261018T170000Z
DURATION:PT3H30M
SUMMARY:Houston Dash vs Orlando Pride
LOCATION:Shell Energy Stadium
DESCRIPTION:UPCOMING
END:VEVENT
BEGIN:VEVENT
UID:nwsl::Football_Match::69ed8d8482a24e6b898783d61645422c@faceoff
DTSTART:20261024T000000Z
DURATION:PT3H30M
SUMMARY:Houston Dash @ Chicago Stars
LOCATION:Northwestern Medicine Field at Martin Stadium
DESCRIPTION:UPCOMING
END:VEVENT
BEGIN:VEVENT
UID:nwsl::Football_Match::957badcf899e40fc9fa3e1009df3c679@faceoff
DTSTART:20261101T220000Z
DURATION:PT3H30M
SUMMARY:Houston Dash vs Portland Thorns
LOCATION:Shell Energy Stadium
DESCRIPTION:UPCOMING
END:VEVENT
END:VCALENDAR
