BEGIN:VCALENDAR
VERSION:2.0
X-WR-CALNAME:Gotham FC Schedule
REFRESH-INTERVAL;VALUE=DURATION:PT1H
X-PUBLISHED-TTL:PT1H
BEGIN:VEVENT
UID:nwsl::Football_Match::994672fd04fd4515a2f76e7596129efe@faceoff
DTSTART:20260314T163000Z
DURATION:PT3H30M
SUMMARY:Gotham FC @ Boston Legacy
LOCATION:Gillette Stadium
DESCRIPTION:FINISHED
END:VEVENT
BEGIN:VEVENT
UID:nwsl::Football_Match::feb92d3df0bd41a7a72eb29cbce6cd2a@faceoff
DTSTART:20260321T223000Z
DURATION:PT3H30M
SUMMARY:Gotham FC vs North Carolina Courage
LOCATION:Sports Illustrated Stadium
DESCRIPTION:FINISHED
END:VEVENT
BEGIN:VEVENT
UID:nwsl::Football_Match::fb4a9aba52ae4c7b89e8495110233244@faceoff
DTSTART:20260325T230000Z
DURATION:PT3H30M
SUMMARY:Gotham FC vs Denver Summit
LOCATION:Sports Illustrated Stadium
DESCRIPTION:FINISHED
END:VEVENT
BEGIN:VEVENT
UID:nwsl::Football_Match::05d48558093840718784fc44fdd61b15@faceoff
DTSTART:20260329T230000Z
DURATION:PT3H30M
SUMMARY:Gotham FC vs Orlando Pride
LOCATION:Sports Illustrated Stadium
DESCRIPTION:FINISHED
END:VEVENT
BEGIN:VEVENT
UID:nwsl::Football_Match::3caa690a71774732bf0da7efe1a64975@faceoff
DTSTART:20260404T200000Z
DURATION:PT3H30M
SUMMARY:Gotham FC @ Kansas City Current
LOCATION:CPKC Stadium
DESCRIPTION:FINISHED
END:VEVENT
BEGIN:VEVENT
UID:nwsl::Football_Match::fe12d8ea3ee14c69991927bbe1c078d5@faceoff
DTSTART:20260425T170000Z
DURATION:PT3H30M
SUMMARY:Gotham FC vs Bay
LOCATION:Sports Illustrated Stadium
DESCRIPTION:UPCOMING
END:VEVENT
BEGIN:VEVENT
UID:nwsl::Football_Match::270f15481c8044f2b3554336ec9a057d@faceoff
DTSTART:20260430T000000Z
DURATION:PT3H30M
SUMMARY:Gotham FC @ Chicago Stars
LOCATION:Northwestern Medicine Field at Martin Stadium
DESCRIPTION:UPCOMING
END:VEVENT
BEGIN:VEVENT
UID:nwsl::Football_Match::b39ed47d9b3e4326ac10c1804cd6fab4@faceoff
DTSTART:20260503T210000Z
DURATION:PT3H30M
SUMMARY:Gotham FC vs Racing Louisville
LOCATION:Sports Illustrated Stadium
DESCRIPTION:UPCOMING
END:VEVENT
BEGIN:VEVENT
UID:nwsl::Football_Match::9142b6ab9f9e4eea9a1036c4d69dc063@faceoff
DTSTART:20260509T223000Z
DURATION:PT3H30M
SUMMARY:Gotham FC vs Boston Legacy
LOCATION:Sports Illustrated Stadium
DESCRIPTION:UPCOMING
END:VEVENT
BEGIN:VEVENT
UID:nwsl::Football_Match::55b44dd3ee334f349a615e02b4b020f9@faceoff
DTSTART:20260516T020000Z
DURATION:PT3H30M
SUMMARY:Gotham FC @ Seattle Reign
LOCATION:Lumen Field
DESCRIPTION:UPCOMING
END:VEVENT
BEGIN:VEVENT
UID:nwsl::Football_Match::6e288a27554f4af89fc3d08e7abdbf2b@faceoff
DTSTART:20260531T190000Z
DURATION:PT3H30M
SUMMARY:Gotham FC vs Houston Dash
LOCATION:Sports Illustrated Stadium
DESCRIPTION:UPCOMING
END:VEVENT
BEGIN:VEVENT
UID:nwsl::Football_Match::776826ac7b0a4af18e7b6e4321a20184@faceoff
DTSTART:20260705T004500Z
DURATION:PT3H30M
SUMMARY:Gotham FC @ San Diego Wave
LOCATION:Snapdragon Stadium
DESCRIPTION:UPCOMING
END:VEVENT
BEGIN:VEVENT
UID:nwsl::Football_Match::1bd697a780f94557a40445ef7b603dac@faceoff
DTSTART:20260711T020000Z
DURATION:PT3H30M
SUMMARY:Gotham FC @ Utah Royals
LOCATION:America First Field
DESCRIPTION:UPCOMING
END:VEVENT
BEGIN:VEVENT
UID:nwsl::Football_Match::ea376e16c8f94da9b052c8f6afdb0b82@faceoff
DTSTART:20260716T000000Z
DURATION:PT3H30M
SUMMARY:Gotham FC vs Washington Spirit
LOCATION:Citi Field
DESCRIPTION:UPCOMING
END:VEVENT
BEGIN:VEVENT
UID:nwsl::Football_Match::4299342ead6847b7b691b2f680189483@faceoff
DTSTART:20260718T160000Z
DURATION:PT3H30M
SUMMARY:Gotham FC vs Seattle Reign
LOCATION:Icahn Stadium
DESCRIPTION:UPCOMING
END:VEVENT
BEGIN:VEVENT
UID:nwsl::Football_Match::204dc2e7a3e34e42a5c5452e9b725196@faceoff
DTSTART:20260725T020000Z
DURATION:PT3H30M
SUMMARY:Gotham FC @ Portland Thorns
LOCATION:Providence Park
DESCRIPTION:UPCOMING
END:VEVENT
BEGIN:VEVENT
UID:nwsl::Football_Match::5596f0ea173c4f41bba736c982fe84df@faceoff
DTSTART:20260730T020000Z
DURATION:PT3H30M
SUMMARY:Gotham FC @ Bay
LOCATION:PayPal Park
DESCRIPTION:UPCOMING
END:VEVENT
BEGIN:VEVENT
UID:nwsl::Football_Match::63ea5dff063f4e92bc96648fffdc2357@faceoff
DTSTART:20260802T000000Z
DURATION:PT3H30M
SUMMARY:Gotham FC @ Houston Dash
LOCATION:Shell Energy Stadium
DESCRIPTION:UPCOMING
END:VEVENT
BEGIN:VEVENT
UID:nwsl::Football_Match::cdc0c0c8e71a4898bf7c6eb37517d9e8@faceoff
DTSTART:20260808T000000Z
DURATION:PT3H30M
SUMMARY:Gotham FC vs San Diego Wave
LOCATION:Sports Illustrated Stadium
DESCRIPTION:UPCOMING
END:VEVENT
BEGIN:VEVENT
UID:nwsl::Football_Match::735a7938e6944227b87b8921d7cd3a67@faceoff
DTSTART:20260815T000000Z
DURATION:PT3H30M
SUMMARY:Gotham FC vs Kansas City Current
LOCATION:Sports Illustrated Stadium
DESCRIPTION:UPCOMING
END:VEVENT
BEGIN:VEVENT
UID:nwsl::Football_Match::39eca8632fc74907bbb60943a547daf4@faceoff
DTSTART:20260824T000000Z
DURATION:PT3H30M
SUMMARY:Gotham FC @ Angel City
LOCATION:BMO Stadium
DESCRIPTION:UPCOMING
END:VEVENT
BEGIN:VEVENT
UID:nwsl::Football_Match::4f89a6e4705c470f8afb28aff5c5ad06@faceoff
DTSTART:20260829T000000Z
DURATION:PT3H30M
SUMMARY:Gotham FC vs Portland Thorns
LOCATION:Sports Illustrated Stadium
DESCRIPTION:UPCOMING
END:VEVENT
BEGIN:VEVENT
UID:nwsl::Football_Match::e15415256d81470e9238febd631298c4@faceoff
DTSTART:20260906T180000Z
DURATION:PT3H30M
SUMMARY:Gotham FC @ Denver Summit
LOCATION:Centennial Stadium
DESCRIPTION:UPCOMING
END:VEVENT
BEGIN:VEVENT
UID:nwsl::Football_Match::85fc81c24e90424c88e6cca3e1269701@faceoff
DTSTART:20260911T223000Z
DURATION:PT3H30M
SUMMARY:Gotham FC @ Racing Louisville
LOCATION:Lynn Family Stadium
DESCRIPTION:UPCOMING
END:VEVENT
BEGIN:VEVENT
UID:nwsl::Football_Match::0b1ebf19487d44cfb7c11506edd639e1@faceoff
DTSTART:20260919T223000Z
DURATION:PT3H30M
SUMMARY:Gotham FC @ North Carolina Courage
LOCATION:First Horizon Stadium at WakeMed Soccer Park
DESCRIPTION:UPCOMING
END:VEVENT
BEGIN:VEVENT
UID:nwsl::Football_Match::b5a67de24e9d45cc9e13ebd1da9c7ca6@faceoff
DTSTART:20260926T000000Z
DURATION:PT3H30M
SUMMARY:Gotham FC vs Chicago Stars
LOCATION:Sports Illustrated Stadium
DESCRIPTION:UPCOMING
END:VEVENT
BEGIN:VEVENT
UID:nwsl::Football_Match::d972aa7ab8cd444cb241e84ba664d38d@faceoff
DTSTART:20261004T160000Z
DURATION:PT3H30M
SUMMARY:Gotham FC vs Angel City
LOCATION:Sports Illustrated Stadium
DESCRIPTION:UPCOMING
END:VEVENT
BEGIN:VEVENT
UID:nwsl::Football_Match::84e804b11e444a2d9f7ede88f6fd889b@faceoff
DTSTART:20261017T163000Z
DURATION:PT3H30M
SUMMARY:Gotham FC @ Washington Spirit
LOCATION:Audi Field
DESCRIPTION:UPCOMING
END:VEVENT
BEGIN:VEVENT
UID:nwsl::Football_Match::2aa2a1eb06304f2baca7d9add0808c35@faceoff
DTSTART:20261025T190000Z
DURATION:PT3H30M
SUMMARY:Gotham FC @ Orlando Pride
LOCATION:Inter&Co Stadium
DESCRIPTION:UPCOMING
END:VEVENT
BEGIN:VEVENT
UID:nwsl::Football_Match::9dde8e4f5f1344019b716b7c9d3ced20@faceoff
DTSTART:20261101T220000Z
DURATION:PT3H30M
SUMMARY:Gotham FC vs Utah Royals
LOCATION:Sports Illustrated Stadium
DESCRIPTION:UPCOMING
END:VEVENT
END:VCALENDAR
