BEGIN:VCALENDAR
VERSION:2.0
X-WR-CALNAME:Denver Summit Schedule
REFRESH-INTERVAL;VALUE=DURATION:PT1H
X-PUBLISHED-TTL:PT1H
BEGIN:VEVENT
UID:nwsl::Football_Match::dc7a11b3d2144bc889d07b1b91cd7dd2@faceoff
DTSTART:20260314T223000Z
DURATION:PT3H30M
SUMMARY:Denver Summit @ Bay
LOCATION:PayPal Park
DESCRIPTION:FINISHED
END:VEVENT
BEGIN:VEVENT
UID:nwsl::Football_Match::f8fe02475dcc41efbcbf1690a485c58a@faceoff
DTSTART:20260321T000000Z
DURATION:PT3H30M
SUMMARY:Denver Summit @ Orlando Pride
LOCATION:Inter&Co Stadium
DESCRIPTION:FINISHED
END:VEVENT
BEGIN:VEVENT
UID:nwsl::Football_Match::fb4a9aba52ae4c7b89e8495110233244@faceoff
DTSTART:20260325T230000Z
DURATION:PT3H30M
SUMMARY:Denver Summit @ Gotham FC
LOCATION:Sports Illustrated Stadium
DESCRIPTION:FINISHED
END:VEVENT
BEGIN:VEVENT
UID:nwsl::Football_Match::e039074914cd4219bff42573d6e26404@faceoff
DTSTART:20260328T180000Z
DURATION:PT3H30M
SUMMARY:Denver Summit vs Washington Spirit
LOCATION:Empower Field at Mile High
DESCRIPTION:FINISHED
END:VEVENT
BEGIN:VEVENT
UID:nwsl::Football_Match::28d2ef6eab384aefac9322f7a21072e8@faceoff
DTSTART:20260405T004500Z
DURATION:PT3H30M
SUMMARY:Denver Summit @ Seattle Reign
LOCATION:One Spokane Stadium
DESCRIPTION:FINISHED
END:VEVENT
BEGIN:VEVENT
UID:nwsl::Football_Match::fe217ecc8ac44791a68230ae2b9b4da7@faceoff
DTSTART:20260426T004500Z
DURATION:PT3H30M
SUMMARY:Denver Summit vs San Diego Wave
LOCATION:Dick's Sporting Goods Park
DESCRIPTION:UPCOMING
END:VEVENT
BEGIN:VEVENT
UID:nwsl::Football_Match::e19fdb4ddad94393bbefa8ef5b638ff8@faceoff
DTSTART:20260503T190000Z
DURATION:PT3H30M
SUMMARY:Denver Summit @ Boston Legacy
LOCATION:Gillette Stadium
DESCRIPTION:UPCOMING
END:VEVENT
BEGIN:VEVENT
UID:nwsl::Football_Match::b38fa7480bf244cca3bf0e5dd9ba0e48@faceoff
DTSTART:20260510T000000Z
DURATION:PT3H30M
SUMMARY:Denver Summit @ Houston Dash
LOCATION:Shell Energy Stadium
DESCRIPTION:UPCOMING
END:VEVENT
BEGIN:VEVENT
UID:nwsl::Football_Match::b94cd118a1fd4efabe905959b185fe62@faceoff
DTSTART:20260517T004500Z
DURATION:PT3H30M
SUMMARY:Denver Summit vs Orlando Pride
LOCATION:Dick's Sporting Goods Park
DESCRIPTION:UPCOMING
END:VEVENT
BEGIN:VEVENT
UID:nwsl::Football_Match::5d198c2e5c974a5f86db08def2d63e08@faceoff
DTSTART:20260523T223000Z
DURATION:PT3H30M
SUMMARY:Denver Summit @ Utah Royals
LOCATION:America First Field
DESCRIPTION:UPCOMING
END:VEVENT
BEGIN:VEVENT
UID:nwsl::Football_Match::3bd415d8b50c4025819575e1942de7db@faceoff
DTSTART:20260530T000000Z
DURATION:PT3H30M
SUMMARY:Denver Summit @ Racing Louisville
LOCATION:Lynn Family Stadium
DESCRIPTION:UPCOMING
END:VEVENT
BEGIN:VEVENT
UID:nwsl::Football_Match::ec7d28b04d3d4a9ca6d024c41a37702f@faceoff
DTSTART:20260704T013000Z
DURATION:PT3H30M
SUMMARY:Denver Summit vs Kansas City Current
LOCATION:Centennial Stadium
DESCRIPTION:UPCOMING
END:VEVENT
BEGIN:VEVENT
UID:nwsl::Football_Match::81914443c9584c458d9c7b1540667271@faceoff
DTSTART:20260712T230000Z
DURATION:PT3H30M
SUMMARY:Denver Summit vs Houston Dash
LOCATION:Centennial Stadium
DESCRIPTION:UPCOMING
END:VEVENT
BEGIN:VEVENT
UID:nwsl::Football_Match::c572f38b34cd41299aacd5ca0b03d459@faceoff
DTSTART:20260718T180000Z
DURATION:PT3H30M
SUMMARY:Denver Summit vs Portland Thorns
LOCATION:Centennial Stadium
DESCRIPTION:UPCOMING
END:VEVENT
BEGIN:VEVENT
UID:nwsl::Football_Match::83a606b90fd6443989243fc1e7b160d2@faceoff
DTSTART:20260726T230000Z
DURATION:PT3H30M
SUMMARY:Denver Summit @ Washington Spirit
LOCATION:Audi Field
DESCRIPTION:UPCOMING
END:VEVENT
BEGIN:VEVENT
UID:nwsl::Football_Match::e737d2d231134bdb9ab0e3c29b9a64b4@faceoff
DTSTART:20260803T010000Z
DURATION:PT3H30M
SUMMARY:Denver Summit vs Boston Legacy
LOCATION:Centennial Stadium
DESCRIPTION:UPCOMING
END:VEVENT
BEGIN:VEVENT
UID:nwsl::Football_Match::b8beb36b96a94acd8f35d2cc14d7e7c1@faceoff
DTSTART:20260806T020000Z
DURATION:PT3H30M
SUMMARY:Denver Summit vs North Carolina Courage
LOCATION:Centennial Stadium
DESCRIPTION:UPCOMING
END:VEVENT
BEGIN:VEVENT
UID:nwsl::Football_Match::2ab2e7dd4fbb4a52898ea09d1f99cbdf@faceoff
DTSTART:20260808T200000Z
DURATION:PT3H30M
SUMMARY:Denver Summit vs Utah Royals
LOCATION:Centennial Stadium
DESCRIPTION:UPCOMING
END:VEVENT
BEGIN:VEVENT
UID:nwsl::Football_Match::27b3f650634b411487f905b86f033dab@faceoff
DTSTART:20260815T020000Z
DURATION:PT3H30M
SUMMARY:Denver Summit @ San Diego Wave
LOCATION:Snapdragon Stadium
DESCRIPTION:UPCOMING
END:VEVENT
BEGIN:VEVENT
UID:nwsl::Football_Match::7ac6c3efc9644f7db1e1c8fee444fdb5@faceoff
DTSTART:20260823T004500Z
DURATION:PT3H30M
SUMMARY:Denver Summit @ Portland Thorns
LOCATION:Providence Park
DESCRIPTION:UPCOMING
END:VEVENT
BEGIN:VEVENT
UID:nwsl::Football_Match::2f72ffec33184cf09348bbc1481856a5@faceoff
DTSTART:20260830T004500Z
DURATION:PT3H30M
SUMMARY:Denver Summit vs Chicago Stars
LOCATION:Centennial Stadium
DESCRIPTION:UPCOMING
END:VEVENT
BEGIN:VEVENT
UID:nwsl::Football_Match::e15415256d81470e9238febd631298c4@faceoff
DTSTART:20260906T180000Z
DURATION:PT3H30M
SUMMARY:Denver Summit vs Gotham FC
LOCATION:Centennial Stadium
DESCRIPTION:UPCOMING
END:VEVENT
BEGIN:VEVENT
UID:nwsl::Football_Match::6917097b9b664560a221408c048d4257@faceoff
DTSTART:20260912T020000Z
DURATION:PT3H30M
SUMMARY:Denver Summit @ Angel City
LOCATION:BMO Stadium
DESCRIPTION:UPCOMING
END:VEVENT
BEGIN:VEVENT
UID:nwsl::Football_Match::205368e46d78455f90a1ee09482ea460@faceoff
DTSTART:20260917T013000Z
DURATION:PT3H30M
SUMMARY:Denver Summit vs Bay
LOCATION:Centennial Stadium
DESCRIPTION:UPCOMING
END:VEVENT
BEGIN:VEVENT
UID:nwsl::Football_Match::3cb04ce8aba14af983e19667197c8b43@faceoff
DTSTART:20260920T004500Z
DURATION:PT3H30M
SUMMARY:Denver Summit vs Seattle Reign
LOCATION:Centennial Stadium
DESCRIPTION:UPCOMING
END:VEVENT
BEGIN:VEVENT
UID:nwsl::Football_Match::d69b19f5f70445cc8a81b5e4a777a473@faceoff
DTSTART:20260926T163000Z
DURATION:PT3H30M
SUMMARY:Denver Summit @ Kansas City Current
LOCATION:CPKC Stadium
DESCRIPTION:UPCOMING
END:VEVENT
BEGIN:VEVENT
UID:nwsl::Football_Match::40187a74cd3e44dc88de94ffce7538b8@faceoff
DTSTART:20261004T200000Z
DURATION:PT3H30M
SUMMARY:Denver Summit @ Chicago Stars
LOCATION:Northwestern Medicine Field at Martin Stadium
DESCRIPTION:UPCOMING
END:VEVENT
BEGIN:VEVENT
UID:nwsl::Football_Match::0b32b5ef41df4943b2070f9a6a44d109@faceoff
DTSTART:20261018T004500Z
DURATION:PT3H30M
SUMMARY:Denver Summit vs Angel City
LOCATION:Centennial Stadium
DESCRIPTION:UPCOMING
END:VEVENT
BEGIN:VEVENT
UID:nwsl::Football_Match::80c9820887f8439b9b938ed30d4013d3@faceoff
DTSTART:20261024T223000Z
DURATION:PT3H30M
SUMMARY:Denver Summit vs Racing Louisville
LOCATION:Centennial Stadium
DESCRIPTION:UPCOMING
END:VEVENT
BEGIN:VEVENT
UID:nwsl::Football_Match::74495608b90c4f1b9bcd03b28503c1fc@faceoff
DTSTART:20261101T220000Z
DURATION:PT3H30M
SUMMARY:Denver Summit @ North Carolina Courage
LOCATION:First Horizon Stadium at WakeMed Soccer Park
DESCRIPTION:UPCOMING
END:VEVENT
END:VCALENDAR
