BEGIN:VCALENDAR
VERSION:2.0
X-WR-CALNAME:Chicago Stars Schedule
REFRESH-INTERVAL;VALUE=DURATION:PT1H
X-PUBLISHED-TTL:PT1H
BEGIN:VEVENT
UID:nwsl::Football_Match::49defb2be0664b1e9f9b5ac09f4040a5@faceoff
DTSTART:20260315T230000Z
DURATION:PT3H30M
SUMMARY:Chicago Stars @ Angel City
LOCATION:BMO Stadium
DESCRIPTION:FINISHED
END:VEVENT
BEGIN:VEVENT
UID:nwsl::Football_Match::f7954bf84d594e31993de28c409c5da6@faceoff
DTSTART:20260322T180000Z
DURATION:PT3H30M
SUMMARY:Chicago Stars vs Kansas City Current
LOCATION:Northwestern Medicine Field at Martin Stadium
DESCRIPTION:FINISHED
END:VEVENT
BEGIN:VEVENT
UID:nwsl::Football_Match::33975f4423f8475c91407acab5672a09@faceoff
DTSTART:20260326T000000Z
DURATION:PT3H30M
SUMMARY:Chicago Stars vs Orlando Pride
LOCATION:Northwestern Medicine Field at Martin Stadium
DESCRIPTION:FINISHED
END:VEVENT
BEGIN:VEVENT
UID:nwsl::Football_Match::00ccefbe44fc485eabf42a901e0aec8a@faceoff
DTSTART:20260329T004500Z
DURATION:PT3H30M
SUMMARY:Chicago Stars @ San Diego Wave
LOCATION:Snapdragon Stadium
DESCRIPTION:FINISHED
END:VEVENT
BEGIN:VEVENT
UID:nwsl::Football_Match::70e1ae6c99a54b85bebe43f6e830ff10@faceoff
DTSTART:20260404T010000Z
DURATION:PT3H30M
SUMMARY:Chicago Stars @ Utah Royals
LOCATION:America First Field
DESCRIPTION:FINISHED
END:VEVENT
BEGIN:VEVENT
UID:nwsl::Football_Match::07d413c060854fb9a038cf4406777c2a@faceoff
DTSTART:20260425T223000Z
DURATION:PT3H30M
SUMMARY:Chicago Stars vs Boston Legacy
LOCATION:Northwestern Medicine Field at Martin Stadium
DESCRIPTION:UPCOMING
END:VEVENT
BEGIN:VEVENT
UID:nwsl::Football_Match::270f15481c8044f2b3554336ec9a057d@faceoff
DTSTART:20260430T000000Z
DURATION:PT3H30M
SUMMARY:Chicago Stars vs Gotham FC
LOCATION:Northwestern Medicine Field at Martin Stadium
DESCRIPTION:UPCOMING
END:VEVENT
BEGIN:VEVENT
UID:nwsl::Football_Match::1bdfbb36082d4a70b5c32fda24052f46@faceoff
DTSTART:20260503T170000Z
DURATION:PT3H30M
SUMMARY:Chicago Stars vs Portland Thorns
LOCATION:Northwestern Medicine Field at Martin Stadium
DESCRIPTION:UPCOMING
END:VEVENT
BEGIN:VEVENT
UID:nwsl::Football_Match::548e3a5bfdfe428b90c88ebfeaac43ba@faceoff
DTSTART:20260510T163000Z
DURATION:PT3H30M
SUMMARY:Chicago Stars @ Kansas City Current
LOCATION:CPKC Stadium
DESCRIPTION:UPCOMING
END:VEVENT
BEGIN:VEVENT
UID:nwsl::Football_Match::004466bf51734c7f894a6fd1c0d049b4@faceoff
DTSTART:20260516T223000Z
DURATION:PT3H30M
SUMMARY:Chicago Stars @ North Carolina Courage
LOCATION:First Horizon Stadium at WakeMed Soccer Park
DESCRIPTION:UPCOMING
END:VEVENT
BEGIN:VEVENT
UID:nwsl::Football_Match::641347cccbc0413597404a024e28b894@faceoff
DTSTART:20260524T210000Z
DURATION:PT3H30M
SUMMARY:Chicago Stars @ Bay
LOCATION:PayPal Park
DESCRIPTION:UPCOMING
END:VEVENT
BEGIN:VEVENT
UID:nwsl::Football_Match::2f03225824534720bc7e7ea97f5cb8b8@faceoff
DTSTART:20260531T170000Z
DURATION:PT3H30M
SUMMARY:Chicago Stars vs San Diego Wave
LOCATION:Northwestern Medicine Field at Martin Stadium
DESCRIPTION:UPCOMING
END:VEVENT
BEGIN:VEVENT
UID:nwsl::Football_Match::476e3ecb3afc4bfda1f9a404e825e3c4@faceoff
DTSTART:20260705T210000Z
DURATION:PT3H30M
SUMMARY:Chicago Stars vs Utah Royals
LOCATION:Northwestern Medicine Field at Martin Stadium
DESCRIPTION:UPCOMING
END:VEVENT
BEGIN:VEVENT
UID:nwsl::Football_Match::33ba157796dd4dcb9bd8c6abd2d33e71@faceoff
DTSTART:20260711T000000Z
DURATION:PT3H30M
SUMMARY:Chicago Stars @ Boston Legacy
LOCATION:Centreville Bank Stadium
DESCRIPTION:UPCOMING
END:VEVENT
BEGIN:VEVENT
UID:nwsl::Football_Match::c18ef3da85a74988b0ab683ffce37f3e@faceoff
DTSTART:20260718T223000Z
DURATION:PT3H30M
SUMMARY:Chicago Stars vs Angel City
LOCATION:Northwestern Medicine Field at Martin Stadium
DESCRIPTION:UPCOMING
END:VEVENT
BEGIN:VEVENT
UID:nwsl::Football_Match::ef475cff50864cf6a39253891358d8ca@faceoff
DTSTART:20260725T000000Z
DURATION:PT3H30M
SUMMARY:Chicago Stars @ Orlando Pride
LOCATION:Inter&Co Stadium
DESCRIPTION:UPCOMING
END:VEVENT
BEGIN:VEVENT
UID:nwsl::Football_Match::25252eeb6ff743e4a0bbc6394b56c159@faceoff
DTSTART:20260801T200000Z
DURATION:PT3H30M
SUMMARY:Chicago Stars @ Racing Louisville
LOCATION:Lynn Family Stadium
DESCRIPTION:UPCOMING
END:VEVENT
BEGIN:VEVENT
UID:nwsl::Football_Match::5425d75e5b864792916d6c206e274a5a@faceoff
DTSTART:20260809T230000Z
DURATION:PT3H30M
SUMMARY:Chicago Stars vs Bay
LOCATION:Northwestern Medicine Field at Martin Stadium
DESCRIPTION:UPCOMING
END:VEVENT
BEGIN:VEVENT
UID:nwsl::Football_Match::11645e258c274c93910a311c038f7f9a@faceoff
DTSTART:20260815T020000Z
DURATION:PT3H30M
SUMMARY:Chicago Stars @ Seattle Reign
LOCATION:Lumen Field
DESCRIPTION:UPCOMING
END:VEVENT
BEGIN:VEVENT
UID:nwsl::Football_Match::dd2236b48b7e4baf978994c2af997a61@faceoff
DTSTART:20260820T000000Z
DURATION:PT3H30M
SUMMARY:Chicago Stars @ Houston Dash
LOCATION:Shell Energy Stadium
DESCRIPTION:UPCOMING
END:VEVENT
BEGIN:VEVENT
UID:nwsl::Football_Match::9d6ba239486546b48999d8ec420558bd@faceoff
DTSTART:20260823T180000Z
DURATION:PT3H30M
SUMMARY:Chicago Stars vs Racing Louisville
LOCATION:Northwestern Medicine Field at Martin Stadium
DESCRIPTION:UPCOMING
END:VEVENT
BEGIN:VEVENT
UID:nwsl::Football_Match::2f72ffec33184cf09348bbc1481856a5@faceoff
DTSTART:20260830T004500Z
DURATION:PT3H30M
SUMMARY:Chicago Stars @ Denver Summit
LOCATION:Centennial Stadium
DESCRIPTION:UPCOMING
END:VEVENT
BEGIN:VEVENT
UID:nwsl::Football_Match::5cc0e98afcc24eca929534ed273b6f1e@faceoff
DTSTART:20260906T200000Z
DURATION:PT3H30M
SUMMARY:Chicago Stars vs North Carolina Courage
LOCATION:Northwestern Medicine Field at Martin Stadium
DESCRIPTION:UPCOMING
END:VEVENT
BEGIN:VEVENT
UID:nwsl::Football_Match::96c6414abe28433091872c0766c9bf34@faceoff
DTSTART:20260913T230000Z
DURATION:PT3H30M
SUMMARY:Chicago Stars @ Portland Thorns
LOCATION:Providence Park
DESCRIPTION:UPCOMING
END:VEVENT
BEGIN:VEVENT
UID:nwsl::Football_Match::395ee8d49a074e29bc420909a091beb4@faceoff
DTSTART:20260920T210000Z
DURATION:PT3H30M
SUMMARY:Chicago Stars vs Washington Spirit
LOCATION:Northwestern Medicine Field at Martin Stadium
DESCRIPTION:UPCOMING
END:VEVENT
BEGIN:VEVENT
UID:nwsl::Football_Match::b5a67de24e9d45cc9e13ebd1da9c7ca6@faceoff
DTSTART:20260926T000000Z
DURATION:PT3H30M
SUMMARY:Chicago Stars @ Gotham FC
LOCATION:Sports Illustrated Stadium
DESCRIPTION:UPCOMING
END:VEVENT
BEGIN:VEVENT
UID:nwsl::Football_Match::40187a74cd3e44dc88de94ffce7538b8@faceoff
DTSTART:20261004T200000Z
DURATION:PT3H30M
SUMMARY:Chicago Stars vs Denver Summit
LOCATION:Northwestern Medicine Field at Martin Stadium
DESCRIPTION:UPCOMING
END:VEVENT
BEGIN:VEVENT
UID:nwsl::Football_Match::e534e76ce881470eaef01614b88d69d5@faceoff
DTSTART:20261018T230000Z
DURATION:PT3H30M
SUMMARY:Chicago Stars vs Seattle Reign
LOCATION:Northwestern Medicine Field at Martin Stadium
DESCRIPTION:UPCOMING
END:VEVENT
BEGIN:VEVENT
UID:nwsl::Football_Match::69ed8d8482a24e6b898783d61645422c@faceoff
DTSTART:20261024T000000Z
DURATION:PT3H30M
SUMMARY:Chicago Stars vs Houston Dash
LOCATION:Northwestern Medicine Field at Martin Stadium
DESCRIPTION:UPCOMING
END:VEVENT
BEGIN:VEVENT
UID:nwsl::Football_Match::c02e1960e7024381a77d9409fb489100@faceoff
DTSTART:20261101T220000Z
DURATION:PT3H30M
SUMMARY:Chicago Stars @ Washington Spirit
LOCATION:Audi Field
DESCRIPTION:UPCOMING
END:VEVENT
END:VCALENDAR
