BEGIN:VCALENDAR
VERSION:2.0
X-WR-CALNAME:Boston Legacy Schedule
REFRESH-INTERVAL;VALUE=DURATION:PT1H
X-PUBLISHED-TTL:PT1H
BEGIN:VEVENT
UID:nwsl::Football_Match::994672fd04fd4515a2f76e7596129efe@faceoff
DTSTART:20260314T163000Z
DURATION:PT3H30M
SUMMARY:Boston Legacy vs Gotham FC
LOCATION:Gillette Stadium
DESCRIPTION:FINISHED
END:VEVENT
BEGIN:VEVENT
UID:nwsl::Football_Match::17455ad3a5f94cf0895aa9a65e0dacb8@faceoff
DTSTART:20260321T200000Z
DURATION:PT3H30M
SUMMARY:Boston Legacy @ Houston Dash
LOCATION:Shell Energy Stadium
DESCRIPTION:FINISHED
END:VEVENT
BEGIN:VEVENT
UID:nwsl::Football_Match::b3951483cb7f401387b1848fb08cf51d@faceoff
DTSTART:20260328T160000Z
DURATION:PT3H30M
SUMMARY:Boston Legacy vs Utah Royals
LOCATION:Gillette Stadium
DESCRIPTION:FINISHED
END:VEVENT
BEGIN:VEVENT
UID:nwsl::Football_Match::b4681c0200f2485381e0e346ec0bb157@faceoff
DTSTART:20260403T230000Z
DURATION:PT3H30M
SUMMARY:Boston Legacy vs San Diego Wave
LOCATION:Gillette Stadium
DESCRIPTION:FINISHED
END:VEVENT
BEGIN:VEVENT
UID:nwsl::Football_Match::07d413c060854fb9a038cf4406777c2a@faceoff
DTSTART:20260425T223000Z
DURATION:PT3H30M
SUMMARY:Boston Legacy @ Chicago Stars
LOCATION:Northwestern Medicine Field at Martin Stadium
DESCRIPTION:UPCOMING
END:VEVENT
BEGIN:VEVENT
UID:nwsl::Football_Match::eab4b1d55ad147b6a8398fd9897dd123@faceoff
DTSTART:20260429T230000Z
DURATION:PT3H30M
SUMMARY:Boston Legacy vs North Carolina Courage
LOCATION:Gillette Stadium
DESCRIPTION:UPCOMING
END:VEVENT
BEGIN:VEVENT
UID:nwsl::Football_Match::e19fdb4ddad94393bbefa8ef5b638ff8@faceoff
DTSTART:20260503T190000Z
DURATION:PT3H30M
SUMMARY:Boston Legacy vs Denver Summit
LOCATION:Gillette Stadium
DESCRIPTION:UPCOMING
END:VEVENT
BEGIN:VEVENT
UID:nwsl::Football_Match::9142b6ab9f9e4eea9a1036c4d69dc063@faceoff
DTSTART:20260509T223000Z
DURATION:PT3H30M
SUMMARY:Boston Legacy @ Gotham FC
LOCATION:Sports Illustrated Stadium
DESCRIPTION:UPCOMING
END:VEVENT
BEGIN:VEVENT
UID:nwsl::Football_Match::342540cd5dd44f9398d74d2a5462c3f8@faceoff
DTSTART:20260512T230000Z
DURATION:PT3H30M
SUMMARY:Boston Legacy vs Orlando Pride
LOCATION:Gillette Stadium
DESCRIPTION:UPCOMING
END:VEVENT
BEGIN:VEVENT
UID:nwsl::Football_Match::246f07a9f3cd4805b5f5911e1c76fc12@faceoff
DTSTART:20260516T020000Z
DURATION:PT3H30M
SUMMARY:Boston Legacy @ Bay
LOCATION:PayPal Park
DESCRIPTION:UPCOMING
END:VEVENT
BEGIN:VEVENT
UID:nwsl::Football_Match::3726ef79404b4d789f56c19ae50df3f8@faceoff
DTSTART:20260523T000000Z
DURATION:PT3H30M
SUMMARY:Boston Legacy vs Seattle Reign
LOCATION:Centreville Bank Stadium
DESCRIPTION:UPCOMING
END:VEVENT
BEGIN:VEVENT
UID:nwsl::Football_Match::dfa52aae954d496b9673b480b577afce@faceoff
DTSTART:20260530T173000Z
DURATION:PT3H30M
SUMMARY:Boston Legacy @ Kansas City Current
LOCATION:CPKC Stadium
DESCRIPTION:UPCOMING
END:VEVENT
BEGIN:VEVENT
UID:nwsl::Football_Match::d8ec31af1803403d946eb9864dc850c5@faceoff
DTSTART:20260705T160000Z
DURATION:PT3H30M
SUMMARY:Boston Legacy vs Bay
LOCATION:Centreville Bank Stadium
DESCRIPTION:UPCOMING
END:VEVENT
BEGIN:VEVENT
UID:nwsl::Football_Match::33ba157796dd4dcb9bd8c6abd2d33e71@faceoff
DTSTART:20260711T000000Z
DURATION:PT3H30M
SUMMARY:Boston Legacy vs Chicago Stars
LOCATION:Centreville Bank Stadium
DESCRIPTION:UPCOMING
END:VEVENT
BEGIN:VEVENT
UID:nwsl::Football_Match::849a6ed39ba74df1989032785c8929a5@faceoff
DTSTART:20260715T230000Z
DURATION:PT3H30M
SUMMARY:Boston Legacy @ Orlando Pride
LOCATION:Inter&Co Stadium
DESCRIPTION:UPCOMING
END:VEVENT
BEGIN:VEVENT
UID:nwsl::Football_Match::ab159e754821435c9385218f0c9732c7@faceoff
DTSTART:20260719T230000Z
DURATION:PT3H30M
SUMMARY:Boston Legacy vs Washington Spirit
LOCATION:Centreville Bank Stadium
DESCRIPTION:UPCOMING
END:VEVENT
BEGIN:VEVENT
UID:nwsl::Football_Match::9153b9a549084950b2853ba562c3b8f7@faceoff
DTSTART:20260725T210000Z
DURATION:PT3H30M
SUMMARY:Boston Legacy vs Kansas City Current
LOCATION:Centreville Bank Stadium
DESCRIPTION:UPCOMING
END:VEVENT
BEGIN:VEVENT
UID:nwsl::Football_Match::e737d2d231134bdb9ab0e3c29b9a64b4@faceoff
DTSTART:20260803T010000Z
DURATION:PT3H30M
SUMMARY:Boston Legacy @ Denver Summit
LOCATION:Centennial Stadium
DESCRIPTION:UPCOMING
END:VEVENT
BEGIN:VEVENT
UID:nwsl::Football_Match::f887b710b49f4d9d9cb7b57c6176531f@faceoff
DTSTART:20260809T200000Z
DURATION:PT3H30M
SUMMARY:Boston Legacy vs Portland Thorns
LOCATION:Centreville Bank Stadium
DESCRIPTION:UPCOMING
END:VEVENT
BEGIN:VEVENT
UID:nwsl::Football_Match::aa4ca5e4dfec4c5086d147918da45804@faceoff
DTSTART:20260815T223000Z
DURATION:PT3H30M
SUMMARY:Boston Legacy @ Racing Louisville
LOCATION:Lynn Family Stadium
DESCRIPTION:UPCOMING
END:VEVENT
BEGIN:VEVENT
UID:nwsl::Football_Match::524aaa30ed5541c89254a234bdf9edc8@faceoff
DTSTART:20260822T233000Z
DURATION:PT3H30M
SUMMARY:Boston Legacy @ North Carolina Courage
LOCATION:First Horizon Stadium at WakeMed Soccer Park
DESCRIPTION:UPCOMING
END:VEVENT
BEGIN:VEVENT
UID:nwsl::Football_Match::4545985ba6f445e0b184d58ef33575c4@faceoff
DTSTART:20260901T000000Z
DURATION:PT3H30M
SUMMARY:Boston Legacy vs Angel City
LOCATION:Gillette Stadium
DESCRIPTION:UPCOMING
END:VEVENT
BEGIN:VEVENT
UID:nwsl::Football_Match::84d74cbf9bfd4edab75704f4ac4a3299@faceoff
DTSTART:20260905T013000Z
DURATION:PT3H30M
SUMMARY:Boston Legacy @ Utah Royals
LOCATION:America First Field
DESCRIPTION:UPCOMING
END:VEVENT
BEGIN:VEVENT
UID:nwsl::Football_Match::c7aa6aec13884f0a9e41869fa70a291b@faceoff
DTSTART:20260913T170000Z
DURATION:PT3H30M
SUMMARY:Boston Legacy @ Washington Spirit
LOCATION:Audi Field
DESCRIPTION:UPCOMING
END:VEVENT
BEGIN:VEVENT
UID:nwsl::Football_Match::f8a86ca1b5d54d2dac7de99d2a93f812@faceoff
DTSTART:20260920T180000Z
DURATION:PT3H30M
SUMMARY:Boston Legacy vs Houston Dash
LOCATION:Centreville Bank Stadium
DESCRIPTION:UPCOMING
END:VEVENT
BEGIN:VEVENT
UID:nwsl::Football_Match::86a3308169fa4b4bbdb745277007dc4f@faceoff
DTSTART:20260926T003000Z
DURATION:PT3H30M
SUMMARY:Boston Legacy @ Seattle Reign
LOCATION:Lumen Field
DESCRIPTION:UPCOMING
END:VEVENT
BEGIN:VEVENT
UID:nwsl::Football_Match::39f1ac94b0984f1aa2030d36f5cd2534@faceoff
DTSTART:20261004T004500Z
DURATION:PT3H30M
SUMMARY:Boston Legacy @ Portland Thorns
LOCATION:Providence Park
DESCRIPTION:UPCOMING
END:VEVENT
BEGIN:VEVENT
UID:nwsl::Football_Match::b8c8d180a8c040eb9147a88cc5352782@faceoff
DTSTART:20261017T000000Z
DURATION:PT3H30M
SUMMARY:Boston Legacy vs Racing Louisville
LOCATION:Gillette Stadium
DESCRIPTION:UPCOMING
END:VEVENT
BEGIN:VEVENT
UID:nwsl::Football_Match::a1ace14f78d64eb6866eb29ab637853c@faceoff
DTSTART:20261025T230000Z
DURATION:PT3H30M
SUMMARY:Boston Legacy @ San Diego Wave
LOCATION:Snapdragon Stadium
DESCRIPTION:UPCOMING
END:VEVENT
BEGIN:VEVENT
UID:nwsl::Football_Match::f61f11638bb74d8cae6d52d2602cf964@faceoff
DTSTART:20261101T220000Z
DURATION:PT3H30M
SUMMARY:Boston Legacy @ Angel City
DESCRIPTION:UPCOMING
END:VEVENT
END:VCALENDAR
