BEGIN:VCALENDAR
VERSION:2.0
X-WR-CALNAME:Bay Schedule
REFRESH-INTERVAL;VALUE=DURATION:PT1H
X-PUBLISHED-TTL:PT1H
BEGIN:VEVENT
UID:nwsl::Football_Match::dc7a11b3d2144bc889d07b1b91cd7dd2@faceoff
DTSTART:20260314T223000Z
DURATION:PT3H30M
SUMMARY:Bay vs Denver Summit
LOCATION:PayPal Park
DESCRIPTION:FINISHED
END:VEVENT
BEGIN:VEVENT
UID:nwsl::Football_Match::4f7aaf11b3b14c4eaaecb3ca3928ef39@faceoff
DTSTART:20260322T004500Z
DURATION:PT3H30M
SUMMARY:Bay vs Angel City
LOCATION:PayPal Park
DESCRIPTION:FINISHED
END:VEVENT
BEGIN:VEVENT
UID:nwsl::Football_Match::5306635547774401bae5d27eabccfefe@faceoff
DTSTART:20260328T230000Z
DURATION:PT3H30M
SUMMARY:Bay @ North Carolina Courage
LOCATION:First Horizon Stadium at WakeMed Soccer Park
DESCRIPTION:FINISHED
END:VEVENT
BEGIN:VEVENT
UID:nwsl::Football_Match::596daa7f5dd143d59b44bd11f5d494cb@faceoff
DTSTART:20260405T210000Z
DURATION:PT3H30M
SUMMARY:Bay vs Washington Spirit
LOCATION:PayPal Park
DESCRIPTION:FINISHED
END:VEVENT
BEGIN:VEVENT
UID:nwsl::Football_Match::fe12d8ea3ee14c69991927bbe1c078d5@faceoff
DTSTART:20260425T170000Z
DURATION:PT3H30M
SUMMARY:Bay @ Gotham FC
LOCATION:Sports Illustrated Stadium
DESCRIPTION:UPCOMING
END:VEVENT
BEGIN:VEVENT
UID:nwsl::Football_Match::c80e8f6d0cbd440583a92be7c3cd40f0@faceoff
DTSTART:20260503T230000Z
DURATION:PT3H30M
SUMMARY:Bay @ San Diego Wave
LOCATION:Snapdragon Stadium
DESCRIPTION:UPCOMING
END:VEVENT
BEGIN:VEVENT
UID:nwsl::Football_Match::1909a0ca669a4be191299afde35d2aed@faceoff
DTSTART:20260510T200000Z
DURATION:PT3H30M
SUMMARY:Bay vs Utah Royals
LOCATION:PayPal Park
DESCRIPTION:UPCOMING
END:VEVENT
BEGIN:VEVENT
UID:nwsl::Football_Match::246f07a9f3cd4805b5f5911e1c76fc12@faceoff
DTSTART:20260516T020000Z
DURATION:PT3H30M
SUMMARY:Bay vs Boston Legacy
LOCATION:PayPal Park
DESCRIPTION:UPCOMING
END:VEVENT
BEGIN:VEVENT
UID:nwsl::Football_Match::d11f333ad954497695aadc3be644040c@faceoff
DTSTART:20260521T020000Z
DURATION:PT3H30M
SUMMARY:Bay @ Portland Thorns
LOCATION:Providence Park
DESCRIPTION:UPCOMING
END:VEVENT
BEGIN:VEVENT
UID:nwsl::Football_Match::641347cccbc0413597404a024e28b894@faceoff
DTSTART:20260524T210000Z
DURATION:PT3H30M
SUMMARY:Bay vs Chicago Stars
LOCATION:PayPal Park
DESCRIPTION:UPCOMING
END:VEVENT
BEGIN:VEVENT
UID:nwsl::Football_Match::b9d827016f744de58afaee249641ed98@faceoff
DTSTART:20260529T230000Z
DURATION:PT3H30M
SUMMARY:Bay @ Orlando Pride
LOCATION:Inter&Co Stadium
DESCRIPTION:UPCOMING
END:VEVENT
BEGIN:VEVENT
UID:nwsl::Football_Match::d8ec31af1803403d946eb9864dc850c5@faceoff
DTSTART:20260705T160000Z
DURATION:PT3H30M
SUMMARY:Bay @ Boston Legacy
LOCATION:Centreville Bank Stadium
DESCRIPTION:UPCOMING
END:VEVENT
BEGIN:VEVENT
UID:nwsl::Football_Match::a9638c2402094ed18333eadfb07e1b69@faceoff
DTSTART:20260711T000000Z
DURATION:PT3H30M
SUMMARY:Bay @ Racing Louisville
LOCATION:Lynn Family Stadium
DESCRIPTION:UPCOMING
END:VEVENT
BEGIN:VEVENT
UID:nwsl::Football_Match::98136f55a1964ab1a2bda5ccb1e252f3@faceoff
DTSTART:20260718T200000Z
DURATION:PT3H30M
SUMMARY:Bay vs North Carolina Courage
LOCATION:PayPal Park
DESCRIPTION:UPCOMING
END:VEVENT
BEGIN:VEVENT
UID:nwsl::Football_Match::d2399986560545e78a2099e9bcbf0127@faceoff
DTSTART:20260725T000000Z
DURATION:PT3H30M
SUMMARY:Bay @ Houston Dash
LOCATION:Shell Energy Stadium
DESCRIPTION:UPCOMING
END:VEVENT
BEGIN:VEVENT
UID:nwsl::Football_Match::5596f0ea173c4f41bba736c982fe84df@faceoff
DTSTART:20260730T020000Z
DURATION:PT3H30M
SUMMARY:Bay vs Gotham FC
LOCATION:PayPal Park
DESCRIPTION:UPCOMING
END:VEVENT
BEGIN:VEVENT
UID:nwsl::Football_Match::32b62bbfd578453b8045603ee9b7fa02@faceoff
DTSTART:20260802T004500Z
DURATION:PT3H30M
SUMMARY:Bay vs Seattle Reign
LOCATION:PayPal Park
DESCRIPTION:UPCOMING
END:VEVENT
BEGIN:VEVENT
UID:nwsl::Football_Match::5425d75e5b864792916d6c206e274a5a@faceoff
DTSTART:20260809T230000Z
DURATION:PT3H30M
SUMMARY:Bay @ Chicago Stars
LOCATION:Northwestern Medicine Field at Martin Stadium
DESCRIPTION:UPCOMING
END:VEVENT
BEGIN:VEVENT
UID:nwsl::Football_Match::1a431597f8914717aaac544a7a364bb2@faceoff
DTSTART:20260815T020000Z
DURATION:PT3H30M
SUMMARY:Bay @ Utah Royals
LOCATION:America First Field
DESCRIPTION:UPCOMING
END:VEVENT
BEGIN:VEVENT
UID:nwsl::Football_Match::b470230cb7104eceaa46c4b4e239ee02@faceoff
DTSTART:20260823T220000Z
DURATION:PT3H30M
SUMMARY:Bay vs Houston Dash
LOCATION:PayPal Park
DESCRIPTION:UPCOMING
END:VEVENT
BEGIN:VEVENT
UID:nwsl::Football_Match::016969f3352e44b89b0be619ccc77967@faceoff
DTSTART:20260830T163000Z
DURATION:PT3H30M
SUMMARY:Bay @ Washington Spirit
LOCATION:Audi Field
DESCRIPTION:UPCOMING
END:VEVENT
BEGIN:VEVENT
UID:nwsl::Football_Match::94f5f1f3d4174b6cbddfcfa79543be00@faceoff
DTSTART:20260905T020000Z
DURATION:PT3H30M
SUMMARY:Bay vs Kansas City Current
LOCATION:PayPal Park
DESCRIPTION:UPCOMING
END:VEVENT
BEGIN:VEVENT
UID:nwsl::Football_Match::1121e2a07450410495e8a6a721e3697e@faceoff
DTSTART:20260913T000000Z
DURATION:PT3H30M
SUMMARY:Bay @ Seattle Reign
LOCATION:Lumen Field
DESCRIPTION:UPCOMING
END:VEVENT
BEGIN:VEVENT
UID:nwsl::Football_Match::205368e46d78455f90a1ee09482ea460@faceoff
DTSTART:20260917T013000Z
DURATION:PT3H30M
SUMMARY:Bay @ Denver Summit
LOCATION:Centennial Stadium
DESCRIPTION:UPCOMING
END:VEVENT
BEGIN:VEVENT
UID:nwsl::Football_Match::ad4e698162d148cbab946db825dd58da@faceoff
DTSTART:20260920T230000Z
DURATION:PT3H30M
SUMMARY:Bay vs Racing Louisville
LOCATION:PayPal Park
DESCRIPTION:UPCOMING
END:VEVENT
BEGIN:VEVENT
UID:nwsl::Football_Match::c81c9a6fe18f44be99428502cc9f2963@faceoff
DTSTART:20260927T210000Z
DURATION:PT3H30M
SUMMARY:Bay vs Orlando Pride
LOCATION:PayPal Park
DESCRIPTION:UPCOMING
END:VEVENT
BEGIN:VEVENT
UID:nwsl::Football_Match::d0fa9a068cd4428d9334fc88fc04c92a@faceoff
DTSTART:20261003T223000Z
DURATION:PT3H30M
SUMMARY:Bay @ Kansas City Current
LOCATION:CPKC Stadium
DESCRIPTION:UPCOMING
END:VEVENT
BEGIN:VEVENT
UID:nwsl::Football_Match::dbae98ca60224a9284122d1f023c1c0e@faceoff
DTSTART:20261018T210000Z
DURATION:PT3H30M
SUMMARY:Bay vs Portland Thorns
LOCATION:PayPal Park
DESCRIPTION:UPCOMING
END:VEVENT
BEGIN:VEVENT
UID:nwsl::Football_Match::cd066f126f8640ba873d22791b43ea72@faceoff
DTSTART:20261025T004500Z
DURATION:PT3H30M
SUMMARY:Bay @ Angel City
LOCATION:BMO Stadium
DESCRIPTION:UPCOMING
END:VEVENT
BEGIN:VEVENT
UID:nwsl::Football_Match::f5e301ecb3f3408b85ed3dac933e4bf0@faceoff
DTSTART:20261101T220000Z
DURATION:PT3H30M
SUMMARY:Bay vs San Diego Wave
LOCATION:PayPal Park
DESCRIPTION:UPCOMING
END:VEVENT
END:VCALENDAR
