BEGIN:VCALENDAR
VERSION:2.0
X-WR-CALNAME:Hanshin Tigers Schedule
REFRESH-INTERVAL;VALUE=DURATION:PT1H
X-PUBLISHED-TTL:PT1H
BEGIN:VEVENT
UID:2021040015@faceoff
DTSTART:20260221T050000Z
DURATION:PT3H30M
SUMMARY:Hanshin Tigers @ Chunichi Dragons
LOCATION:Agreスタジアム北谷
DESCRIPTION:2
END:VEVENT
BEGIN:VEVENT
UID:2021040021@faceoff
DTSTART:20260222T040000Z
DURATION:PT3H30M
SUMMARY:Hanshin Tigers @ Tokyo Yakult Swallows
LOCATION:ANA BALL PARK浦添
DESCRIPTION:2
END:VEVENT
BEGIN:VEVENT
UID:2021040022@faceoff
DTSTART:20260223T040000Z
DURATION:PT3H30M
SUMMARY:Hanshin Tigers @ Hokkaido Nippon-Ham Fighters
LOCATION:Enagicスタジアム名護
DESCRIPTION:2
END:VEVENT
BEGIN:VEVENT
UID:2021040043@faceoff
DTSTART:20260306T050000Z
DURATION:PT3H30M
SUMMARY:Hanshin Tigers vs Fukuoka SoftBank Hawks
LOCATION:阪神甲子園球場
DESCRIPTION:2
END:VEVENT
BEGIN:VEVENT
UID:2021040048@faceoff
DTSTART:20260307T040000Z
DURATION:PT3H30M
SUMMARY:Hanshin Tigers vs Fukuoka SoftBank Hawks
LOCATION:阪神甲子園球場
DESCRIPTION:2
END:VEVENT
BEGIN:VEVENT
UID:2021040054@faceoff
DTSTART:20260308T040000Z
DURATION:PT3H30M
SUMMARY:Hanshin Tigers vs Yomiuri Giants
LOCATION:阪神甲子園球場
DESCRIPTION:2
END:VEVENT
BEGIN:VEVENT
UID:2021040059@faceoff
DTSTART:20260310T040000Z
DURATION:PT3H30M
SUMMARY:Hanshin Tigers vs Saitama Seibu Lions
LOCATION:阪神甲子園球場
DESCRIPTION:2
END:VEVENT
BEGIN:VEVENT
UID:2021040065@faceoff
DTSTART:20260311T040000Z
DURATION:PT3H30M
SUMMARY:Hanshin Tigers vs Saitama Seibu Lions
LOCATION:阪神甲子園球場
DESCRIPTION:2
END:VEVENT
BEGIN:VEVENT
UID:2021040078@faceoff
DTSTART:20260314T040000Z
DURATION:PT3H30M
SUMMARY:Hanshin Tigers @ Hiroshima Toyo Carp
LOCATION:MAZDA Zoom-Zoom スタジアム広島
DESCRIPTION:2
END:VEVENT
BEGIN:VEVENT
UID:2021040084@faceoff
DTSTART:20260315T040000Z
DURATION:PT3H30M
SUMMARY:Hanshin Tigers @ Hiroshima Toyo Carp
LOCATION:MAZDA Zoom-Zoom スタジアム広島
DESCRIPTION:2
END:VEVENT
BEGIN:VEVENT
UID:2021040087@faceoff
DTSTART:20260317T040000Z
DURATION:PT3H30M
SUMMARY:Hanshin Tigers @ Chiba Lotte Marines
LOCATION:ZOZOマリンスタジアム
DESCRIPTION:2
END:VEVENT
BEGIN:VEVENT
UID:2021040093@faceoff
DTSTART:20260318T040000Z
DURATION:PT3H30M
SUMMARY:Hanshin Tigers @ Chiba Lotte Marines
LOCATION:ZOZOマリンスタジアム
DESCRIPTION:2
END:VEVENT
BEGIN:VEVENT
UID:2021040101@faceoff
DTSTART:20260320T090000Z
DURATION:PT3H30M
SUMMARY:Hanshin Tigers @ ORIX Buffaloes
LOCATION:京セラドーム大阪
DESCRIPTION:2
END:VEVENT
BEGIN:VEVENT
UID:2021040107@faceoff
DTSTART:20260321T050000Z
DURATION:PT3H30M
SUMMARY:Hanshin Tigers vs ORIX Buffaloes
LOCATION:京セラドーム大阪
DESCRIPTION:2
END:VEVENT
BEGIN:VEVENT
UID:2021040113@faceoff
DTSTART:20260322T040000Z
DURATION:PT3H30M
SUMMARY:Hanshin Tigers @ ORIX Buffaloes
LOCATION:京セラドーム大阪
DESCRIPTION:2
END:VEVENT
BEGIN:VEVENT
UID:2021038622@faceoff
DTSTART:20260327T091500Z
DURATION:PT3H30M
SUMMARY:Hanshin Tigers @ Yomiuri Giants
LOCATION:東京ドーム
DESCRIPTION:2
END:VEVENT
BEGIN:VEVENT
UID:2021038628@faceoff
DTSTART:20260328T050000Z
DURATION:PT3H30M
SUMMARY:Hanshin Tigers @ Yomiuri Giants
LOCATION:東京ドーム
DESCRIPTION:2
END:VEVENT
BEGIN:VEVENT
UID:2021038634@faceoff
DTSTART:20260329T050000Z
DURATION:PT3H30M
SUMMARY:Hanshin Tigers @ Yomiuri Giants
LOCATION:東京ドーム
DESCRIPTION:2
END:VEVENT
BEGIN:VEVENT
UID:2021038642@faceoff
DTSTART:20260331T090000Z
DURATION:PT3H30M
SUMMARY:Hanshin Tigers vs Yokohama DeNA BayStars
LOCATION:京セラドーム大阪
DESCRIPTION:2
END:VEVENT
BEGIN:VEVENT
UID:2021038648@faceoff
DTSTART:20260401T090000Z
DURATION:PT3H30M
SUMMARY:Hanshin Tigers vs Yokohama DeNA BayStars
LOCATION:京セラドーム大阪
DESCRIPTION:2
END:VEVENT
BEGIN:VEVENT
UID:2021038654@faceoff
DTSTART:20260402T090000Z
DURATION:PT3H30M
SUMMARY:Hanshin Tigers vs Yokohama DeNA BayStars
LOCATION:京セラドーム大阪
DESCRIPTION:2
END:VEVENT
BEGIN:VEVENT
UID:2021038660@faceoff
DTSTART:20260403T090000Z
DURATION:PT3H30M
SUMMARY:Hanshin Tigers @ Hiroshima Toyo Carp
LOCATION:MAZDA Zoom-Zoom スタジアム広島
DESCRIPTION:2
END:VEVENT
BEGIN:VEVENT
UID:2021038666@faceoff
DTSTART:20260404T050000Z
DURATION:PT3H30M
SUMMARY:Hanshin Tigers @ Hiroshima Toyo Carp
LOCATION:MAZDA Zoom-Zoom スタジアム広島
DESCRIPTION:2
END:VEVENT
BEGIN:VEVENT
UID:2021038672@faceoff
DTSTART:20260405T050000Z
DURATION:PT3H30M
SUMMARY:Hanshin Tigers @ Hiroshima Toyo Carp
LOCATION:MAZDA Zoom-Zoom スタジアム広島
DESCRIPTION:2
END:VEVENT
BEGIN:VEVENT
UID:2021038677@faceoff
DTSTART:20260407T090000Z
DURATION:PT3H30M
SUMMARY:Hanshin Tigers vs Tokyo Yakult Swallows
LOCATION:阪神甲子園球場
DESCRIPTION:2
END:VEVENT
BEGIN:VEVENT
UID:2021038683@faceoff
DTSTART:20260408T090000Z
DURATION:PT3H30M
SUMMARY:Hanshin Tigers vs Tokyo Yakult Swallows
LOCATION:阪神甲子園球場
DESCRIPTION:2
END:VEVENT
BEGIN:VEVENT
UID:2021038688@faceoff
DTSTART:20260409T090000Z
DURATION:PT3H30M
SUMMARY:Hanshin Tigers vs Tokyo Yakult Swallows
LOCATION:阪神甲子園球場
DESCRIPTION:2
END:VEVENT
BEGIN:VEVENT
UID:2021038695@faceoff
DTSTART:20260410T090000Z
DURATION:PT3H30M
SUMMARY:Hanshin Tigers @ Chunichi Dragons
LOCATION:バンテリンドーム ナゴヤ
DESCRIPTION:2
END:VEVENT
BEGIN:VEVENT
UID:2021038700@faceoff
DTSTART:20260411T050000Z
DURATION:PT3H30M
SUMMARY:Hanshin Tigers @ Chunichi Dragons
LOCATION:バンテリンドーム ナゴヤ
DESCRIPTION:2
END:VEVENT
BEGIN:VEVENT
UID:2021038706@faceoff
DTSTART:20260412T043000Z
DURATION:PT3H30M
SUMMARY:Hanshin Tigers @ Chunichi Dragons
LOCATION:バンテリンドーム ナゴヤ
DESCRIPTION:2
END:VEVENT
BEGIN:VEVENT
UID:2021038712@faceoff
DTSTART:20260414T090000Z
DURATION:PT3H30M
SUMMARY:Hanshin Tigers vs Yomiuri Giants
LOCATION:阪神甲子園球場
DESCRIPTION:2
END:VEVENT
BEGIN:VEVENT
UID:2021038717@faceoff
DTSTART:20260415T090000Z
DURATION:PT3H30M
SUMMARY:Hanshin Tigers vs Yomiuri Giants
LOCATION:阪神甲子園球場
DESCRIPTION:4
END:VEVENT
BEGIN:VEVENT
UID:2021038722@faceoff
DTSTART:20260416T090000Z
DURATION:PT3H30M
SUMMARY:Hanshin Tigers vs Yomiuri Giants
LOCATION:阪神甲子園球場
DESCRIPTION:2
END:VEVENT
BEGIN:VEVENT
UID:2021038727@faceoff
DTSTART:20260417T090000Z
DURATION:PT3H30M
SUMMARY:Hanshin Tigers vs Chunichi Dragons
LOCATION:阪神甲子園球場
DESCRIPTION:2
END:VEVENT
BEGIN:VEVENT
UID:2021038733@faceoff
DTSTART:20260418T050000Z
DURATION:PT3H30M
SUMMARY:Hanshin Tigers vs Chunichi Dragons
LOCATION:阪神甲子園球場
DESCRIPTION:2
END:VEVENT
BEGIN:VEVENT
UID:2021038739@faceoff
DTSTART:20260419T050000Z
DURATION:PT3H30M
SUMMARY:Hanshin Tigers vs Chunichi Dragons
LOCATION:阪神甲子園球場
DESCRIPTION:2
END:VEVENT
BEGIN:VEVENT
UID:2021038745@faceoff
DTSTART:20260421T084500Z
DURATION:PT3H30M
SUMMARY:Hanshin Tigers @ Yokohama DeNA BayStars
LOCATION:横浜スタジアム
DESCRIPTION:2
END:VEVENT
BEGIN:VEVENT
UID:2021038751@faceoff
DTSTART:20260422T084500Z
DURATION:PT3H30M
SUMMARY:Hanshin Tigers @ Yokohama DeNA BayStars
LOCATION:横浜スタジアム
DESCRIPTION:2
END:VEVENT
BEGIN:VEVENT
UID:2021038756@faceoff
DTSTART:20260423T084500Z
DURATION:PT3H30M
SUMMARY:Hanshin Tigers @ Yokohama DeNA BayStars
LOCATION:横浜スタジアム
DESCRIPTION:4
END:VEVENT
BEGIN:VEVENT
UID:2021038766@faceoff
DTSTART:20260425T050000Z
DURATION:PT3H30M
SUMMARY:Hanshin Tigers vs Hiroshima Toyo Carp
LOCATION:阪神甲子園球場
DESCRIPTION:1
END:VEVENT
BEGIN:VEVENT
UID:2021038772@faceoff
DTSTART:20260426T050000Z
DURATION:PT3H30M
SUMMARY:Hanshin Tigers vs Hiroshima Toyo Carp
LOCATION:阪神甲子園球場
DESCRIPTION:1
END:VEVENT
BEGIN:VEVENT
UID:2021038777@faceoff
DTSTART:20260428T090000Z
DURATION:PT3H30M
SUMMARY:Hanshin Tigers @ Tokyo Yakult Swallows
LOCATION:明治神宮野球場
DESCRIPTION:1
END:VEVENT
BEGIN:VEVENT
UID:2021038783@faceoff
DTSTART:20260429T050000Z
DURATION:PT3H30M
SUMMARY:Hanshin Tigers @ Tokyo Yakult Swallows
LOCATION:明治神宮野球場
DESCRIPTION:1
END:VEVENT
BEGIN:VEVENT
UID:2021038789@faceoff
DTSTART:20260430T090000Z
DURATION:PT3H30M
SUMMARY:Hanshin Tigers @ Tokyo Yakult Swallows
LOCATION:明治神宮野球場
DESCRIPTION:1
END:VEVENT
BEGIN:VEVENT
UID:2021038793@faceoff
DTSTART:20260501T090000Z
DURATION:PT3H30M
SUMMARY:Hanshin Tigers vs Yomiuri Giants
LOCATION:阪神甲子園球場
DESCRIPTION:1
END:VEVENT
BEGIN:VEVENT
UID:2021038799@faceoff
DTSTART:20260502T050000Z
DURATION:PT3H30M
SUMMARY:Hanshin Tigers vs Yomiuri Giants
LOCATION:阪神甲子園球場
DESCRIPTION:1
END:VEVENT
BEGIN:VEVENT
UID:2021038805@faceoff
DTSTART:20260503T050000Z
DURATION:PT3H30M
SUMMARY:Hanshin Tigers vs Yomiuri Giants
LOCATION:阪神甲子園球場
DESCRIPTION:1
END:VEVENT
BEGIN:VEVENT
UID:2021038812@faceoff
DTSTART:20260504T053000Z
DURATION:PT3H30M
SUMMARY:Hanshin Tigers @ Chunichi Dragons
LOCATION:バンテリンドーム ナゴヤ
DESCRIPTION:1
END:VEVENT
BEGIN:VEVENT
UID:2021038818@faceoff
DTSTART:20260505T050000Z
DURATION:PT3H30M
SUMMARY:Hanshin Tigers @ Chunichi Dragons
LOCATION:バンテリンドーム ナゴヤ
DESCRIPTION:1
END:VEVENT
BEGIN:VEVENT
UID:2021038824@faceoff
DTSTART:20260506T050000Z
DURATION:PT3H30M
SUMMARY:Hanshin Tigers @ Chunichi Dragons
LOCATION:バンテリンドーム ナゴヤ
DESCRIPTION:1
END:VEVENT
BEGIN:VEVENT
UID:2021038829@faceoff
DTSTART:20260508T090000Z
DURATION:PT3H30M
SUMMARY:Hanshin Tigers vs Yokohama DeNA BayStars
LOCATION:阪神甲子園球場
DESCRIPTION:1
END:VEVENT
BEGIN:VEVENT
UID:2021038835@faceoff
DTSTART:20260509T050000Z
DURATION:PT3H30M
SUMMARY:Hanshin Tigers vs Yokohama DeNA BayStars
LOCATION:阪神甲子園球場
DESCRIPTION:1
END:VEVENT
BEGIN:VEVENT
UID:2021038841@faceoff
DTSTART:20260510T050000Z
DURATION:PT3H30M
SUMMARY:Hanshin Tigers vs Yokohama DeNA BayStars
LOCATION:阪神甲子園球場
DESCRIPTION:1
END:VEVENT
BEGIN:VEVENT
UID:2021038847@faceoff
DTSTART:20260512T090000Z
DURATION:PT3H30M
SUMMARY:Hanshin Tigers @ Tokyo Yakult Swallows
LOCATION:明治神宮野球場
DESCRIPTION:1
END:VEVENT
BEGIN:VEVENT
UID:2021038853@faceoff
DTSTART:20260513T090000Z
DURATION:PT3H30M
SUMMARY:Hanshin Tigers @ Tokyo Yakult Swallows
LOCATION:明治神宮野球場
DESCRIPTION:1
END:VEVENT
BEGIN:VEVENT
UID:2021038862@faceoff
DTSTART:20260515T090000Z
DURATION:PT3H30M
SUMMARY:Hanshin Tigers vs Hiroshima Toyo Carp
LOCATION:阪神甲子園球場
DESCRIPTION:1
END:VEVENT
BEGIN:VEVENT
UID:2021038868@faceoff
DTSTART:20260516T050000Z
DURATION:PT3H30M
SUMMARY:Hanshin Tigers vs Hiroshima Toyo Carp
LOCATION:阪神甲子園球場
DESCRIPTION:1
END:VEVENT
BEGIN:VEVENT
UID:2021038874@faceoff
DTSTART:20260517T050000Z
DURATION:PT3H30M
SUMMARY:Hanshin Tigers vs Hiroshima Toyo Carp
LOCATION:阪神甲子園球場
DESCRIPTION:1
END:VEVENT
BEGIN:VEVENT
UID:2021038879@faceoff
DTSTART:20260519T090000Z
DURATION:PT3H30M
SUMMARY:Hanshin Tigers vs Chunichi Dragons
LOCATION:マスカットスタジアム
DESCRIPTION:1
END:VEVENT
BEGIN:VEVENT
UID:2021038884@faceoff
DTSTART:20260520T090000Z
DURATION:PT3H30M
SUMMARY:Hanshin Tigers vs Chunichi Dragons
LOCATION:阪神甲子園球場
DESCRIPTION:1
END:VEVENT
BEGIN:VEVENT
UID:2021038890@faceoff
DTSTART:20260521T090000Z
DURATION:PT3H30M
SUMMARY:Hanshin Tigers vs Chunichi Dragons
LOCATION:阪神甲子園球場
DESCRIPTION:1
END:VEVENT
BEGIN:VEVENT
UID:2021038892@faceoff
DTSTART:20260522T090000Z
DURATION:PT3H30M
SUMMARY:Hanshin Tigers @ Yomiuri Giants
LOCATION:東京ドーム
DESCRIPTION:1
END:VEVENT
BEGIN:VEVENT
UID:2021038897@faceoff
DTSTART:20260523T090000Z
DURATION:PT3H30M
SUMMARY:Hanshin Tigers @ Yomiuri Giants
LOCATION:東京ドーム
DESCRIPTION:1
END:VEVENT
BEGIN:VEVENT
UID:2021038903@faceoff
DTSTART:20260524T050000Z
DURATION:PT3H30M
SUMMARY:Hanshin Tigers @ Yomiuri Giants
LOCATION:東京ドーム
DESCRIPTION:1
END:VEVENT
BEGIN:VEVENT
UID:2021038913@faceoff
DTSTART:20260526T090000Z
DURATION:PT3H30M
SUMMARY:Hanshin Tigers vs Hokkaido Nippon-Ham Fighters
LOCATION:阪神甲子園球場
DESCRIPTION:1
END:VEVENT
BEGIN:VEVENT
UID:2021038919@faceoff
DTSTART:20260527T090000Z
DURATION:PT3H30M
SUMMARY:Hanshin Tigers vs Hokkaido Nippon-Ham Fighters
LOCATION:阪神甲子園球場
DESCRIPTION:1
END:VEVENT
BEGIN:VEVENT
UID:2021038925@faceoff
DTSTART:20260528T090000Z
DURATION:PT3H30M
SUMMARY:Hanshin Tigers vs Hokkaido Nippon-Ham Fighters
LOCATION:阪神甲子園球場
DESCRIPTION:1
END:VEVENT
BEGIN:VEVENT
UID:2021038930@faceoff
DTSTART:20260529T090000Z
DURATION:PT3H30M
SUMMARY:Hanshin Tigers @ Chiba Lotte Marines
LOCATION:ZOZOマリンスタジアム
DESCRIPTION:1
END:VEVENT
BEGIN:VEVENT
UID:2021038936@faceoff
DTSTART:20260530T050000Z
DURATION:PT3H30M
SUMMARY:Hanshin Tigers @ Chiba Lotte Marines
LOCATION:ZOZOマリンスタジアム
DESCRIPTION:1
END:VEVENT
BEGIN:VEVENT
UID:2021038942@faceoff
DTSTART:20260531T040000Z
DURATION:PT3H30M
SUMMARY:Hanshin Tigers @ Chiba Lotte Marines
LOCATION:ZOZOマリンスタジアム
DESCRIPTION:1
END:VEVENT
BEGIN:VEVENT
UID:2021038949@faceoff
DTSTART:20260602T090000Z
DURATION:PT3H30M
SUMMARY:Hanshin Tigers vs Saitama Seibu Lions
LOCATION:阪神甲子園球場
DESCRIPTION:1
END:VEVENT
BEGIN:VEVENT
UID:2021038955@faceoff
DTSTART:20260603T090000Z
DURATION:PT3H30M
SUMMARY:Hanshin Tigers vs Saitama Seibu Lions
LOCATION:阪神甲子園球場
DESCRIPTION:1
END:VEVENT
BEGIN:VEVENT
UID:2021038961@faceoff
DTSTART:20260604T090000Z
DURATION:PT3H30M
SUMMARY:Hanshin Tigers vs Saitama Seibu Lions
LOCATION:阪神甲子園球場
DESCRIPTION:1
END:VEVENT
BEGIN:VEVENT
UID:2021038967@faceoff
DTSTART:20260605T090000Z
DURATION:PT3H30M
SUMMARY:Hanshin Tigers vs Tohoku Rakuten Golden Eagles
LOCATION:阪神甲子園球場
DESCRIPTION:1
END:VEVENT
BEGIN:VEVENT
UID:2021038973@faceoff
DTSTART:20260606T050000Z
DURATION:PT3H30M
SUMMARY:Hanshin Tigers vs Tohoku Rakuten Golden Eagles
LOCATION:阪神甲子園球場
DESCRIPTION:1
END:VEVENT
BEGIN:VEVENT
UID:2021038979@faceoff
DTSTART:20260607T050000Z
DURATION:PT3H30M
SUMMARY:Hanshin Tigers vs Tohoku Rakuten Golden Eagles
LOCATION:阪神甲子園球場
DESCRIPTION:1
END:VEVENT
BEGIN:VEVENT
UID:2021038986@faceoff
DTSTART:20260609T090000Z
DURATION:PT3H30M
SUMMARY:Hanshin Tigers @ Fukuoka SoftBank Hawks
LOCATION:みずほPayPayドーム福岡
DESCRIPTION:1
END:VEVENT
BEGIN:VEVENT
UID:2021038992@faceoff
DTSTART:20260610T090000Z
DURATION:PT3H30M
SUMMARY:Hanshin Tigers @ Fukuoka SoftBank Hawks
LOCATION:みずほPayPayドーム福岡
DESCRIPTION:1
END:VEVENT
BEGIN:VEVENT
UID:2021038998@faceoff
DTSTART:20260611T090000Z
DURATION:PT3H30M
SUMMARY:Hanshin Tigers @ Fukuoka SoftBank Hawks
LOCATION:みずほPayPayドーム福岡
DESCRIPTION:1
END:VEVENT
BEGIN:VEVENT
UID:2021039003@faceoff
DTSTART:20260612T090000Z
DURATION:PT3H30M
SUMMARY:Hanshin Tigers @ ORIX Buffaloes
LOCATION:京セラドーム大阪
DESCRIPTION:1
END:VEVENT
BEGIN:VEVENT
UID:2021039009@faceoff
DTSTART:20260613T060000Z
DURATION:PT3H30M
SUMMARY:Hanshin Tigers @ ORIX Buffaloes
LOCATION:京セラドーム大阪
DESCRIPTION:1
END:VEVENT
BEGIN:VEVENT
UID:2021039015@faceoff
DTSTART:20260614T040000Z
DURATION:PT3H30M
SUMMARY:Hanshin Tigers @ ORIX Buffaloes
LOCATION:京セラドーム大阪
DESCRIPTION:1
END:VEVENT
BEGIN:VEVENT
UID:2021039019@faceoff
DTSTART:20260619T091500Z
DURATION:PT3H30M
SUMMARY:Hanshin Tigers @ Yokohama DeNA BayStars
LOCATION:横浜スタジアム
DESCRIPTION:1
END:VEVENT
BEGIN:VEVENT
UID:2021039025@faceoff
DTSTART:20260620T091500Z
DURATION:PT3H30M
SUMMARY:Hanshin Tigers @ Yokohama DeNA BayStars
LOCATION:横浜スタジアム
DESCRIPTION:1
END:VEVENT
BEGIN:VEVENT
UID:2021039031@faceoff
DTSTART:20260621T091500Z
DURATION:PT3H30M
SUMMARY:Hanshin Tigers @ Yokohama DeNA BayStars
LOCATION:横浜スタジアム
DESCRIPTION:1
END:VEVENT
BEGIN:VEVENT
UID:2021039037@faceoff
DTSTART:20260623T090000Z
DURATION:PT3H30M
SUMMARY:Hanshin Tigers vs Tokyo Yakult Swallows
LOCATION:阪神甲子園球場
DESCRIPTION:1
END:VEVENT
BEGIN:VEVENT
UID:2021039043@faceoff
DTSTART:20260624T090000Z
DURATION:PT3H30M
SUMMARY:Hanshin Tigers vs Tokyo Yakult Swallows
LOCATION:阪神甲子園球場
DESCRIPTION:1
END:VEVENT
BEGIN:VEVENT
UID:2021039048@faceoff
DTSTART:20260625T090000Z
DURATION:PT3H30M
SUMMARY:Hanshin Tigers vs Tokyo Yakult Swallows
LOCATION:阪神甲子園球場
DESCRIPTION:1
END:VEVENT
BEGIN:VEVENT
UID:2021039053@faceoff
DTSTART:20260626T090000Z
DURATION:PT3H30M
SUMMARY:Hanshin Tigers @ Hiroshima Toyo Carp
LOCATION:MAZDA Zoom-Zoom スタジアム広島
DESCRIPTION:1
END:VEVENT
BEGIN:VEVENT
UID:2021039058@faceoff
DTSTART:20260627T050000Z
DURATION:PT3H30M
SUMMARY:Hanshin Tigers @ Hiroshima Toyo Carp
LOCATION:MAZDA Zoom-Zoom スタジアム広島
DESCRIPTION:1
END:VEVENT
BEGIN:VEVENT
UID:2021039064@faceoff
DTSTART:20260628T050000Z
DURATION:PT3H30M
SUMMARY:Hanshin Tigers @ Hiroshima Toyo Carp
LOCATION:MAZDA Zoom-Zoom スタジアム広島
DESCRIPTION:1
END:VEVENT
BEGIN:VEVENT
UID:2021039070@faceoff
DTSTART:20260630T090000Z
DURATION:PT3H30M
SUMMARY:Hanshin Tigers vs Chunichi Dragons
LOCATION:阪神甲子園球場
DESCRIPTION:1
END:VEVENT
BEGIN:VEVENT
UID:2021039075@faceoff
DTSTART:20260701T090000Z
DURATION:PT3H30M
SUMMARY:Hanshin Tigers vs Chunichi Dragons
LOCATION:阪神甲子園球場
DESCRIPTION:1
END:VEVENT
BEGIN:VEVENT
UID:2021039079@faceoff
DTSTART:20260702T090000Z
DURATION:PT3H30M
SUMMARY:Hanshin Tigers vs Chunichi Dragons
LOCATION:阪神甲子園球場
DESCRIPTION:1
END:VEVENT
BEGIN:VEVENT
UID:2021039084@faceoff
DTSTART:20260703T090000Z
DURATION:PT3H30M
SUMMARY:Hanshin Tigers vs Hiroshima Toyo Carp
LOCATION:阪神甲子園球場
DESCRIPTION:1
END:VEVENT
BEGIN:VEVENT
UID:2021039090@faceoff
DTSTART:20260704T090000Z
DURATION:PT3H30M
SUMMARY:Hanshin Tigers vs Hiroshima Toyo Carp
LOCATION:阪神甲子園球場
DESCRIPTION:1
END:VEVENT
BEGIN:VEVENT
UID:2021039096@faceoff
DTSTART:20260705T090000Z
DURATION:PT3H30M
SUMMARY:Hanshin Tigers vs Hiroshima Toyo Carp
LOCATION:阪神甲子園球場
DESCRIPTION:1
END:VEVENT
BEGIN:VEVENT
UID:2021039100@faceoff
DTSTART:20260707T090000Z
DURATION:PT3H30M
SUMMARY:Hanshin Tigers @ Yomiuri Giants
LOCATION:東京ドーム
DESCRIPTION:1
END:VEVENT
BEGIN:VEVENT
UID:2021039106@faceoff
DTSTART:20260708T090000Z
DURATION:PT3H30M
SUMMARY:Hanshin Tigers @ Yomiuri Giants
LOCATION:東京ドーム
DESCRIPTION:1
END:VEVENT
BEGIN:VEVENT
UID:2021039112@faceoff
DTSTART:20260709T090000Z
DURATION:PT3H30M
SUMMARY:Hanshin Tigers @ Yomiuri Giants
LOCATION:東京ドーム
DESCRIPTION:1
END:VEVENT
BEGIN:VEVENT
UID:2021039117@faceoff
DTSTART:20260710T090000Z
DURATION:PT3H30M
SUMMARY:Hanshin Tigers vs Tokyo Yakult Swallows
LOCATION:阪神甲子園球場
DESCRIPTION:1
END:VEVENT
BEGIN:VEVENT
UID:2021039123@faceoff
DTSTART:20260711T090000Z
DURATION:PT3H30M
SUMMARY:Hanshin Tigers vs Tokyo Yakult Swallows
LOCATION:阪神甲子園球場
DESCRIPTION:1
END:VEVENT
BEGIN:VEVENT
UID:2021039129@faceoff
DTSTART:20260712T090000Z
DURATION:PT3H30M
SUMMARY:Hanshin Tigers vs Tokyo Yakult Swallows
LOCATION:阪神甲子園球場
DESCRIPTION:1
END:VEVENT
BEGIN:VEVENT
UID:2021039134@faceoff
DTSTART:20260714T090000Z
DURATION:PT3H30M
SUMMARY:Hanshin Tigers @ Chunichi Dragons
LOCATION:バンテリンドーム ナゴヤ
DESCRIPTION:1
END:VEVENT
BEGIN:VEVENT
UID:2021039140@faceoff
DTSTART:20260715T090000Z
DURATION:PT3H30M
SUMMARY:Hanshin Tigers @ Chunichi Dragons
LOCATION:バンテリンドーム ナゴヤ
DESCRIPTION:1
END:VEVENT
BEGIN:VEVENT
UID:2021039146@faceoff
DTSTART:20260716T090000Z
DURATION:PT3H30M
SUMMARY:Hanshin Tigers @ Chunichi Dragons
LOCATION:バンテリンドーム ナゴヤ
DESCRIPTION:1
END:VEVENT
BEGIN:VEVENT
UID:2021039152@faceoff
DTSTART:20260717T090000Z
DURATION:PT3H30M
SUMMARY:Hanshin Tigers @ Hiroshima Toyo Carp
LOCATION:MAZDA Zoom-Zoom スタジアム広島
DESCRIPTION:1
END:VEVENT
BEGIN:VEVENT
UID:2021039155@faceoff
DTSTART:20260718T090000Z
DURATION:PT3H30M
SUMMARY:Hanshin Tigers @ Hiroshima Toyo Carp
LOCATION:MAZDA Zoom-Zoom スタジアム広島
DESCRIPTION:1
END:VEVENT
BEGIN:VEVENT
UID:2021039161@faceoff
DTSTART:20260719T090000Z
DURATION:PT3H30M
SUMMARY:Hanshin Tigers @ Hiroshima Toyo Carp
LOCATION:MAZDA Zoom-Zoom スタジアム広島
DESCRIPTION:1
END:VEVENT
BEGIN:VEVENT
UID:2021039167@faceoff
DTSTART:20260720T090000Z
DURATION:PT3H30M
SUMMARY:Hanshin Tigers vs Yokohama DeNA BayStars
LOCATION:阪神甲子園球場
DESCRIPTION:1
END:VEVENT
BEGIN:VEVENT
UID:2021039173@faceoff
DTSTART:20260721T090000Z
DURATION:PT3H30M
SUMMARY:Hanshin Tigers vs Yokohama DeNA BayStars
LOCATION:阪神甲子園球場
DESCRIPTION:1
END:VEVENT
BEGIN:VEVENT
UID:2021039177@faceoff
DTSTART:20260722T090000Z
DURATION:PT3H30M
SUMMARY:Hanshin Tigers vs Yokohama DeNA BayStars
LOCATION:阪神甲子園球場
DESCRIPTION:1
END:VEVENT
BEGIN:VEVENT
UID:2021039186@faceoff
DTSTART:20260724T090000Z
DURATION:PT3H30M
SUMMARY:Hanshin Tigers vs Yomiuri Giants
LOCATION:阪神甲子園球場
DESCRIPTION:1
END:VEVENT
BEGIN:VEVENT
UID:2021039191@faceoff
DTSTART:20260725T090000Z
DURATION:PT3H30M
SUMMARY:Hanshin Tigers vs Yomiuri Giants
LOCATION:阪神甲子園球場
DESCRIPTION:1
END:VEVENT
BEGIN:VEVENT
UID:2021039197@faceoff
DTSTART:20260726T090000Z
DURATION:PT3H30M
SUMMARY:Hanshin Tigers vs Yomiuri Giants
LOCATION:阪神甲子園球場
DESCRIPTION:1
END:VEVENT
BEGIN:VEVENT
UID:2021039202@faceoff
DTSTART:20260731T090000Z
DURATION:PT3H30M
SUMMARY:Hanshin Tigers @ Tokyo Yakult Swallows
LOCATION:明治神宮野球場
DESCRIPTION:1
END:VEVENT
BEGIN:VEVENT
UID:2021039208@faceoff
DTSTART:20260801T090000Z
DURATION:PT3H30M
SUMMARY:Hanshin Tigers @ Tokyo Yakult Swallows
LOCATION:明治神宮野球場
DESCRIPTION:1
END:VEVENT
BEGIN:VEVENT
UID:2021039214@faceoff
DTSTART:20260802T090000Z
DURATION:PT3H30M
SUMMARY:Hanshin Tigers @ Tokyo Yakult Swallows
LOCATION:明治神宮野球場
DESCRIPTION:1
END:VEVENT
BEGIN:VEVENT
UID:2021039220@faceoff
DTSTART:20260804T084500Z
DURATION:PT3H30M
SUMMARY:Hanshin Tigers @ Yokohama DeNA BayStars
LOCATION:横浜スタジアム
DESCRIPTION:1
END:VEVENT
BEGIN:VEVENT
UID:2021039225@faceoff
DTSTART:20260805T084500Z
DURATION:PT3H30M
SUMMARY:Hanshin Tigers @ Yokohama DeNA BayStars
LOCATION:横浜スタジアム
DESCRIPTION:1
END:VEVENT
BEGIN:VEVENT
UID:2021039231@faceoff
DTSTART:20260806T084500Z
DURATION:PT3H30M
SUMMARY:Hanshin Tigers @ Yokohama DeNA BayStars
LOCATION:横浜スタジアム
DESCRIPTION:1
END:VEVENT
BEGIN:VEVENT
UID:2021039238@faceoff
DTSTART:20260807T090000Z
DURATION:PT3H30M
SUMMARY:Hanshin Tigers vs Chunichi Dragons
LOCATION:京セラドーム大阪
DESCRIPTION:1
END:VEVENT
BEGIN:VEVENT
UID:2021039244@faceoff
DTSTART:20260808T090000Z
DURATION:PT3H30M
SUMMARY:Hanshin Tigers vs Chunichi Dragons
LOCATION:京セラドーム大阪
DESCRIPTION:1
END:VEVENT
BEGIN:VEVENT
UID:2021039250@faceoff
DTSTART:20260809T090000Z
DURATION:PT3H30M
SUMMARY:Hanshin Tigers vs Chunichi Dragons
LOCATION:京セラドーム大阪
DESCRIPTION:1
END:VEVENT
BEGIN:VEVENT
UID:2021039254@faceoff
DTSTART:20260811T050000Z
DURATION:PT3H30M
SUMMARY:Hanshin Tigers @ Yomiuri Giants
LOCATION:東京ドーム
DESCRIPTION:1
END:VEVENT
BEGIN:VEVENT
UID:2021039260@faceoff
DTSTART:20260812T090000Z
DURATION:PT3H30M
SUMMARY:Hanshin Tigers @ Yomiuri Giants
LOCATION:東京ドーム
DESCRIPTION:1
END:VEVENT
BEGIN:VEVENT
UID:2021039266@faceoff
DTSTART:20260813T090000Z
DURATION:PT3H30M
SUMMARY:Hanshin Tigers @ Yomiuri Giants
LOCATION:東京ドーム
DESCRIPTION:1
END:VEVENT
BEGIN:VEVENT
UID:2021039274@faceoff
DTSTART:20260814T090000Z
DURATION:PT3H30M
SUMMARY:Hanshin Tigers @ Hiroshima Toyo Carp
LOCATION:MAZDA Zoom-Zoom スタジアム広島
DESCRIPTION:1
END:VEVENT
BEGIN:VEVENT
UID:2021039280@faceoff
DTSTART:20260815T090000Z
DURATION:PT3H30M
SUMMARY:Hanshin Tigers @ Hiroshima Toyo Carp
LOCATION:MAZDA Zoom-Zoom スタジアム広島
DESCRIPTION:1
END:VEVENT
BEGIN:VEVENT
UID:2021039286@faceoff
DTSTART:20260816T090000Z
DURATION:PT3H30M
SUMMARY:Hanshin Tigers @ Hiroshima Toyo Carp
LOCATION:MAZDA Zoom-Zoom スタジアム広島
DESCRIPTION:1
END:VEVENT
BEGIN:VEVENT
UID:2021039291@faceoff
DTSTART:20260818T090000Z
DURATION:PT3H30M
SUMMARY:Hanshin Tigers vs Tokyo Yakult Swallows
LOCATION:京セラドーム大阪
DESCRIPTION:1
END:VEVENT
BEGIN:VEVENT
UID:2021039297@faceoff
DTSTART:20260819T090000Z
DURATION:PT3H30M
SUMMARY:Hanshin Tigers vs Tokyo Yakult Swallows
LOCATION:京セラドーム大阪
DESCRIPTION:1
END:VEVENT
BEGIN:VEVENT
UID:2021039303@faceoff
DTSTART:20260820T090000Z
DURATION:PT3H30M
SUMMARY:Hanshin Tigers vs Tokyo Yakult Swallows
LOCATION:京セラドーム大阪
DESCRIPTION:1
END:VEVENT
BEGIN:VEVENT
UID:2021039309@faceoff
DTSTART:20260821T090000Z
DURATION:PT3H30M
SUMMARY:Hanshin Tigers @ Yokohama DeNA BayStars
LOCATION:横浜スタジアム
DESCRIPTION:1
END:VEVENT
BEGIN:VEVENT
UID:2021039314@faceoff
DTSTART:20260822T090000Z
DURATION:PT3H30M
SUMMARY:Hanshin Tigers @ Yokohama DeNA BayStars
LOCATION:横浜スタジアム
DESCRIPTION:1
END:VEVENT
BEGIN:VEVENT
UID:2021039320@faceoff
DTSTART:20260823T090000Z
DURATION:PT3H30M
SUMMARY:Hanshin Tigers @ Yokohama DeNA BayStars
LOCATION:横浜スタジアム
DESCRIPTION:1
END:VEVENT
BEGIN:VEVENT
UID:2021039326@faceoff
DTSTART:20260825T090000Z
DURATION:PT3H30M
SUMMARY:Hanshin Tigers @ Chunichi Dragons
LOCATION:バンテリンドーム ナゴヤ
DESCRIPTION:1
END:VEVENT
BEGIN:VEVENT
UID:2021039332@faceoff
DTSTART:20260826T090000Z
DURATION:PT3H30M
SUMMARY:Hanshin Tigers @ Chunichi Dragons
LOCATION:バンテリンドーム ナゴヤ
DESCRIPTION:1
END:VEVENT
BEGIN:VEVENT
UID:2021039338@faceoff
DTSTART:20260827T090000Z
DURATION:PT3H30M
SUMMARY:Hanshin Tigers @ Chunichi Dragons
LOCATION:バンテリンドーム ナゴヤ
DESCRIPTION:1
END:VEVENT
BEGIN:VEVENT
UID:2021039343@faceoff
DTSTART:20260828T090000Z
DURATION:PT3H30M
SUMMARY:Hanshin Tigers vs Yomiuri Giants
LOCATION:阪神甲子園球場
DESCRIPTION:1
END:VEVENT
BEGIN:VEVENT
UID:2021039349@faceoff
DTSTART:20260829T090000Z
DURATION:PT3H30M
SUMMARY:Hanshin Tigers vs Yomiuri Giants
LOCATION:阪神甲子園球場
DESCRIPTION:1
END:VEVENT
BEGIN:VEVENT
UID:2021039355@faceoff
DTSTART:20260830T090000Z
DURATION:PT3H30M
SUMMARY:Hanshin Tigers vs Yomiuri Giants
LOCATION:阪神甲子園球場
DESCRIPTION:1
END:VEVENT
BEGIN:VEVENT
UID:2021039361@faceoff
DTSTART:20260901T090000Z
DURATION:PT3H30M
SUMMARY:Hanshin Tigers @ Tokyo Yakult Swallows
LOCATION:明治神宮野球場
DESCRIPTION:1
END:VEVENT
BEGIN:VEVENT
UID:2021039367@faceoff
DTSTART:20260902T090000Z
DURATION:PT3H30M
SUMMARY:Hanshin Tigers @ Tokyo Yakult Swallows
LOCATION:明治神宮野球場
DESCRIPTION:1
END:VEVENT
BEGIN:VEVENT
UID:2021039371@faceoff
DTSTART:20260903T090000Z
DURATION:PT3H30M
SUMMARY:Hanshin Tigers @ Tokyo Yakult Swallows
LOCATION:明治神宮野球場
DESCRIPTION:1
END:VEVENT
BEGIN:VEVENT
UID:2021039379@faceoff
DTSTART:20260905T090000Z
DURATION:PT3H30M
SUMMARY:Hanshin Tigers vs Yokohama DeNA BayStars
LOCATION:阪神甲子園球場
DESCRIPTION:1
END:VEVENT
BEGIN:VEVENT
UID:2021039385@faceoff
DTSTART:20260906T090000Z
DURATION:PT3H30M
SUMMARY:Hanshin Tigers vs Yokohama DeNA BayStars
LOCATION:阪神甲子園球場
DESCRIPTION:1
END:VEVENT
BEGIN:VEVENT
UID:2021039392@faceoff
DTSTART:20260908T090000Z
DURATION:PT3H30M
SUMMARY:Hanshin Tigers vs Hiroshima Toyo Carp
LOCATION:阪神甲子園球場
DESCRIPTION:1
END:VEVENT
BEGIN:VEVENT
UID:2021039398@faceoff
DTSTART:20260909T090000Z
DURATION:PT3H30M
SUMMARY:Hanshin Tigers vs Hiroshima Toyo Carp
LOCATION:阪神甲子園球場
DESCRIPTION:1
END:VEVENT
BEGIN:VEVENT
UID:2021039404@faceoff
DTSTART:20260910T090000Z
DURATION:PT3H30M
SUMMARY:Hanshin Tigers vs Hiroshima Toyo Carp
LOCATION:阪神甲子園球場
DESCRIPTION:1
END:VEVENT
BEGIN:VEVENT
UID:2021039409@faceoff
DTSTART:20260912T050000Z
DURATION:PT3H30M
SUMMARY:Hanshin Tigers @ Yomiuri Giants
LOCATION:東京ドーム
DESCRIPTION:1
END:VEVENT
BEGIN:VEVENT
UID:2021039417@faceoff
DTSTART:20260913T090000Z
DURATION:PT3H30M
SUMMARY:Hanshin Tigers vs Chunichi Dragons
LOCATION:阪神甲子園球場
DESCRIPTION:1
END:VEVENT
BEGIN:VEVENT
UID:2021039430@faceoff
DTSTART:20260918T090000Z
DURATION:PT3H30M
SUMMARY:Hanshin Tigers vs Hiroshima Toyo Carp
LOCATION:阪神甲子園球場
DESCRIPTION:1
END:VEVENT
BEGIN:VEVENT
UID:2021039433@faceoff
DTSTART:20260919T090000Z
DURATION:PT3H30M
SUMMARY:Hanshin Tigers vs Hiroshima Toyo Carp
LOCATION:阪神甲子園球場
DESCRIPTION:1
END:VEVENT
BEGIN:VEVENT
UID:2021039439@faceoff
DTSTART:20260920T090000Z
DURATION:PT3H30M
SUMMARY:Hanshin Tigers vs Yokohama DeNA BayStars
LOCATION:阪神甲子園球場
DESCRIPTION:1
END:VEVENT
BEGIN:VEVENT
UID:2021039444@faceoff
DTSTART:20260921T050000Z
DURATION:PT3H30M
SUMMARY:Hanshin Tigers vs Yokohama DeNA BayStars
LOCATION:阪神甲子園球場
DESCRIPTION:1
END:VEVENT
BEGIN:VEVENT
UID:2021039448@faceoff
DTSTART:20260922T090000Z
DURATION:PT3H30M
SUMMARY:Hanshin Tigers @ Tokyo Yakult Swallows
LOCATION:明治神宮野球場
DESCRIPTION:1
END:VEVENT
BEGIN:VEVENT
UID:2021039453@faceoff
DTSTART:20260923T050000Z
DURATION:PT3H30M
SUMMARY:Hanshin Tigers @ Tokyo Yakult Swallows
LOCATION:明治神宮野球場
DESCRIPTION:1
END:VEVENT
END:VCALENDAR
