BEGIN:VCALENDAR
VERSION:2.0
X-WR-CALNAME:Tokyo Yakult Swallows Schedule
REFRESH-INTERVAL;VALUE=DURATION:PT1H
X-PUBLISHED-TTL:PT1H
BEGIN:VEVENT
UID:2021040017@faceoff
DTSTART:20260221T040000Z
DURATION:PT3H30M
SUMMARY:Tokyo Yakult Swallows @ Yomiuri Giants
LOCATION:沖縄セルラースタジアム那覇
DESCRIPTION:2
END:VEVENT
BEGIN:VEVENT
UID:2021040021@faceoff
DTSTART:20260222T040000Z
DURATION:PT3H30M
SUMMARY:Tokyo Yakult Swallows vs Hanshin Tigers
LOCATION:ANA BALL PARK浦添
DESCRIPTION:2
END:VEVENT
BEGIN:VEVENT
UID:2021040024@faceoff
DTSTART:20260223T040000Z
DURATION:PT3H30M
SUMMARY:Tokyo Yakult Swallows vs Hiroshima Toyo Carp
LOCATION:ANA BALL PARK浦添
DESCRIPTION:2
END:VEVENT
BEGIN:VEVENT
UID:2021040032@faceoff
DTSTART:20260303T090000Z
DURATION:PT3H30M
SUMMARY:Tokyo Yakult Swallows @ Fukuoka SoftBank Hawks
LOCATION:みずほPayPayドーム福岡
DESCRIPTION:2
END:VEVENT
BEGIN:VEVENT
UID:2021040037@faceoff
DTSTART:20260304T090000Z
DURATION:PT3H30M
SUMMARY:Tokyo Yakult Swallows @ Fukuoka SoftBank Hawks
LOCATION:みずほPayPayドーム福岡
DESCRIPTION:2
END:VEVENT
BEGIN:VEVENT
UID:2021040041@faceoff
DTSTART:20260305T040000Z
DURATION:PT3H30M
SUMMARY:Tokyo Yakult Swallows @ Fukuoka SoftBank Hawks
LOCATION:みずほPayPayドーム福岡
DESCRIPTION:2
END:VEVENT
BEGIN:VEVENT
UID:2021040046@faceoff
DTSTART:20260307T040000Z
DURATION:PT3H30M
SUMMARY:Tokyo Yakult Swallows @ Saitama Seibu Lions
LOCATION:高知県立春野運動公園野球場
DESCRIPTION:2
END:VEVENT
BEGIN:VEVENT
UID:2021040052@faceoff
DTSTART:20260308T030000Z
DURATION:PT3H30M
SUMMARY:Tokyo Yakult Swallows @ Saitama Seibu Lions
LOCATION:高知県立春野運動公園野球場
DESCRIPTION:2
END:VEVENT
BEGIN:VEVENT
UID:2021040058@faceoff
DTSTART:20260310T090000Z
DURATION:PT3H30M
SUMMARY:Tokyo Yakult Swallows @ Chunichi Dragons
LOCATION:バンテリンドーム ナゴヤ
DESCRIPTION:2
END:VEVENT
BEGIN:VEVENT
UID:2021040064@faceoff
DTSTART:20260311T090000Z
DURATION:PT3H30M
SUMMARY:Tokyo Yakult Swallows @ Chunichi Dragons
LOCATION:バンテリンドーム ナゴヤ
DESCRIPTION:2
END:VEVENT
BEGIN:VEVENT
UID:2021040071@faceoff
DTSTART:20260313T060000Z
DURATION:PT3H30M
SUMMARY:Tokyo Yakult Swallows vs ORIX Buffaloes
LOCATION:明治神宮野球場
DESCRIPTION:2
END:VEVENT
BEGIN:VEVENT
UID:2021040075@faceoff
DTSTART:20260314T060000Z
DURATION:PT3H30M
SUMMARY:Tokyo Yakult Swallows vs ORIX Buffaloes
LOCATION:明治神宮野球場
DESCRIPTION:2
END:VEVENT
BEGIN:VEVENT
UID:2021040081@faceoff
DTSTART:20260315T040000Z
DURATION:PT3H30M
SUMMARY:Tokyo Yakult Swallows vs ORIX Buffaloes
LOCATION:明治神宮野球場
DESCRIPTION:2
END:VEVENT
BEGIN:VEVENT
UID:2021040088@faceoff
DTSTART:20260317T090000Z
DURATION:PT3H30M
SUMMARY:Tokyo Yakult Swallows @ Yomiuri Giants
LOCATION:東京ドーム
DESCRIPTION:2
END:VEVENT
BEGIN:VEVENT
UID:2021040094@faceoff
DTSTART:20260318T090000Z
DURATION:PT3H30M
SUMMARY:Tokyo Yakult Swallows @ Yomiuri Giants
LOCATION:東京ドーム
DESCRIPTION:2
END:VEVENT
BEGIN:VEVENT
UID:2021040097@faceoff
DTSTART:20260320T050000Z
DURATION:PT3H30M
SUMMARY:Tokyo Yakult Swallows @ Hokkaido Nippon-Ham Fighters
LOCATION:エスコンフィールドHOKKAIDO
DESCRIPTION:2
END:VEVENT
BEGIN:VEVENT
UID:2021040103@faceoff
DTSTART:20260321T050000Z
DURATION:PT3H30M
SUMMARY:Tokyo Yakult Swallows @ Hokkaido Nippon-Ham Fighters
LOCATION:エスコンフィールドHOKKAIDO
DESCRIPTION:2
END:VEVENT
BEGIN:VEVENT
UID:2021040109@faceoff
DTSTART:20260322T040000Z
DURATION:PT3H30M
SUMMARY:Tokyo Yakult Swallows @ Hokkaido Nippon-Ham Fighters
LOCATION:エスコンフィールドHOKKAIDO
DESCRIPTION:2
END:VEVENT
BEGIN:VEVENT
UID:2021038623@faceoff
DTSTART:20260327T093000Z
DURATION:PT3H30M
SUMMARY:Tokyo Yakult Swallows @ Yokohama DeNA BayStars
LOCATION:横浜スタジアム
DESCRIPTION:2
END:VEVENT
BEGIN:VEVENT
UID:2021038629@faceoff
DTSTART:20260328T050000Z
DURATION:PT3H30M
SUMMARY:Tokyo Yakult Swallows @ Yokohama DeNA BayStars
LOCATION:横浜スタジアム
DESCRIPTION:2
END:VEVENT
BEGIN:VEVENT
UID:2021038635@faceoff
DTSTART:20260329T050000Z
DURATION:PT3H30M
SUMMARY:Tokyo Yakult Swallows @ Yokohama DeNA BayStars
LOCATION:横浜スタジアム
DESCRIPTION:2
END:VEVENT
BEGIN:VEVENT
UID:2021038640@faceoff
DTSTART:20260331T090000Z
DURATION:PT3H30M
SUMMARY:Tokyo Yakult Swallows vs Hiroshima Toyo Carp
LOCATION:明治神宮野球場
DESCRIPTION:2
END:VEVENT
BEGIN:VEVENT
UID:2021038646@faceoff
DTSTART:20260401T090000Z
DURATION:PT3H30M
SUMMARY:Tokyo Yakult Swallows vs Hiroshima Toyo Carp
LOCATION:明治神宮野球場
DESCRIPTION:4
END:VEVENT
BEGIN:VEVENT
UID:2021038652@faceoff
DTSTART:20260402T090000Z
DURATION:PT3H30M
SUMMARY:Tokyo Yakult Swallows vs Hiroshima Toyo Carp
LOCATION:明治神宮野球場
DESCRIPTION:2
END:VEVENT
BEGIN:VEVENT
UID:2021038659@faceoff
DTSTART:20260403T090000Z
DURATION:PT3H30M
SUMMARY:Tokyo Yakult Swallows vs Chunichi Dragons
LOCATION:明治神宮野球場
DESCRIPTION:2
END:VEVENT
BEGIN:VEVENT
UID:2021038665@faceoff
DTSTART:20260404T050000Z
DURATION:PT3H30M
SUMMARY:Tokyo Yakult Swallows vs Chunichi Dragons
LOCATION:明治神宮野球場
DESCRIPTION:2
END:VEVENT
BEGIN:VEVENT
UID:2021038671@faceoff
DTSTART:20260405T043000Z
DURATION:PT3H30M
SUMMARY:Tokyo Yakult Swallows vs Chunichi Dragons
LOCATION:明治神宮野球場
DESCRIPTION:2
END:VEVENT
BEGIN:VEVENT
UID:2021038677@faceoff
DTSTART:20260407T090000Z
DURATION:PT3H30M
SUMMARY:Tokyo Yakult Swallows @ Hanshin Tigers
LOCATION:阪神甲子園球場
DESCRIPTION:2
END:VEVENT
BEGIN:VEVENT
UID:2021038683@faceoff
DTSTART:20260408T090000Z
DURATION:PT3H30M
SUMMARY:Tokyo Yakult Swallows @ Hanshin Tigers
LOCATION:阪神甲子園球場
DESCRIPTION:2
END:VEVENT
BEGIN:VEVENT
UID:2021038688@faceoff
DTSTART:20260409T090000Z
DURATION:PT3H30M
SUMMARY:Tokyo Yakult Swallows @ Hanshin Tigers
LOCATION:阪神甲子園球場
DESCRIPTION:2
END:VEVENT
BEGIN:VEVENT
UID:2021038693@faceoff
DTSTART:20260410T090000Z
DURATION:PT3H30M
SUMMARY:Tokyo Yakult Swallows @ Yomiuri Giants
LOCATION:東京ドーム
DESCRIPTION:2
END:VEVENT
BEGIN:VEVENT
UID:2021038698@faceoff
DTSTART:20260411T090000Z
DURATION:PT3H30M
SUMMARY:Tokyo Yakult Swallows @ Yomiuri Giants
LOCATION:東京ドーム
DESCRIPTION:2
END:VEVENT
BEGIN:VEVENT
UID:2021038704@faceoff
DTSTART:20260412T050000Z
DURATION:PT3H30M
SUMMARY:Tokyo Yakult Swallows @ Yomiuri Giants
LOCATION:東京ドーム
DESCRIPTION:2
END:VEVENT
BEGIN:VEVENT
UID:2021038710@faceoff
DTSTART:20260414T090000Z
DURATION:PT3H30M
SUMMARY:Tokyo Yakult Swallows vs Yokohama DeNA BayStars
LOCATION:坊っちゃんスタジアム
DESCRIPTION:2
END:VEVENT
BEGIN:VEVENT
UID:2021038721@faceoff
DTSTART:20260416T090000Z
DURATION:PT3H30M
SUMMARY:Tokyo Yakult Swallows vs Yokohama DeNA BayStars
LOCATION:明治神宮野球場
DESCRIPTION:2
END:VEVENT
BEGIN:VEVENT
UID:2021038726@faceoff
DTSTART:20260417T090000Z
DURATION:PT3H30M
SUMMARY:Tokyo Yakult Swallows vs Yomiuri Giants
LOCATION:明治神宮野球場
DESCRIPTION:2
END:VEVENT
BEGIN:VEVENT
UID:2021038732@faceoff
DTSTART:20260418T090000Z
DURATION:PT3H30M
SUMMARY:Tokyo Yakult Swallows vs Yomiuri Giants
LOCATION:明治神宮野球場
DESCRIPTION:2
END:VEVENT
BEGIN:VEVENT
UID:2021038738@faceoff
DTSTART:20260419T090000Z
DURATION:PT3H30M
SUMMARY:Tokyo Yakult Swallows vs Yomiuri Giants
LOCATION:明治神宮野球場
DESCRIPTION:2
END:VEVENT
BEGIN:VEVENT
UID:2021038746@faceoff
DTSTART:20260421T090000Z
DURATION:PT3H30M
SUMMARY:Tokyo Yakult Swallows @ Hiroshima Toyo Carp
LOCATION:MAZDA Zoom-Zoom スタジアム広島
DESCRIPTION:2
END:VEVENT
BEGIN:VEVENT
UID:2021038752@faceoff
DTSTART:20260422T090000Z
DURATION:PT3H30M
SUMMARY:Tokyo Yakult Swallows @ Hiroshima Toyo Carp
LOCATION:MAZDA Zoom-Zoom スタジアム広島
DESCRIPTION:2
END:VEVENT
BEGIN:VEVENT
UID:2021038757@faceoff
DTSTART:20260423T090000Z
DURATION:PT3H30M
SUMMARY:Tokyo Yakult Swallows @ Hiroshima Toyo Carp
LOCATION:MAZDA Zoom-Zoom スタジアム広島
DESCRIPTION:2
END:VEVENT
BEGIN:VEVENT
UID:2021038762@faceoff
DTSTART:20260424T090000Z
DURATION:PT3H30M
SUMMARY:Tokyo Yakult Swallows @ Chunichi Dragons
LOCATION:バンテリンドーム ナゴヤ
DESCRIPTION:1
END:VEVENT
BEGIN:VEVENT
UID:2021038765@faceoff
DTSTART:20260425T050000Z
DURATION:PT3H30M
SUMMARY:Tokyo Yakult Swallows @ Chunichi Dragons
LOCATION:バンテリンドーム ナゴヤ
DESCRIPTION:1
END:VEVENT
BEGIN:VEVENT
UID:2021038771@faceoff
DTSTART:20260426T043000Z
DURATION:PT3H30M
SUMMARY:Tokyo Yakult Swallows @ Chunichi Dragons
LOCATION:バンテリンドーム ナゴヤ
DESCRIPTION:1
END:VEVENT
BEGIN:VEVENT
UID:2021038777@faceoff
DTSTART:20260428T090000Z
DURATION:PT3H30M
SUMMARY:Tokyo Yakult Swallows vs Hanshin Tigers
LOCATION:明治神宮野球場
DESCRIPTION:1
END:VEVENT
BEGIN:VEVENT
UID:2021038783@faceoff
DTSTART:20260429T050000Z
DURATION:PT3H30M
SUMMARY:Tokyo Yakult Swallows vs Hanshin Tigers
LOCATION:明治神宮野球場
DESCRIPTION:1
END:VEVENT
BEGIN:VEVENT
UID:2021038789@faceoff
DTSTART:20260430T090000Z
DURATION:PT3H30M
SUMMARY:Tokyo Yakult Swallows vs Hanshin Tigers
LOCATION:明治神宮野球場
DESCRIPTION:1
END:VEVENT
BEGIN:VEVENT
UID:2021038792@faceoff
DTSTART:20260501T090000Z
DURATION:PT3H30M
SUMMARY:Tokyo Yakult Swallows vs Yokohama DeNA BayStars
LOCATION:明治神宮野球場
DESCRIPTION:1
END:VEVENT
BEGIN:VEVENT
UID:2021038798@faceoff
DTSTART:20260502T090000Z
DURATION:PT3H30M
SUMMARY:Tokyo Yakult Swallows vs Yokohama DeNA BayStars
LOCATION:明治神宮野球場
DESCRIPTION:1
END:VEVENT
BEGIN:VEVENT
UID:2021038804@faceoff
DTSTART:20260503T090000Z
DURATION:PT3H30M
SUMMARY:Tokyo Yakult Swallows vs Yokohama DeNA BayStars
LOCATION:明治神宮野球場
DESCRIPTION:1
END:VEVENT
BEGIN:VEVENT
UID:2021038810@faceoff
DTSTART:20260504T090000Z
DURATION:PT3H30M
SUMMARY:Tokyo Yakult Swallows @ Yomiuri Giants
LOCATION:東京ドーム
DESCRIPTION:1
END:VEVENT
BEGIN:VEVENT
UID:2021038816@faceoff
DTSTART:20260505T050000Z
DURATION:PT3H30M
SUMMARY:Tokyo Yakult Swallows @ Yomiuri Giants
LOCATION:東京ドーム
DESCRIPTION:1
END:VEVENT
BEGIN:VEVENT
UID:2021038822@faceoff
DTSTART:20260506T050000Z
DURATION:PT3H30M
SUMMARY:Tokyo Yakult Swallows @ Yomiuri Giants
LOCATION:東京ドーム
DESCRIPTION:1
END:VEVENT
BEGIN:VEVENT
UID:2021038830@faceoff
DTSTART:20260508T090000Z
DURATION:PT3H30M
SUMMARY:Tokyo Yakult Swallows @ Hiroshima Toyo Carp
LOCATION:MAZDA Zoom-Zoom スタジアム広島
DESCRIPTION:1
END:VEVENT
BEGIN:VEVENT
UID:2021038836@faceoff
DTSTART:20260509T050000Z
DURATION:PT3H30M
SUMMARY:Tokyo Yakult Swallows @ Hiroshima Toyo Carp
LOCATION:MAZDA Zoom-Zoom スタジアム広島
DESCRIPTION:1
END:VEVENT
BEGIN:VEVENT
UID:2021038842@faceoff
DTSTART:20260510T043000Z
DURATION:PT3H30M
SUMMARY:Tokyo Yakult Swallows @ Hiroshima Toyo Carp
LOCATION:MAZDA Zoom-Zoom スタジアム広島
DESCRIPTION:1
END:VEVENT
BEGIN:VEVENT
UID:2021038847@faceoff
DTSTART:20260512T090000Z
DURATION:PT3H30M
SUMMARY:Tokyo Yakult Swallows vs Hanshin Tigers
LOCATION:明治神宮野球場
DESCRIPTION:1
END:VEVENT
BEGIN:VEVENT
UID:2021038853@faceoff
DTSTART:20260513T090000Z
DURATION:PT3H30M
SUMMARY:Tokyo Yakult Swallows vs Hanshin Tigers
LOCATION:明治神宮野球場
DESCRIPTION:1
END:VEVENT
BEGIN:VEVENT
UID:2021038861@faceoff
DTSTART:20260515T090000Z
DURATION:PT3H30M
SUMMARY:Tokyo Yakult Swallows @ Chunichi Dragons
LOCATION:バンテリンドーム ナゴヤ
DESCRIPTION:1
END:VEVENT
BEGIN:VEVENT
UID:2021038867@faceoff
DTSTART:20260516T050000Z
DURATION:PT3H30M
SUMMARY:Tokyo Yakult Swallows @ Chunichi Dragons
LOCATION:バンテリンドーム ナゴヤ
DESCRIPTION:1
END:VEVENT
BEGIN:VEVENT
UID:2021038873@faceoff
DTSTART:20260517T043000Z
DURATION:PT3H30M
SUMMARY:Tokyo Yakult Swallows @ Chunichi Dragons
LOCATION:バンテリンドーム ナゴヤ
DESCRIPTION:1
END:VEVENT
BEGIN:VEVENT
UID:2021038878@faceoff
DTSTART:20260519T090000Z
DURATION:PT3H30M
SUMMARY:Tokyo Yakult Swallows vs Yomiuri Giants
LOCATION:ヨークいわきスタジアム
DESCRIPTION:1
END:VEVENT
BEGIN:VEVENT
UID:2021038889@faceoff
DTSTART:20260521T090000Z
DURATION:PT3H30M
SUMMARY:Tokyo Yakult Swallows vs Yomiuri Giants
LOCATION:明治神宮野球場
DESCRIPTION:1
END:VEVENT
BEGIN:VEVENT
UID:2021038898@faceoff
DTSTART:20260523T050000Z
DURATION:PT3H30M
SUMMARY:Tokyo Yakult Swallows @ Yokohama DeNA BayStars
LOCATION:横浜スタジアム
DESCRIPTION:1
END:VEVENT
BEGIN:VEVENT
UID:2021038904@faceoff
DTSTART:20260524T050000Z
DURATION:PT3H30M
SUMMARY:Tokyo Yakult Swallows @ Yokohama DeNA BayStars
LOCATION:横浜スタジアム
DESCRIPTION:1
END:VEVENT
BEGIN:VEVENT
UID:2021038910@faceoff
DTSTART:20260526T090000Z
DURATION:PT3H30M
SUMMARY:Tokyo Yakult Swallows vs Saitama Seibu Lions
LOCATION:明治神宮野球場
DESCRIPTION:1
END:VEVENT
BEGIN:VEVENT
UID:2021038916@faceoff
DTSTART:20260527T090000Z
DURATION:PT3H30M
SUMMARY:Tokyo Yakult Swallows vs Saitama Seibu Lions
LOCATION:明治神宮野球場
DESCRIPTION:1
END:VEVENT
BEGIN:VEVENT
UID:2021038922@faceoff
DTSTART:20260528T090000Z
DURATION:PT3H30M
SUMMARY:Tokyo Yakult Swallows vs Saitama Seibu Lions
LOCATION:明治神宮野球場
DESCRIPTION:1
END:VEVENT
BEGIN:VEVENT
UID:2021038928@faceoff
DTSTART:20260529T090000Z
DURATION:PT3H30M
SUMMARY:Tokyo Yakult Swallows @ Tohoku Rakuten Golden Eagles
LOCATION:楽天モバイル 最強パーク宮城
DESCRIPTION:1
END:VEVENT
BEGIN:VEVENT
UID:2021038934@faceoff
DTSTART:20260530T050000Z
DURATION:PT3H30M
SUMMARY:Tokyo Yakult Swallows @ Tohoku Rakuten Golden Eagles
LOCATION:楽天モバイル 最強パーク宮城
DESCRIPTION:1
END:VEVENT
BEGIN:VEVENT
UID:2021038940@faceoff
DTSTART:20260531T040000Z
DURATION:PT3H30M
SUMMARY:Tokyo Yakult Swallows @ Tohoku Rakuten Golden Eagles
LOCATION:楽天モバイル 最強パーク宮城
DESCRIPTION:1
END:VEVENT
BEGIN:VEVENT
UID:2021038946@faceoff
DTSTART:20260602T090000Z
DURATION:PT3H30M
SUMMARY:Tokyo Yakult Swallows vs Chiba Lotte Marines
LOCATION:明治神宮野球場
DESCRIPTION:1
END:VEVENT
BEGIN:VEVENT
UID:2021038952@faceoff
DTSTART:20260603T090000Z
DURATION:PT3H30M
SUMMARY:Tokyo Yakult Swallows vs Chiba Lotte Marines
LOCATION:明治神宮野球場
DESCRIPTION:1
END:VEVENT
BEGIN:VEVENT
UID:2021038958@faceoff
DTSTART:20260604T090000Z
DURATION:PT3H30M
SUMMARY:Tokyo Yakult Swallows vs Chiba Lotte Marines
LOCATION:明治神宮野球場
DESCRIPTION:1
END:VEVENT
BEGIN:VEVENT
UID:2021038964@faceoff
DTSTART:20260605T090000Z
DURATION:PT3H30M
SUMMARY:Tokyo Yakult Swallows vs Hokkaido Nippon-Ham Fighters
LOCATION:明治神宮野球場
DESCRIPTION:1
END:VEVENT
BEGIN:VEVENT
UID:2021038970@faceoff
DTSTART:20260606T050000Z
DURATION:PT3H30M
SUMMARY:Tokyo Yakult Swallows vs Hokkaido Nippon-Ham Fighters
LOCATION:明治神宮野球場
DESCRIPTION:1
END:VEVENT
BEGIN:VEVENT
UID:2021038976@faceoff
DTSTART:20260607T050000Z
DURATION:PT3H30M
SUMMARY:Tokyo Yakult Swallows vs Hokkaido Nippon-Ham Fighters
LOCATION:明治神宮野球場
DESCRIPTION:1
END:VEVENT
BEGIN:VEVENT
UID:2021038985@faceoff
DTSTART:20260609T090000Z
DURATION:PT3H30M
SUMMARY:Tokyo Yakult Swallows @ ORIX Buffaloes
LOCATION:京セラドーム大阪
DESCRIPTION:1
END:VEVENT
BEGIN:VEVENT
UID:2021038991@faceoff
DTSTART:20260610T090000Z
DURATION:PT3H30M
SUMMARY:Tokyo Yakult Swallows @ ORIX Buffaloes
LOCATION:京セラドーム大阪
DESCRIPTION:1
END:VEVENT
BEGIN:VEVENT
UID:2021038997@faceoff
DTSTART:20260611T090000Z
DURATION:PT3H30M
SUMMARY:Tokyo Yakult Swallows @ ORIX Buffaloes
LOCATION:京セラドーム大阪
DESCRIPTION:1
END:VEVENT
BEGIN:VEVENT
UID:2021039004@faceoff
DTSTART:20260612T090000Z
DURATION:PT3H30M
SUMMARY:Tokyo Yakult Swallows @ Fukuoka SoftBank Hawks
LOCATION:みずほPayPayドーム福岡
DESCRIPTION:1
END:VEVENT
BEGIN:VEVENT
UID:2021039010@faceoff
DTSTART:20260613T050000Z
DURATION:PT3H30M
SUMMARY:Tokyo Yakult Swallows @ Fukuoka SoftBank Hawks
LOCATION:みずほPayPayドーム福岡
DESCRIPTION:1
END:VEVENT
BEGIN:VEVENT
UID:2021039016@faceoff
DTSTART:20260614T040000Z
DURATION:PT3H30M
SUMMARY:Tokyo Yakult Swallows @ Fukuoka SoftBank Hawks
LOCATION:みずほPayPayドーム福岡
DESCRIPTION:1
END:VEVENT
BEGIN:VEVENT
UID:2021039018@faceoff
DTSTART:20260619T090000Z
DURATION:PT3H30M
SUMMARY:Tokyo Yakult Swallows vs Hiroshima Toyo Carp
LOCATION:明治神宮野球場
DESCRIPTION:1
END:VEVENT
BEGIN:VEVENT
UID:2021039024@faceoff
DTSTART:20260620T050000Z
DURATION:PT3H30M
SUMMARY:Tokyo Yakult Swallows vs Hiroshima Toyo Carp
LOCATION:明治神宮野球場
DESCRIPTION:1
END:VEVENT
BEGIN:VEVENT
UID:2021039030@faceoff
DTSTART:20260621T043000Z
DURATION:PT3H30M
SUMMARY:Tokyo Yakult Swallows vs Hiroshima Toyo Carp
LOCATION:明治神宮野球場
DESCRIPTION:1
END:VEVENT
BEGIN:VEVENT
UID:2021039037@faceoff
DTSTART:20260623T090000Z
DURATION:PT3H30M
SUMMARY:Tokyo Yakult Swallows @ Hanshin Tigers
LOCATION:阪神甲子園球場
DESCRIPTION:1
END:VEVENT
BEGIN:VEVENT
UID:2021039043@faceoff
DTSTART:20260624T090000Z
DURATION:PT3H30M
SUMMARY:Tokyo Yakult Swallows @ Hanshin Tigers
LOCATION:阪神甲子園球場
DESCRIPTION:1
END:VEVENT
BEGIN:VEVENT
UID:2021039048@faceoff
DTSTART:20260625T090000Z
DURATION:PT3H30M
SUMMARY:Tokyo Yakult Swallows @ Hanshin Tigers
LOCATION:阪神甲子園球場
DESCRIPTION:1
END:VEVENT
BEGIN:VEVENT
UID:2021039051@faceoff
DTSTART:20260626T090000Z
DURATION:PT3H30M
SUMMARY:Tokyo Yakult Swallows vs Chunichi Dragons
LOCATION:明治神宮野球場
DESCRIPTION:1
END:VEVENT
BEGIN:VEVENT
UID:2021039056@faceoff
DTSTART:20260627T090000Z
DURATION:PT3H30M
SUMMARY:Tokyo Yakult Swallows vs Chunichi Dragons
LOCATION:明治神宮野球場
DESCRIPTION:1
END:VEVENT
BEGIN:VEVENT
UID:2021039062@faceoff
DTSTART:20260628T080000Z
DURATION:PT3H30M
SUMMARY:Tokyo Yakult Swallows vs Chunichi Dragons
LOCATION:明治神宮野球場
DESCRIPTION:1
END:VEVENT
BEGIN:VEVENT
UID:2021039068@faceoff
DTSTART:20260630T090000Z
DURATION:PT3H30M
SUMMARY:Tokyo Yakult Swallows @ Yomiuri Giants
LOCATION:はるか夢球場
DESCRIPTION:1
END:VEVENT
BEGIN:VEVENT
UID:2021039074@faceoff
DTSTART:20260701T090000Z
DURATION:PT3H30M
SUMMARY:Tokyo Yakult Swallows @ Yomiuri Giants
LOCATION:きたぎんボールパーク
DESCRIPTION:1
END:VEVENT
BEGIN:VEVENT
UID:2021039082@faceoff
DTSTART:20260703T090000Z
DURATION:PT3H30M
SUMMARY:Tokyo Yakult Swallows vs Yokohama DeNA BayStars
LOCATION:明治神宮野球場
DESCRIPTION:1
END:VEVENT
BEGIN:VEVENT
UID:2021039088@faceoff
DTSTART:20260704T090000Z
DURATION:PT3H30M
SUMMARY:Tokyo Yakult Swallows vs Yokohama DeNA BayStars
LOCATION:明治神宮野球場
DESCRIPTION:1
END:VEVENT
BEGIN:VEVENT
UID:2021039094@faceoff
DTSTART:20260705T090000Z
DURATION:PT3H30M
SUMMARY:Tokyo Yakult Swallows vs Yokohama DeNA BayStars
LOCATION:明治神宮野球場
DESCRIPTION:1
END:VEVENT
BEGIN:VEVENT
UID:2021039102@faceoff
DTSTART:20260707T090000Z
DURATION:PT3H30M
SUMMARY:Tokyo Yakult Swallows @ Hiroshima Toyo Carp
LOCATION:MAZDA Zoom-Zoom スタジアム広島
DESCRIPTION:1
END:VEVENT
BEGIN:VEVENT
UID:2021039108@faceoff
DTSTART:20260708T090000Z
DURATION:PT3H30M
SUMMARY:Tokyo Yakult Swallows @ Hiroshima Toyo Carp
LOCATION:MAZDA Zoom-Zoom スタジアム広島
DESCRIPTION:1
END:VEVENT
BEGIN:VEVENT
UID:2021039114@faceoff
DTSTART:20260709T090000Z
DURATION:PT3H30M
SUMMARY:Tokyo Yakult Swallows @ Hiroshima Toyo Carp
LOCATION:MAZDA Zoom-Zoom スタジアム広島
DESCRIPTION:1
END:VEVENT
BEGIN:VEVENT
UID:2021039117@faceoff
DTSTART:20260710T090000Z
DURATION:PT3H30M
SUMMARY:Tokyo Yakult Swallows @ Hanshin Tigers
LOCATION:阪神甲子園球場
DESCRIPTION:1
END:VEVENT
BEGIN:VEVENT
UID:2021039123@faceoff
DTSTART:20260711T090000Z
DURATION:PT3H30M
SUMMARY:Tokyo Yakult Swallows @ Hanshin Tigers
LOCATION:阪神甲子園球場
DESCRIPTION:1
END:VEVENT
BEGIN:VEVENT
UID:2021039129@faceoff
DTSTART:20260712T090000Z
DURATION:PT3H30M
SUMMARY:Tokyo Yakult Swallows @ Hanshin Tigers
LOCATION:阪神甲子園球場
DESCRIPTION:1
END:VEVENT
BEGIN:VEVENT
UID:2021039133@faceoff
DTSTART:20260714T090000Z
DURATION:PT3H30M
SUMMARY:Tokyo Yakult Swallows vs Yomiuri Giants
LOCATION:明治神宮野球場
DESCRIPTION:1
END:VEVENT
BEGIN:VEVENT
UID:2021039139@faceoff
DTSTART:20260715T090000Z
DURATION:PT3H30M
SUMMARY:Tokyo Yakult Swallows vs Yomiuri Giants
LOCATION:明治神宮野球場
DESCRIPTION:1
END:VEVENT
BEGIN:VEVENT
UID:2021039145@faceoff
DTSTART:20260716T090000Z
DURATION:PT3H30M
SUMMARY:Tokyo Yakult Swallows vs Yomiuri Giants
LOCATION:明治神宮野球場
DESCRIPTION:1
END:VEVENT
BEGIN:VEVENT
UID:2021039151@faceoff
DTSTART:20260717T090000Z
DURATION:PT3H30M
SUMMARY:Tokyo Yakult Swallows @ Yokohama DeNA BayStars
LOCATION:横浜スタジアム
DESCRIPTION:1
END:VEVENT
BEGIN:VEVENT
UID:2021039154@faceoff
DTSTART:20260718T090000Z
DURATION:PT3H30M
SUMMARY:Tokyo Yakult Swallows @ Yokohama DeNA BayStars
LOCATION:横浜スタジアム
DESCRIPTION:1
END:VEVENT
BEGIN:VEVENT
UID:2021039160@faceoff
DTSTART:20260719T090000Z
DURATION:PT3H30M
SUMMARY:Tokyo Yakult Swallows @ Yokohama DeNA BayStars
LOCATION:横浜スタジアム
DESCRIPTION:1
END:VEVENT
BEGIN:VEVENT
UID:2021039166@faceoff
DTSTART:20260720T090000Z
DURATION:PT3H30M
SUMMARY:Tokyo Yakult Swallows vs Chunichi Dragons
LOCATION:明治神宮野球場
DESCRIPTION:1
END:VEVENT
BEGIN:VEVENT
UID:2021039172@faceoff
DTSTART:20260721T090000Z
DURATION:PT3H30M
SUMMARY:Tokyo Yakult Swallows vs Chunichi Dragons
LOCATION:明治神宮野球場
DESCRIPTION:1
END:VEVENT
BEGIN:VEVENT
UID:2021039176@faceoff
DTSTART:20260722T090000Z
DURATION:PT3H30M
SUMMARY:Tokyo Yakult Swallows vs Chunichi Dragons
LOCATION:明治神宮野球場
DESCRIPTION:1
END:VEVENT
BEGIN:VEVENT
UID:2021039184@faceoff
DTSTART:20260724T090000Z
DURATION:PT3H30M
SUMMARY:Tokyo Yakult Swallows vs Hiroshima Toyo Carp
LOCATION:明治神宮野球場
DESCRIPTION:1
END:VEVENT
BEGIN:VEVENT
UID:2021039189@faceoff
DTSTART:20260725T090000Z
DURATION:PT3H30M
SUMMARY:Tokyo Yakult Swallows vs Hiroshima Toyo Carp
LOCATION:明治神宮野球場
DESCRIPTION:1
END:VEVENT
BEGIN:VEVENT
UID:2021039195@faceoff
DTSTART:20260726T090000Z
DURATION:PT3H30M
SUMMARY:Tokyo Yakult Swallows vs Hiroshima Toyo Carp
LOCATION:明治神宮野球場
DESCRIPTION:1
END:VEVENT
BEGIN:VEVENT
UID:2021039202@faceoff
DTSTART:20260731T090000Z
DURATION:PT3H30M
SUMMARY:Tokyo Yakult Swallows vs Hanshin Tigers
LOCATION:明治神宮野球場
DESCRIPTION:1
END:VEVENT
BEGIN:VEVENT
UID:2021039208@faceoff
DTSTART:20260801T090000Z
DURATION:PT3H30M
SUMMARY:Tokyo Yakult Swallows vs Hanshin Tigers
LOCATION:明治神宮野球場
DESCRIPTION:1
END:VEVENT
BEGIN:VEVENT
UID:2021039214@faceoff
DTSTART:20260802T090000Z
DURATION:PT3H30M
SUMMARY:Tokyo Yakult Swallows vs Hanshin Tigers
LOCATION:明治神宮野球場
DESCRIPTION:1
END:VEVENT
BEGIN:VEVENT
UID:2021039221@faceoff
DTSTART:20260804T090000Z
DURATION:PT3H30M
SUMMARY:Tokyo Yakult Swallows @ Chunichi Dragons
LOCATION:バンテリンドーム ナゴヤ
DESCRIPTION:1
END:VEVENT
BEGIN:VEVENT
UID:2021039226@faceoff
DTSTART:20260805T090000Z
DURATION:PT3H30M
SUMMARY:Tokyo Yakult Swallows @ Chunichi Dragons
LOCATION:バンテリンドーム ナゴヤ
DESCRIPTION:1
END:VEVENT
BEGIN:VEVENT
UID:2021039232@faceoff
DTSTART:20260806T090000Z
DURATION:PT3H30M
SUMMARY:Tokyo Yakult Swallows @ Chunichi Dragons
LOCATION:バンテリンドーム ナゴヤ
DESCRIPTION:1
END:VEVENT
BEGIN:VEVENT
UID:2021039236@faceoff
DTSTART:20260807T090000Z
DURATION:PT3H30M
SUMMARY:Tokyo Yakult Swallows @ Yomiuri Giants
LOCATION:東京ドーム
DESCRIPTION:1
END:VEVENT
BEGIN:VEVENT
UID:2021039242@faceoff
DTSTART:20260808T060000Z
DURATION:PT3H30M
SUMMARY:Tokyo Yakult Swallows @ Yomiuri Giants
LOCATION:東京ドーム
DESCRIPTION:1
END:VEVENT
BEGIN:VEVENT
UID:2021039248@faceoff
DTSTART:20260809T050000Z
DURATION:PT3H30M
SUMMARY:Tokyo Yakult Swallows @ Yomiuri Giants
LOCATION:東京ドーム
DESCRIPTION:1
END:VEVENT
BEGIN:VEVENT
UID:2021039255@faceoff
DTSTART:20260811T090000Z
DURATION:PT3H30M
SUMMARY:Tokyo Yakult Swallows vs Hiroshima Toyo Carp
LOCATION:明治神宮野球場
DESCRIPTION:1
END:VEVENT
BEGIN:VEVENT
UID:2021039261@faceoff
DTSTART:20260812T090000Z
DURATION:PT3H30M
SUMMARY:Tokyo Yakult Swallows vs Hiroshima Toyo Carp
LOCATION:明治神宮野球場
DESCRIPTION:1
END:VEVENT
BEGIN:VEVENT
UID:2021039267@faceoff
DTSTART:20260813T090000Z
DURATION:PT3H30M
SUMMARY:Tokyo Yakult Swallows vs Hiroshima Toyo Carp
LOCATION:明治神宮野球場
DESCRIPTION:1
END:VEVENT
BEGIN:VEVENT
UID:2021039272@faceoff
DTSTART:20260814T090000Z
DURATION:PT3H30M
SUMMARY:Tokyo Yakult Swallows vs Yokohama DeNA BayStars
LOCATION:明治神宮野球場
DESCRIPTION:1
END:VEVENT
BEGIN:VEVENT
UID:2021039278@faceoff
DTSTART:20260815T090000Z
DURATION:PT3H30M
SUMMARY:Tokyo Yakult Swallows vs Yokohama DeNA BayStars
LOCATION:明治神宮野球場
DESCRIPTION:1
END:VEVENT
BEGIN:VEVENT
UID:2021039284@faceoff
DTSTART:20260816T090000Z
DURATION:PT3H30M
SUMMARY:Tokyo Yakult Swallows vs Yokohama DeNA BayStars
LOCATION:明治神宮野球場
DESCRIPTION:1
END:VEVENT
BEGIN:VEVENT
UID:2021039291@faceoff
DTSTART:20260818T090000Z
DURATION:PT3H30M
SUMMARY:Tokyo Yakult Swallows @ Hanshin Tigers
LOCATION:京セラドーム大阪
DESCRIPTION:1
END:VEVENT
BEGIN:VEVENT
UID:2021039297@faceoff
DTSTART:20260819T090000Z
DURATION:PT3H30M
SUMMARY:Tokyo Yakult Swallows @ Hanshin Tigers
LOCATION:京セラドーム大阪
DESCRIPTION:1
END:VEVENT
BEGIN:VEVENT
UID:2021039303@faceoff
DTSTART:20260820T090000Z
DURATION:PT3H30M
SUMMARY:Tokyo Yakult Swallows @ Hanshin Tigers
LOCATION:京セラドーム大阪
DESCRIPTION:1
END:VEVENT
BEGIN:VEVENT
UID:2021039310@faceoff
DTSTART:20260821T090000Z
DURATION:PT3H30M
SUMMARY:Tokyo Yakult Swallows @ Chunichi Dragons
LOCATION:バンテリンドーム ナゴヤ
DESCRIPTION:1
END:VEVENT
BEGIN:VEVENT
UID:2021039315@faceoff
DTSTART:20260822T050000Z
DURATION:PT3H30M
SUMMARY:Tokyo Yakult Swallows @ Chunichi Dragons
LOCATION:バンテリンドーム ナゴヤ
DESCRIPTION:1
END:VEVENT
BEGIN:VEVENT
UID:2021039321@faceoff
DTSTART:20260823T043000Z
DURATION:PT3H30M
SUMMARY:Tokyo Yakult Swallows @ Chunichi Dragons
LOCATION:バンテリンドーム ナゴヤ
DESCRIPTION:1
END:VEVENT
BEGIN:VEVENT
UID:2021039325@faceoff
DTSTART:20260825T090000Z
DURATION:PT3H30M
SUMMARY:Tokyo Yakult Swallows vs Yomiuri Giants
LOCATION:明治神宮野球場
DESCRIPTION:1
END:VEVENT
BEGIN:VEVENT
UID:2021039331@faceoff
DTSTART:20260826T090000Z
DURATION:PT3H30M
SUMMARY:Tokyo Yakult Swallows vs Yomiuri Giants
LOCATION:明治神宮野球場
DESCRIPTION:1
END:VEVENT
BEGIN:VEVENT
UID:2021039337@faceoff
DTSTART:20260827T090000Z
DURATION:PT3H30M
SUMMARY:Tokyo Yakult Swallows vs Yomiuri Giants
LOCATION:明治神宮野球場
DESCRIPTION:1
END:VEVENT
BEGIN:VEVENT
UID:2021039344@faceoff
DTSTART:20260828T090000Z
DURATION:PT3H30M
SUMMARY:Tokyo Yakult Swallows @ Hiroshima Toyo Carp
LOCATION:MAZDA Zoom-Zoom スタジアム広島
DESCRIPTION:1
END:VEVENT
BEGIN:VEVENT
UID:2021039350@faceoff
DTSTART:20260829T090000Z
DURATION:PT3H30M
SUMMARY:Tokyo Yakult Swallows @ Hiroshima Toyo Carp
LOCATION:MAZDA Zoom-Zoom スタジアム広島
DESCRIPTION:1
END:VEVENT
BEGIN:VEVENT
UID:2021039356@faceoff
DTSTART:20260830T090000Z
DURATION:PT3H30M
SUMMARY:Tokyo Yakult Swallows @ Hiroshima Toyo Carp
LOCATION:MAZDA Zoom-Zoom スタジアム広島
DESCRIPTION:1
END:VEVENT
BEGIN:VEVENT
UID:2021039361@faceoff
DTSTART:20260901T090000Z
DURATION:PT3H30M
SUMMARY:Tokyo Yakult Swallows vs Hanshin Tigers
LOCATION:明治神宮野球場
DESCRIPTION:1
END:VEVENT
BEGIN:VEVENT
UID:2021039367@faceoff
DTSTART:20260902T090000Z
DURATION:PT3H30M
SUMMARY:Tokyo Yakult Swallows vs Hanshin Tigers
LOCATION:明治神宮野球場
DESCRIPTION:1
END:VEVENT
BEGIN:VEVENT
UID:2021039371@faceoff
DTSTART:20260903T090000Z
DURATION:PT3H30M
SUMMARY:Tokyo Yakult Swallows vs Hanshin Tigers
LOCATION:明治神宮野球場
DESCRIPTION:1
END:VEVENT
BEGIN:VEVENT
UID:2021039373@faceoff
DTSTART:20260904T090000Z
DURATION:PT3H30M
SUMMARY:Tokyo Yakult Swallows vs Chunichi Dragons
LOCATION:明治神宮野球場
DESCRIPTION:1
END:VEVENT
BEGIN:VEVENT
UID:2021039378@faceoff
DTSTART:20260905T090000Z
DURATION:PT3H30M
SUMMARY:Tokyo Yakult Swallows vs Chunichi Dragons
LOCATION:明治神宮野球場
DESCRIPTION:1
END:VEVENT
BEGIN:VEVENT
UID:2021039384@faceoff
DTSTART:20260906T080000Z
DURATION:PT3H30M
SUMMARY:Tokyo Yakult Swallows vs Chunichi Dragons
LOCATION:明治神宮野球場
DESCRIPTION:1
END:VEVENT
BEGIN:VEVENT
UID:2021039391@faceoff
DTSTART:20260908T090000Z
DURATION:PT3H30M
SUMMARY:Tokyo Yakult Swallows @ Yokohama DeNA BayStars
LOCATION:横浜スタジアム
DESCRIPTION:1
END:VEVENT
BEGIN:VEVENT
UID:2021039397@faceoff
DTSTART:20260909T090000Z
DURATION:PT3H30M
SUMMARY:Tokyo Yakult Swallows @ Yokohama DeNA BayStars
LOCATION:横浜スタジアム
DESCRIPTION:1
END:VEVENT
BEGIN:VEVENT
UID:2021039403@faceoff
DTSTART:20260910T090000Z
DURATION:PT3H30M
SUMMARY:Tokyo Yakult Swallows @ Yokohama DeNA BayStars
LOCATION:横浜スタジアム
DESCRIPTION:1
END:VEVENT
BEGIN:VEVENT
UID:2021039410@faceoff
DTSTART:20260912T050000Z
DURATION:PT3H30M
SUMMARY:Tokyo Yakult Swallows @ Chunichi Dragons
LOCATION:バンテリンドーム ナゴヤ
DESCRIPTION:1
END:VEVENT
BEGIN:VEVENT
UID:2021039415@faceoff
DTSTART:20260913T090000Z
DURATION:PT3H30M
SUMMARY:Tokyo Yakult Swallows vs Hiroshima Toyo Carp
LOCATION:明治神宮野球場
DESCRIPTION:1
END:VEVENT
BEGIN:VEVENT
UID:2021042970@faceoff
DTSTART:20260914T090000Z
DURATION:PT3H30M
SUMMARY:Tokyo Yakult Swallows vs Hiroshima Toyo Carp
LOCATION:明治神宮野球場
DESCRIPTION:1
END:VEVENT
BEGIN:VEVENT
UID:2021039429@faceoff
DTSTART:20260918T090000Z
DURATION:PT3H30M
SUMMARY:Tokyo Yakult Swallows @ Yokohama DeNA BayStars
LOCATION:横浜スタジアム
DESCRIPTION:1
END:VEVENT
BEGIN:VEVENT
UID:2021039432@faceoff
DTSTART:20260919T090000Z
DURATION:PT3H30M
SUMMARY:Tokyo Yakult Swallows @ Yokohama DeNA BayStars
LOCATION:横浜スタジアム
DESCRIPTION:1
END:VEVENT
BEGIN:VEVENT
UID:2021039437@faceoff
DTSTART:20260920T050000Z
DURATION:PT3H30M
SUMMARY:Tokyo Yakult Swallows @ Yomiuri Giants
LOCATION:東京ドーム
DESCRIPTION:1
END:VEVENT
BEGIN:VEVENT
UID:2021039448@faceoff
DTSTART:20260922T090000Z
DURATION:PT3H30M
SUMMARY:Tokyo Yakult Swallows vs Hanshin Tigers
LOCATION:明治神宮野球場
DESCRIPTION:1
END:VEVENT
BEGIN:VEVENT
UID:2021039453@faceoff
DTSTART:20260923T050000Z
DURATION:PT3H30M
SUMMARY:Tokyo Yakult Swallows vs Hanshin Tigers
LOCATION:明治神宮野球場
DESCRIPTION:1
END:VEVENT
END:VCALENDAR
