BEGIN:VCALENDAR
VERSION:2.0
X-WR-CALNAME:Saitama Seibu Lions Schedule
REFRESH-INTERVAL;VALUE=DURATION:PT1H
X-PUBLISHED-TTL:PT1H
BEGIN:VEVENT
UID:2021040027@faceoff
DTSTART:20260228T040000Z
DURATION:PT3H30M
SUMMARY:Saitama Seibu Lions @ Chiba Lotte Marines
LOCATION:コアラのマーチスタジアム
DESCRIPTION:2
END:VEVENT
BEGIN:VEVENT
UID:2021040030@faceoff
DTSTART:20260301T033000Z
DURATION:PT3H30M
SUMMARY:Saitama Seibu Lions @ Fukuoka SoftBank Hawks
LOCATION:宮崎市生目の杜運動公園アイビースタジアム
DESCRIPTION:2
END:VEVENT
BEGIN:VEVENT
UID:2021040033@faceoff
DTSTART:20260304T090000Z
DURATION:PT3H30M
SUMMARY:Saitama Seibu Lions @ Hokkaido Nippon-Ham Fighters
LOCATION:エスコンフィールドHOKKAIDO
DESCRIPTION:2
END:VEVENT
BEGIN:VEVENT
UID:2021040038@faceoff
DTSTART:20260305T090000Z
DURATION:PT3H30M
SUMMARY:Saitama Seibu Lions @ Hokkaido Nippon-Ham Fighters
LOCATION:エスコンフィールドHOKKAIDO
DESCRIPTION:2
END:VEVENT
BEGIN:VEVENT
UID:2021040046@faceoff
DTSTART:20260307T040000Z
DURATION:PT3H30M
SUMMARY:Saitama Seibu Lions vs Tokyo Yakult Swallows
LOCATION:高知県立春野運動公園野球場
DESCRIPTION:2
END:VEVENT
BEGIN:VEVENT
UID:2021040052@faceoff
DTSTART:20260308T030000Z
DURATION:PT3H30M
SUMMARY:Saitama Seibu Lions vs Tokyo Yakult Swallows
LOCATION:高知県立春野運動公園野球場
DESCRIPTION:2
END:VEVENT
BEGIN:VEVENT
UID:2021040059@faceoff
DTSTART:20260310T040000Z
DURATION:PT3H30M
SUMMARY:Saitama Seibu Lions @ Hanshin Tigers
LOCATION:阪神甲子園球場
DESCRIPTION:2
END:VEVENT
BEGIN:VEVENT
UID:2021040065@faceoff
DTSTART:20260311T040000Z
DURATION:PT3H30M
SUMMARY:Saitama Seibu Lions @ Hanshin Tigers
LOCATION:阪神甲子園球場
DESCRIPTION:2
END:VEVENT
BEGIN:VEVENT
UID:2021040070@faceoff
DTSTART:20260313T040000Z
DURATION:PT3H30M
SUMMARY:Saitama Seibu Lions @ Chiba Lotte Marines
LOCATION:ZOZOマリンスタジアム
DESCRIPTION:2
END:VEVENT
BEGIN:VEVENT
UID:2021040073@faceoff
DTSTART:20260314T040000Z
DURATION:PT3H30M
SUMMARY:Saitama Seibu Lions @ Chiba Lotte Marines
LOCATION:ZOZOマリンスタジアム
DESCRIPTION:2
END:VEVENT
BEGIN:VEVENT
UID:2021040079@faceoff
DTSTART:20260315T040000Z
DURATION:PT3H30M
SUMMARY:Saitama Seibu Lions @ Chiba Lotte Marines
LOCATION:ZOZOマリンスタジアム
DESCRIPTION:2
END:VEVENT
BEGIN:VEVENT
UID:2021040086@faceoff
DTSTART:20260317T090000Z
DURATION:PT3H30M
SUMMARY:Saitama Seibu Lions vs Tohoku Rakuten Golden Eagles
LOCATION:ベルーナドーム
DESCRIPTION:2
END:VEVENT
BEGIN:VEVENT
UID:2021040092@faceoff
DTSTART:20260318T090000Z
DURATION:PT3H30M
SUMMARY:Saitama Seibu Lions vs Tohoku Rakuten Golden Eagles
LOCATION:ベルーナドーム
DESCRIPTION:2
END:VEVENT
BEGIN:VEVENT
UID:2021040098@faceoff
DTSTART:20260320T040000Z
DURATION:PT3H30M
SUMMARY:Saitama Seibu Lions vs Yokohama DeNA BayStars
LOCATION:ベルーナドーム
DESCRIPTION:2
END:VEVENT
BEGIN:VEVENT
UID:2021040104@faceoff
DTSTART:20260321T040000Z
DURATION:PT3H30M
SUMMARY:Saitama Seibu Lions vs Yokohama DeNA BayStars
LOCATION:ベルーナドーム
DESCRIPTION:2
END:VEVENT
BEGIN:VEVENT
UID:2021040110@faceoff
DTSTART:20260322T040000Z
DURATION:PT3H30M
SUMMARY:Saitama Seibu Lions vs Yokohama DeNA BayStars
LOCATION:ベルーナドーム
DESCRIPTION:2
END:VEVENT
BEGIN:VEVENT
UID:2021038625@faceoff
DTSTART:20260327T093000Z
DURATION:PT3H30M
SUMMARY:Saitama Seibu Lions @ Chiba Lotte Marines
LOCATION:ZOZOマリンスタジアム
DESCRIPTION:2
END:VEVENT
BEGIN:VEVENT
UID:2021038631@faceoff
DTSTART:20260328T050000Z
DURATION:PT3H30M
SUMMARY:Saitama Seibu Lions @ Chiba Lotte Marines
LOCATION:ZOZOマリンスタジアム
DESCRIPTION:2
END:VEVENT
BEGIN:VEVENT
UID:2021038637@faceoff
DTSTART:20260329T050000Z
DURATION:PT3H30M
SUMMARY:Saitama Seibu Lions @ Chiba Lotte Marines
LOCATION:ZOZOマリンスタジアム
DESCRIPTION:2
END:VEVENT
BEGIN:VEVENT
UID:2021038645@faceoff
DTSTART:20260331T090000Z
DURATION:PT3H30M
SUMMARY:Saitama Seibu Lions vs ORIX Buffaloes
LOCATION:ベルーナドーム
DESCRIPTION:2
END:VEVENT
BEGIN:VEVENT
UID:2021038651@faceoff
DTSTART:20260401T090000Z
DURATION:PT3H30M
SUMMARY:Saitama Seibu Lions vs ORIX Buffaloes
LOCATION:ベルーナドーム
DESCRIPTION:2
END:VEVENT
BEGIN:VEVENT
UID:2021038657@faceoff
DTSTART:20260402T040000Z
DURATION:PT3H30M
SUMMARY:Saitama Seibu Lions vs ORIX Buffaloes
LOCATION:ベルーナドーム
DESCRIPTION:2
END:VEVENT
BEGIN:VEVENT
UID:2021038662@faceoff
DTSTART:20260403T090000Z
DURATION:PT3H30M
SUMMARY:Saitama Seibu Lions vs Tohoku Rakuten Golden Eagles
LOCATION:ベルーナドーム
DESCRIPTION:2
END:VEVENT
BEGIN:VEVENT
UID:2021038668@faceoff
DTSTART:20260404T050000Z
DURATION:PT3H30M
SUMMARY:Saitama Seibu Lions vs Tohoku Rakuten Golden Eagles
LOCATION:ベルーナドーム
DESCRIPTION:2
END:VEVENT
BEGIN:VEVENT
UID:2021038674@faceoff
DTSTART:20260405T050000Z
DURATION:PT3H30M
SUMMARY:Saitama Seibu Lions vs Tohoku Rakuten Golden Eagles
LOCATION:ベルーナドーム
DESCRIPTION:2
END:VEVENT
BEGIN:VEVENT
UID:2021038681@faceoff
DTSTART:20260407T050000Z
DURATION:PT3H30M
SUMMARY:Saitama Seibu Lions @ Fukuoka SoftBank Hawks
LOCATION:みずほPayPayドーム福岡
DESCRIPTION:2
END:VEVENT
BEGIN:VEVENT
UID:2021038687@faceoff
DTSTART:20260408T090000Z
DURATION:PT3H30M
SUMMARY:Saitama Seibu Lions @ Fukuoka SoftBank Hawks
LOCATION:みずほPayPayドーム福岡
DESCRIPTION:2
END:VEVENT
BEGIN:VEVENT
UID:2021038692@faceoff
DTSTART:20260409T090000Z
DURATION:PT3H30M
SUMMARY:Saitama Seibu Lions @ Fukuoka SoftBank Hawks
LOCATION:みずほPayPayドーム福岡
DESCRIPTION:2
END:VEVENT
BEGIN:VEVENT
UID:2021038697@faceoff
DTSTART:20260410T090000Z
DURATION:PT3H30M
SUMMARY:Saitama Seibu Lions vs Chiba Lotte Marines
LOCATION:埼玉県営大宮公園野球場
DESCRIPTION:2
END:VEVENT
BEGIN:VEVENT
UID:2021038703@faceoff
DTSTART:20260411T080000Z
DURATION:PT3H30M
SUMMARY:Saitama Seibu Lions vs Chiba Lotte Marines
LOCATION:ベルーナドーム
DESCRIPTION:2
END:VEVENT
BEGIN:VEVENT
UID:2021038709@faceoff
DTSTART:20260412T040000Z
DURATION:PT3H30M
SUMMARY:Saitama Seibu Lions vs Chiba Lotte Marines
LOCATION:ベルーナドーム
DESCRIPTION:2
END:VEVENT
BEGIN:VEVENT
UID:2021038714@faceoff
DTSTART:20260414T090000Z
DURATION:PT3H30M
SUMMARY:Saitama Seibu Lions @ ORIX Buffaloes
LOCATION:京セラドーム大阪
DESCRIPTION:2
END:VEVENT
BEGIN:VEVENT
UID:2021038719@faceoff
DTSTART:20260415T090000Z
DURATION:PT3H30M
SUMMARY:Saitama Seibu Lions @ ORIX Buffaloes
LOCATION:京セラドーム大阪
DESCRIPTION:2
END:VEVENT
BEGIN:VEVENT
UID:2021038724@faceoff
DTSTART:20260416T090000Z
DURATION:PT3H30M
SUMMARY:Saitama Seibu Lions @ ORIX Buffaloes
LOCATION:京セラドーム大阪
DESCRIPTION:2
END:VEVENT
BEGIN:VEVENT
UID:2021038729@faceoff
DTSTART:20260417T090000Z
DURATION:PT3H30M
SUMMARY:Saitama Seibu Lions @ Hokkaido Nippon-Ham Fighters
LOCATION:エスコンフィールドHOKKAIDO
DESCRIPTION:2
END:VEVENT
BEGIN:VEVENT
UID:2021038735@faceoff
DTSTART:20260418T050000Z
DURATION:PT3H30M
SUMMARY:Saitama Seibu Lions @ Hokkaido Nippon-Ham Fighters
LOCATION:エスコンフィールドHOKKAIDO
DESCRIPTION:2
END:VEVENT
BEGIN:VEVENT
UID:2021038741@faceoff
DTSTART:20260419T040000Z
DURATION:PT3H30M
SUMMARY:Saitama Seibu Lions @ Hokkaido Nippon-Ham Fighters
LOCATION:エスコンフィールドHOKKAIDO
DESCRIPTION:2
END:VEVENT
BEGIN:VEVENT
UID:2021038748@faceoff
DTSTART:20260421T090000Z
DURATION:PT3H30M
SUMMARY:Saitama Seibu Lions vs Fukuoka SoftBank Hawks
LOCATION:ベルーナドーム
DESCRIPTION:2
END:VEVENT
BEGIN:VEVENT
UID:2021038754@faceoff
DTSTART:20260422T090000Z
DURATION:PT3H30M
SUMMARY:Saitama Seibu Lions vs Fukuoka SoftBank Hawks
LOCATION:ベルーナドーム
DESCRIPTION:1
END:VEVENT
BEGIN:VEVENT
UID:2021038759@faceoff
DTSTART:20260423T090000Z
DURATION:PT3H30M
SUMMARY:Saitama Seibu Lions vs Fukuoka SoftBank Hawks
LOCATION:ベルーナドーム
DESCRIPTION:1
END:VEVENT
BEGIN:VEVENT
UID:2021038767@faceoff
DTSTART:20260425T050000Z
DURATION:PT3H30M
SUMMARY:Saitama Seibu Lions @ Tohoku Rakuten Golden Eagles
LOCATION:楽天モバイル 最強パーク宮城
DESCRIPTION:1
END:VEVENT
BEGIN:VEVENT
UID:2021038773@faceoff
DTSTART:20260426T040000Z
DURATION:PT3H30M
SUMMARY:Saitama Seibu Lions @ Tohoku Rakuten Golden Eagles
LOCATION:楽天モバイル 最強パーク宮城
DESCRIPTION:1
END:VEVENT
BEGIN:VEVENT
UID:2021038779@faceoff
DTSTART:20260428T040000Z
DURATION:PT3H30M
SUMMARY:Saitama Seibu Lions vs Hokkaido Nippon-Ham Fighters
LOCATION:ベルーナドーム
DESCRIPTION:1
END:VEVENT
BEGIN:VEVENT
UID:2021038785@faceoff
DTSTART:20260429T050000Z
DURATION:PT3H30M
SUMMARY:Saitama Seibu Lions vs Hokkaido Nippon-Ham Fighters
LOCATION:ベルーナドーム
DESCRIPTION:1
END:VEVENT
BEGIN:VEVENT
UID:2021038791@faceoff
DTSTART:20260430T090000Z
DURATION:PT3H30M
SUMMARY:Saitama Seibu Lions vs Hokkaido Nippon-Ham Fighters
LOCATION:ベルーナドーム
DESCRIPTION:1
END:VEVENT
BEGIN:VEVENT
UID:2021038796@faceoff
DTSTART:20260501T090000Z
DURATION:PT3H30M
SUMMARY:Saitama Seibu Lions @ Chiba Lotte Marines
LOCATION:ZOZOマリンスタジアム
DESCRIPTION:1
END:VEVENT
BEGIN:VEVENT
UID:2021038802@faceoff
DTSTART:20260502T050000Z
DURATION:PT3H30M
SUMMARY:Saitama Seibu Lions @ Chiba Lotte Marines
LOCATION:ZOZOマリンスタジアム
DESCRIPTION:1
END:VEVENT
BEGIN:VEVENT
UID:2021038808@faceoff
DTSTART:20260503T050000Z
DURATION:PT3H30M
SUMMARY:Saitama Seibu Lions @ Chiba Lotte Marines
LOCATION:ZOZOマリンスタジアム
DESCRIPTION:1
END:VEVENT
BEGIN:VEVENT
UID:2021038814@faceoff
DTSTART:20260504T090000Z
DURATION:PT3H30M
SUMMARY:Saitama Seibu Lions vs Fukuoka SoftBank Hawks
LOCATION:ベルーナドーム
DESCRIPTION:1
END:VEVENT
BEGIN:VEVENT
UID:2021038820@faceoff
DTSTART:20260505T050000Z
DURATION:PT3H30M
SUMMARY:Saitama Seibu Lions vs Fukuoka SoftBank Hawks
LOCATION:ベルーナドーム
DESCRIPTION:1
END:VEVENT
BEGIN:VEVENT
UID:2021038826@faceoff
DTSTART:20260506T040000Z
DURATION:PT3H30M
SUMMARY:Saitama Seibu Lions vs Fukuoka SoftBank Hawks
LOCATION:ベルーナドーム
DESCRIPTION:1
END:VEVENT
BEGIN:VEVENT
UID:2021038831@faceoff
DTSTART:20260508T090000Z
DURATION:PT3H30M
SUMMARY:Saitama Seibu Lions vs Tohoku Rakuten Golden Eagles
LOCATION:ベルーナドーム
DESCRIPTION:1
END:VEVENT
BEGIN:VEVENT
UID:2021038837@faceoff
DTSTART:20260509T050000Z
DURATION:PT3H30M
SUMMARY:Saitama Seibu Lions vs Tohoku Rakuten Golden Eagles
LOCATION:ベルーナドーム
DESCRIPTION:1
END:VEVENT
BEGIN:VEVENT
UID:2021038843@faceoff
DTSTART:20260510T050000Z
DURATION:PT3H30M
SUMMARY:Saitama Seibu Lions vs Tohoku Rakuten Golden Eagles
LOCATION:ベルーナドーム
DESCRIPTION:1
END:VEVENT
BEGIN:VEVENT
UID:2021038851@faceoff
DTSTART:20260512T090000Z
DURATION:PT3H30M
SUMMARY:Saitama Seibu Lions @ Fukuoka SoftBank Hawks
LOCATION:みずほPayPayドーム福岡
DESCRIPTION:1
END:VEVENT
BEGIN:VEVENT
UID:2021038856@faceoff
DTSTART:20260513T090000Z
DURATION:PT3H30M
SUMMARY:Saitama Seibu Lions @ Fukuoka SoftBank Hawks
LOCATION:みずほPayPayドーム福岡
DESCRIPTION:1
END:VEVENT
BEGIN:VEVENT
UID:2021038863@faceoff
DTSTART:20260515T090000Z
DURATION:PT3H30M
SUMMARY:Saitama Seibu Lions @ Hokkaido Nippon-Ham Fighters
LOCATION:エスコンフィールドHOKKAIDO
DESCRIPTION:1
END:VEVENT
BEGIN:VEVENT
UID:2021038869@faceoff
DTSTART:20260516T050000Z
DURATION:PT3H30M
SUMMARY:Saitama Seibu Lions @ Hokkaido Nippon-Ham Fighters
LOCATION:エスコンフィールドHOKKAIDO
DESCRIPTION:1
END:VEVENT
BEGIN:VEVENT
UID:2021038875@faceoff
DTSTART:20260517T040000Z
DURATION:PT3H30M
SUMMARY:Saitama Seibu Lions @ Hokkaido Nippon-Ham Fighters
LOCATION:エスコンフィールドHOKKAIDO
DESCRIPTION:1
END:VEVENT
BEGIN:VEVENT
UID:2021038882@faceoff
DTSTART:20260519T090000Z
DURATION:PT3H30M
SUMMARY:Saitama Seibu Lions vs Chiba Lotte Marines
LOCATION:上毛新聞敷島球場
DESCRIPTION:1
END:VEVENT
BEGIN:VEVENT
UID:2021038887@faceoff
DTSTART:20260520T090000Z
DURATION:PT3H30M
SUMMARY:Saitama Seibu Lions vs Chiba Lotte Marines
LOCATION:埼玉県営大宮公園野球場
DESCRIPTION:1
END:VEVENT
BEGIN:VEVENT
UID:2021038895@faceoff
DTSTART:20260522T090000Z
DURATION:PT3H30M
SUMMARY:Saitama Seibu Lions vs ORIX Buffaloes
LOCATION:ベルーナドーム
DESCRIPTION:1
END:VEVENT
BEGIN:VEVENT
UID:2021038901@faceoff
DTSTART:20260523T050000Z
DURATION:PT3H30M
SUMMARY:Saitama Seibu Lions vs ORIX Buffaloes
LOCATION:ベルーナドーム
DESCRIPTION:1
END:VEVENT
BEGIN:VEVENT
UID:2021038907@faceoff
DTSTART:20260524T040000Z
DURATION:PT3H30M
SUMMARY:Saitama Seibu Lions vs ORIX Buffaloes
LOCATION:ベルーナドーム
DESCRIPTION:1
END:VEVENT
BEGIN:VEVENT
UID:2021038910@faceoff
DTSTART:20260526T090000Z
DURATION:PT3H30M
SUMMARY:Saitama Seibu Lions @ Tokyo Yakult Swallows
LOCATION:明治神宮野球場
DESCRIPTION:1
END:VEVENT
BEGIN:VEVENT
UID:2021038916@faceoff
DTSTART:20260527T090000Z
DURATION:PT3H30M
SUMMARY:Saitama Seibu Lions @ Tokyo Yakult Swallows
LOCATION:明治神宮野球場
DESCRIPTION:1
END:VEVENT
BEGIN:VEVENT
UID:2021038922@faceoff
DTSTART:20260528T090000Z
DURATION:PT3H30M
SUMMARY:Saitama Seibu Lions @ Tokyo Yakult Swallows
LOCATION:明治神宮野球場
DESCRIPTION:1
END:VEVENT
BEGIN:VEVENT
UID:2021038929@faceoff
DTSTART:20260529T090000Z
DURATION:PT3H30M
SUMMARY:Saitama Seibu Lions vs Yokohama DeNA BayStars
LOCATION:ベルーナドーム
DESCRIPTION:1
END:VEVENT
BEGIN:VEVENT
UID:2021038935@faceoff
DTSTART:20260530T050000Z
DURATION:PT3H30M
SUMMARY:Saitama Seibu Lions vs Yokohama DeNA BayStars
LOCATION:ベルーナドーム
DESCRIPTION:1
END:VEVENT
BEGIN:VEVENT
UID:2021038941@faceoff
DTSTART:20260531T050000Z
DURATION:PT3H30M
SUMMARY:Saitama Seibu Lions vs Yokohama DeNA BayStars
LOCATION:ベルーナドーム
DESCRIPTION:1
END:VEVENT
BEGIN:VEVENT
UID:2021038949@faceoff
DTSTART:20260602T090000Z
DURATION:PT3H30M
SUMMARY:Saitama Seibu Lions @ Hanshin Tigers
LOCATION:阪神甲子園球場
DESCRIPTION:1
END:VEVENT
BEGIN:VEVENT
UID:2021038955@faceoff
DTSTART:20260603T090000Z
DURATION:PT3H30M
SUMMARY:Saitama Seibu Lions @ Hanshin Tigers
LOCATION:阪神甲子園球場
DESCRIPTION:1
END:VEVENT
BEGIN:VEVENT
UID:2021038961@faceoff
DTSTART:20260604T090000Z
DURATION:PT3H30M
SUMMARY:Saitama Seibu Lions @ Hanshin Tigers
LOCATION:阪神甲子園球場
DESCRIPTION:1
END:VEVENT
BEGIN:VEVENT
UID:2021038966@faceoff
DTSTART:20260605T090000Z
DURATION:PT3H30M
SUMMARY:Saitama Seibu Lions @ Chunichi Dragons
LOCATION:バンテリンドーム ナゴヤ
DESCRIPTION:1
END:VEVENT
BEGIN:VEVENT
UID:2021038972@faceoff
DTSTART:20260606T050000Z
DURATION:PT3H30M
SUMMARY:Saitama Seibu Lions @ Chunichi Dragons
LOCATION:バンテリンドーム ナゴヤ
DESCRIPTION:1
END:VEVENT
BEGIN:VEVENT
UID:2021038978@faceoff
DTSTART:20260607T043000Z
DURATION:PT3H30M
SUMMARY:Saitama Seibu Lions @ Chunichi Dragons
LOCATION:バンテリンドーム ナゴヤ
DESCRIPTION:1
END:VEVENT
BEGIN:VEVENT
UID:2021038983@faceoff
DTSTART:20260609T090000Z
DURATION:PT3H30M
SUMMARY:Saitama Seibu Lions vs Hiroshima Toyo Carp
LOCATION:ベルーナドーム
DESCRIPTION:1
END:VEVENT
BEGIN:VEVENT
UID:2021038989@faceoff
DTSTART:20260610T090000Z
DURATION:PT3H30M
SUMMARY:Saitama Seibu Lions vs Hiroshima Toyo Carp
LOCATION:ベルーナドーム
DESCRIPTION:1
END:VEVENT
BEGIN:VEVENT
UID:2021038995@faceoff
DTSTART:20260611T090000Z
DURATION:PT3H30M
SUMMARY:Saitama Seibu Lions vs Hiroshima Toyo Carp
LOCATION:ベルーナドーム
DESCRIPTION:1
END:VEVENT
BEGIN:VEVENT
UID:2021039001@faceoff
DTSTART:20260612T090000Z
DURATION:PT3H30M
SUMMARY:Saitama Seibu Lions vs Yomiuri Giants
LOCATION:ベルーナドーム
DESCRIPTION:1
END:VEVENT
BEGIN:VEVENT
UID:2021039007@faceoff
DTSTART:20260613T090000Z
DURATION:PT3H30M
SUMMARY:Saitama Seibu Lions vs Yomiuri Giants
LOCATION:ベルーナドーム
DESCRIPTION:1
END:VEVENT
BEGIN:VEVENT
UID:2021039013@faceoff
DTSTART:20260614T040000Z
DURATION:PT3H30M
SUMMARY:Saitama Seibu Lions vs Yomiuri Giants
LOCATION:ベルーナドーム
DESCRIPTION:1
END:VEVENT
BEGIN:VEVENT
UID:2021039022@faceoff
DTSTART:20260619T090000Z
DURATION:PT3H30M
SUMMARY:Saitama Seibu Lions @ ORIX Buffaloes
LOCATION:京セラドーム大阪
DESCRIPTION:1
END:VEVENT
BEGIN:VEVENT
UID:2021039028@faceoff
DTSTART:20260620T050000Z
DURATION:PT3H30M
SUMMARY:Saitama Seibu Lions @ ORIX Buffaloes
LOCATION:京セラドーム大阪
DESCRIPTION:1
END:VEVENT
BEGIN:VEVENT
UID:2021039034@faceoff
DTSTART:20260621T040000Z
DURATION:PT3H30M
SUMMARY:Saitama Seibu Lions @ ORIX Buffaloes
LOCATION:京セラドーム大阪
DESCRIPTION:1
END:VEVENT
BEGIN:VEVENT
UID:2021039035@faceoff
DTSTART:20260622T090000Z
DURATION:PT3H30M
SUMMARY:Saitama Seibu Lions @ Tohoku Rakuten Golden Eagles
LOCATION:東京ドーム
DESCRIPTION:1
END:VEVENT
BEGIN:VEVENT
UID:2021039040@faceoff
DTSTART:20260623T090000Z
DURATION:PT3H30M
SUMMARY:Saitama Seibu Lions @ Tohoku Rakuten Golden Eagles
LOCATION:きらやかスタジアム
DESCRIPTION:1
END:VEVENT
BEGIN:VEVENT
UID:2021039049@faceoff
DTSTART:20260625T090000Z
DURATION:PT3H30M
SUMMARY:Saitama Seibu Lions @ Tohoku Rakuten Golden Eagles
LOCATION:楽天モバイル 最強パーク宮城
DESCRIPTION:1
END:VEVENT
BEGIN:VEVENT
UID:2021039054@faceoff
DTSTART:20260626T090000Z
DURATION:PT3H30M
SUMMARY:Saitama Seibu Lions vs Hokkaido Nippon-Ham Fighters
LOCATION:ベルーナドーム
DESCRIPTION:1
END:VEVENT
BEGIN:VEVENT
UID:2021039059@faceoff
DTSTART:20260627T090000Z
DURATION:PT3H30M
SUMMARY:Saitama Seibu Lions vs Hokkaido Nippon-Ham Fighters
LOCATION:ベルーナドーム
DESCRIPTION:1
END:VEVENT
BEGIN:VEVENT
UID:2021039065@faceoff
DTSTART:20260628T090000Z
DURATION:PT3H30M
SUMMARY:Saitama Seibu Lions vs Hokkaido Nippon-Ham Fighters
LOCATION:ベルーナドーム
DESCRIPTION:1
END:VEVENT
BEGIN:VEVENT
UID:2021039073@faceoff
DTSTART:20260630T090000Z
DURATION:PT3H30M
SUMMARY:Saitama Seibu Lions @ Fukuoka SoftBank Hawks
LOCATION:東京ドーム
DESCRIPTION:1
END:VEVENT
BEGIN:VEVENT
UID:2021039473@faceoff
DTSTART:20260701T090000Z
DURATION:PT3H30M
SUMMARY:Saitama Seibu Lions @ Fukuoka SoftBank Hawks
LOCATION:みずほPayPayドーム福岡
DESCRIPTION:1
END:VEVENT
BEGIN:VEVENT
UID:2021039081@faceoff
DTSTART:20260702T090000Z
DURATION:PT3H30M
SUMMARY:Saitama Seibu Lions @ Fukuoka SoftBank Hawks
LOCATION:みずほPayPayドーム福岡
DESCRIPTION:1
END:VEVENT
BEGIN:VEVENT
UID:2021039086@faceoff
DTSTART:20260703T090000Z
DURATION:PT3H30M
SUMMARY:Saitama Seibu Lions @ ORIX Buffaloes
LOCATION:ほっともっとフィールド神戸
DESCRIPTION:1
END:VEVENT
BEGIN:VEVENT
UID:2021039092@faceoff
DTSTART:20260704T090000Z
DURATION:PT3H30M
SUMMARY:Saitama Seibu Lions @ ORIX Buffaloes
LOCATION:ほっともっとフィールド神戸
DESCRIPTION:1
END:VEVENT
BEGIN:VEVENT
UID:2021039098@faceoff
DTSTART:20260705T050000Z
DURATION:PT3H30M
SUMMARY:Saitama Seibu Lions @ ORIX Buffaloes
LOCATION:京セラドーム大阪
DESCRIPTION:1
END:VEVENT
BEGIN:VEVENT
UID:2021039103@faceoff
DTSTART:20260707T093000Z
DURATION:PT3H30M
SUMMARY:Saitama Seibu Lions vs Tohoku Rakuten Golden Eagles
LOCATION:沖縄セルラースタジアム那覇
DESCRIPTION:1
END:VEVENT
BEGIN:VEVENT
UID:2021039109@faceoff
DTSTART:20260708T093000Z
DURATION:PT3H30M
SUMMARY:Saitama Seibu Lions vs Tohoku Rakuten Golden Eagles
LOCATION:沖縄セルラースタジアム那覇
DESCRIPTION:1
END:VEVENT
BEGIN:VEVENT
UID:2021039118@faceoff
DTSTART:20260710T090000Z
DURATION:PT3H30M
SUMMARY:Saitama Seibu Lions @ Hokkaido Nippon-Ham Fighters
LOCATION:エスコンフィールドHOKKAIDO
DESCRIPTION:1
END:VEVENT
BEGIN:VEVENT
UID:2021039124@faceoff
DTSTART:20260711T050000Z
DURATION:PT3H30M
SUMMARY:Saitama Seibu Lions @ Hokkaido Nippon-Ham Fighters
LOCATION:エスコンフィールドHOKKAIDO
DESCRIPTION:1
END:VEVENT
BEGIN:VEVENT
UID:2021039130@faceoff
DTSTART:20260712T040000Z
DURATION:PT3H30M
SUMMARY:Saitama Seibu Lions @ Hokkaido Nippon-Ham Fighters
LOCATION:エスコンフィールドHOKKAIDO
DESCRIPTION:1
END:VEVENT
BEGIN:VEVENT
UID:2021039138@faceoff
DTSTART:20260714T090000Z
DURATION:PT3H30M
SUMMARY:Saitama Seibu Lions vs Chiba Lotte Marines
LOCATION:ベルーナドーム
DESCRIPTION:1
END:VEVENT
BEGIN:VEVENT
UID:2021039144@faceoff
DTSTART:20260715T090000Z
DURATION:PT3H30M
SUMMARY:Saitama Seibu Lions vs Chiba Lotte Marines
LOCATION:ベルーナドーム
DESCRIPTION:1
END:VEVENT
BEGIN:VEVENT
UID:2021039149@faceoff
DTSTART:20260716T090000Z
DURATION:PT3H30M
SUMMARY:Saitama Seibu Lions vs Chiba Lotte Marines
LOCATION:ベルーナドーム
DESCRIPTION:1
END:VEVENT
BEGIN:VEVENT
UID:2021039156@faceoff
DTSTART:20260718T090000Z
DURATION:PT3H30M
SUMMARY:Saitama Seibu Lions @ Tohoku Rakuten Golden Eagles
LOCATION:楽天モバイル 最強パーク宮城
DESCRIPTION:1
END:VEVENT
BEGIN:VEVENT
UID:2021039162@faceoff
DTSTART:20260719T090000Z
DURATION:PT3H30M
SUMMARY:Saitama Seibu Lions @ Tohoku Rakuten Golden Eagles
LOCATION:楽天モバイル 最強パーク宮城
DESCRIPTION:1
END:VEVENT
BEGIN:VEVENT
UID:2021039168@faceoff
DTSTART:20260720T070000Z
DURATION:PT3H30M
SUMMARY:Saitama Seibu Lions @ Tohoku Rakuten Golden Eagles
LOCATION:楽天モバイル 最強パーク宮城
DESCRIPTION:1
END:VEVENT
BEGIN:VEVENT
UID:2021039178@faceoff
DTSTART:20260722T090000Z
DURATION:PT3H30M
SUMMARY:Saitama Seibu Lions vs Hokkaido Nippon-Ham Fighters
LOCATION:ベルーナドーム
DESCRIPTION:1
END:VEVENT
BEGIN:VEVENT
UID:2021039181@faceoff
DTSTART:20260723T090000Z
DURATION:PT3H30M
SUMMARY:Saitama Seibu Lions vs Hokkaido Nippon-Ham Fighters
LOCATION:ベルーナドーム
DESCRIPTION:1
END:VEVENT
BEGIN:VEVENT
UID:2021039187@faceoff
DTSTART:20260724T090000Z
DURATION:PT3H30M
SUMMARY:Saitama Seibu Lions vs Fukuoka SoftBank Hawks
LOCATION:ベルーナドーム
DESCRIPTION:1
END:VEVENT
BEGIN:VEVENT
UID:2021039193@faceoff
DTSTART:20260725T090000Z
DURATION:PT3H30M
SUMMARY:Saitama Seibu Lions vs Fukuoka SoftBank Hawks
LOCATION:ベルーナドーム
DESCRIPTION:1
END:VEVENT
BEGIN:VEVENT
UID:2021039199@faceoff
DTSTART:20260726T080000Z
DURATION:PT3H30M
SUMMARY:Saitama Seibu Lions vs Fukuoka SoftBank Hawks
LOCATION:ベルーナドーム
DESCRIPTION:1
END:VEVENT
BEGIN:VEVENT
UID:2021039206@faceoff
DTSTART:20260731T090000Z
DURATION:PT3H30M
SUMMARY:Saitama Seibu Lions vs ORIX Buffaloes
LOCATION:ベルーナドーム
DESCRIPTION:1
END:VEVENT
BEGIN:VEVENT
UID:2021039212@faceoff
DTSTART:20260801T080000Z
DURATION:PT3H30M
SUMMARY:Saitama Seibu Lions vs ORIX Buffaloes
LOCATION:ベルーナドーム
DESCRIPTION:1
END:VEVENT
BEGIN:VEVENT
UID:2021039218@faceoff
DTSTART:20260802T080000Z
DURATION:PT3H30M
SUMMARY:Saitama Seibu Lions vs ORIX Buffaloes
LOCATION:ベルーナドーム
DESCRIPTION:1
END:VEVENT
BEGIN:VEVENT
UID:2021039223@faceoff
DTSTART:20260804T090000Z
DURATION:PT3H30M
SUMMARY:Saitama Seibu Lions @ Chiba Lotte Marines
LOCATION:ZOZOマリンスタジアム
DESCRIPTION:1
END:VEVENT
BEGIN:VEVENT
UID:2021039228@faceoff
DTSTART:20260805T090000Z
DURATION:PT3H30M
SUMMARY:Saitama Seibu Lions @ Chiba Lotte Marines
LOCATION:ZOZOマリンスタジアム
DESCRIPTION:1
END:VEVENT
BEGIN:VEVENT
UID:2021039240@faceoff
DTSTART:20260807T090000Z
DURATION:PT3H30M
SUMMARY:Saitama Seibu Lions vs Fukuoka SoftBank Hawks
LOCATION:ベルーナドーム
DESCRIPTION:1
END:VEVENT
BEGIN:VEVENT
UID:2021039246@faceoff
DTSTART:20260808T090000Z
DURATION:PT3H30M
SUMMARY:Saitama Seibu Lions vs Fukuoka SoftBank Hawks
LOCATION:ベルーナドーム
DESCRIPTION:1
END:VEVENT
BEGIN:VEVENT
UID:2021039252@faceoff
DTSTART:20260809T080000Z
DURATION:PT3H30M
SUMMARY:Saitama Seibu Lions vs Fukuoka SoftBank Hawks
LOCATION:ベルーナドーム
DESCRIPTION:1
END:VEVENT
BEGIN:VEVENT
UID:2021039257@faceoff
DTSTART:20260811T050000Z
DURATION:PT3H30M
SUMMARY:Saitama Seibu Lions @ Hokkaido Nippon-Ham Fighters
LOCATION:エスコンフィールドHOKKAIDO
DESCRIPTION:1
END:VEVENT
BEGIN:VEVENT
UID:2021039263@faceoff
DTSTART:20260812T090000Z
DURATION:PT3H30M
SUMMARY:Saitama Seibu Lions @ Hokkaido Nippon-Ham Fighters
LOCATION:エスコンフィールドHOKKAIDO
DESCRIPTION:1
END:VEVENT
BEGIN:VEVENT
UID:2021039269@faceoff
DTSTART:20260813T090000Z
DURATION:PT3H30M
SUMMARY:Saitama Seibu Lions @ Hokkaido Nippon-Ham Fighters
LOCATION:エスコンフィールドHOKKAIDO
DESCRIPTION:1
END:VEVENT
BEGIN:VEVENT
UID:2021039275@faceoff
DTSTART:20260814T090000Z
DURATION:PT3H30M
SUMMARY:Saitama Seibu Lions vs Chiba Lotte Marines
LOCATION:ベルーナドーム
DESCRIPTION:1
END:VEVENT
BEGIN:VEVENT
UID:2021039281@faceoff
DTSTART:20260815T080000Z
DURATION:PT3H30M
SUMMARY:Saitama Seibu Lions vs Chiba Lotte Marines
LOCATION:ベルーナドーム
DESCRIPTION:1
END:VEVENT
BEGIN:VEVENT
UID:2021039287@faceoff
DTSTART:20260816T080000Z
DURATION:PT3H30M
SUMMARY:Saitama Seibu Lions vs Chiba Lotte Marines
LOCATION:ベルーナドーム
DESCRIPTION:1
END:VEVENT
BEGIN:VEVENT
UID:2021039295@faceoff
DTSTART:20260818T090000Z
DURATION:PT3H30M
SUMMARY:Saitama Seibu Lions vs ORIX Buffaloes
LOCATION:東京ドーム
DESCRIPTION:1
END:VEVENT
BEGIN:VEVENT
UID:2021039301@faceoff
DTSTART:20260819T090000Z
DURATION:PT3H30M
SUMMARY:Saitama Seibu Lions vs ORIX Buffaloes
LOCATION:ベルーナドーム
DESCRIPTION:1
END:VEVENT
BEGIN:VEVENT
UID:2021039307@faceoff
DTSTART:20260820T090000Z
DURATION:PT3H30M
SUMMARY:Saitama Seibu Lions vs ORIX Buffaloes
LOCATION:ベルーナドーム
DESCRIPTION:1
END:VEVENT
BEGIN:VEVENT
UID:2021039311@faceoff
DTSTART:20260821T090000Z
DURATION:PT3H30M
SUMMARY:Saitama Seibu Lions @ Tohoku Rakuten Golden Eagles
LOCATION:楽天モバイル 最強パーク宮城
DESCRIPTION:1
END:VEVENT
BEGIN:VEVENT
UID:2021039316@faceoff
DTSTART:20260822T090000Z
DURATION:PT3H30M
SUMMARY:Saitama Seibu Lions @ Tohoku Rakuten Golden Eagles
LOCATION:楽天モバイル 最強パーク宮城
DESCRIPTION:1
END:VEVENT
BEGIN:VEVENT
UID:2021039322@faceoff
DTSTART:20260823T070000Z
DURATION:PT3H30M
SUMMARY:Saitama Seibu Lions @ Tohoku Rakuten Golden Eagles
LOCATION:楽天モバイル 最強パーク宮城
DESCRIPTION:1
END:VEVENT
BEGIN:VEVENT
UID:2021039328@faceoff
DTSTART:20260825T090000Z
DURATION:PT3H30M
SUMMARY:Saitama Seibu Lions vs Hokkaido Nippon-Ham Fighters
LOCATION:ベルーナドーム
DESCRIPTION:1
END:VEVENT
BEGIN:VEVENT
UID:2021039334@faceoff
DTSTART:20260826T090000Z
DURATION:PT3H30M
SUMMARY:Saitama Seibu Lions vs Hokkaido Nippon-Ham Fighters
LOCATION:ベルーナドーム
DESCRIPTION:1
END:VEVENT
BEGIN:VEVENT
UID:2021039346@faceoff
DTSTART:20260828T090000Z
DURATION:PT3H30M
SUMMARY:Saitama Seibu Lions vs Tohoku Rakuten Golden Eagles
LOCATION:ベルーナドーム
DESCRIPTION:1
END:VEVENT
BEGIN:VEVENT
UID:2021039352@faceoff
DTSTART:20260829T080000Z
DURATION:PT3H30M
SUMMARY:Saitama Seibu Lions vs Tohoku Rakuten Golden Eagles
LOCATION:ベルーナドーム
DESCRIPTION:1
END:VEVENT
BEGIN:VEVENT
UID:2021039358@faceoff
DTSTART:20260830T080000Z
DURATION:PT3H30M
SUMMARY:Saitama Seibu Lions vs Tohoku Rakuten Golden Eagles
LOCATION:ベルーナドーム
DESCRIPTION:1
END:VEVENT
BEGIN:VEVENT
UID:2021039365@faceoff
DTSTART:20260901T090000Z
DURATION:PT3H30M
SUMMARY:Saitama Seibu Lions @ Chiba Lotte Marines
LOCATION:ZOZOマリンスタジアム
DESCRIPTION:1
END:VEVENT
BEGIN:VEVENT
UID:2021039377@faceoff
DTSTART:20260904T090000Z
DURATION:PT3H30M
SUMMARY:Saitama Seibu Lions @ Fukuoka SoftBank Hawks
LOCATION:みずほPayPayドーム福岡
DESCRIPTION:1
END:VEVENT
BEGIN:VEVENT
UID:2021039383@faceoff
DTSTART:20260905T050000Z
DURATION:PT3H30M
SUMMARY:Saitama Seibu Lions @ Fukuoka SoftBank Hawks
LOCATION:みずほPayPayドーム福岡
DESCRIPTION:1
END:VEVENT
BEGIN:VEVENT
UID:2021039389@faceoff
DTSTART:20260906T040000Z
DURATION:PT3H30M
SUMMARY:Saitama Seibu Lions @ Fukuoka SoftBank Hawks
LOCATION:みずほPayPayドーム福岡
DESCRIPTION:1
END:VEVENT
BEGIN:VEVENT
UID:2021039394@faceoff
DTSTART:20260908T090000Z
DURATION:PT3H30M
SUMMARY:Saitama Seibu Lions @ ORIX Buffaloes
LOCATION:京セラドーム大阪
DESCRIPTION:1
END:VEVENT
BEGIN:VEVENT
UID:2021039400@faceoff
DTSTART:20260909T090000Z
DURATION:PT3H30M
SUMMARY:Saitama Seibu Lions @ ORIX Buffaloes
LOCATION:ほっともっとフィールド神戸
DESCRIPTION:1
END:VEVENT
BEGIN:VEVENT
UID:2021039406@faceoff
DTSTART:20260910T090000Z
DURATION:PT3H30M
SUMMARY:Saitama Seibu Lions @ ORIX Buffaloes
LOCATION:ほっともっとフィールド神戸
DESCRIPTION:1
END:VEVENT
BEGIN:VEVENT
UID:2021039412@faceoff
DTSTART:20260912T090000Z
DURATION:PT3H30M
SUMMARY:Saitama Seibu Lions vs Hokkaido Nippon-Ham Fighters
LOCATION:ベルーナドーム
DESCRIPTION:1
END:VEVENT
BEGIN:VEVENT
UID:2021039418@faceoff
DTSTART:20260913T080000Z
DURATION:PT3H30M
SUMMARY:Saitama Seibu Lions vs Hokkaido Nippon-Ham Fighters
LOCATION:ベルーナドーム
DESCRIPTION:1
END:VEVENT
BEGIN:VEVENT
UID:2021039421@faceoff
DTSTART:20260915T090000Z
DURATION:PT3H30M
SUMMARY:Saitama Seibu Lions @ Tohoku Rakuten Golden Eagles
LOCATION:楽天モバイル 最強パーク宮城
DESCRIPTION:1
END:VEVENT
BEGIN:VEVENT
UID:2021039425@faceoff
DTSTART:20260917T090000Z
DURATION:PT3H30M
SUMMARY:Saitama Seibu Lions @ Hokkaido Nippon-Ham Fighters
LOCATION:エスコンフィールドHOKKAIDO
DESCRIPTION:1
END:VEVENT
BEGIN:VEVENT
UID:2021039436@faceoff
DTSTART:20260919T090000Z
DURATION:PT3H30M
SUMMARY:Saitama Seibu Lions @ Chiba Lotte Marines
LOCATION:ZOZOマリンスタジアム
DESCRIPTION:1
END:VEVENT
BEGIN:VEVENT
UID:2021039442@faceoff
DTSTART:20260920T090000Z
DURATION:PT3H30M
SUMMARY:Saitama Seibu Lions @ Chiba Lotte Marines
LOCATION:ZOZOマリンスタジアム
DESCRIPTION:1
END:VEVENT
BEGIN:VEVENT
UID:2021039447@faceoff
DTSTART:20260921T090000Z
DURATION:PT3H30M
SUMMARY:Saitama Seibu Lions @ Chiba Lotte Marines
LOCATION:ZOZOマリンスタジアム
DESCRIPTION:1
END:VEVENT
BEGIN:VEVENT
UID:2021039452@faceoff
DTSTART:20260922T090000Z
DURATION:PT3H30M
SUMMARY:Saitama Seibu Lions @ Fukuoka SoftBank Hawks
LOCATION:みずほPayPayドーム福岡
DESCRIPTION:1
END:VEVENT
BEGIN:VEVENT
UID:2021039458@faceoff
DTSTART:20260923T050000Z
DURATION:PT3H30M
SUMMARY:Saitama Seibu Lions @ Fukuoka SoftBank Hawks
LOCATION:みずほPayPayドーム福岡
DESCRIPTION:1
END:VEVENT
BEGIN:VEVENT
UID:2021039460@faceoff
DTSTART:20260925T090000Z
DURATION:PT3H30M
SUMMARY:Saitama Seibu Lions vs Chiba Lotte Marines
LOCATION:ベルーナドーム
DESCRIPTION:1
END:VEVENT
BEGIN:VEVENT
UID:2021039462@faceoff
DTSTART:20260926T050000Z
DURATION:PT3H30M
SUMMARY:Saitama Seibu Lions vs Chiba Lotte Marines
LOCATION:ベルーナドーム
DESCRIPTION:1
END:VEVENT
BEGIN:VEVENT
UID:2021039465@faceoff
DTSTART:20260927T090000Z
DURATION:PT3H30M
SUMMARY:Saitama Seibu Lions vs Tohoku Rakuten Golden Eagles
LOCATION:ベルーナドーム
DESCRIPTION:1
END:VEVENT
BEGIN:VEVENT
UID:2021039468@faceoff
DTSTART:20260928T090000Z
DURATION:PT3H30M
SUMMARY:Saitama Seibu Lions vs Tohoku Rakuten Golden Eagles
LOCATION:ベルーナドーム
DESCRIPTION:1
END:VEVENT
BEGIN:VEVENT
UID:2021039471@faceoff
DTSTART:20260929T090000Z
DURATION:PT3H30M
SUMMARY:Saitama Seibu Lions vs ORIX Buffaloes
LOCATION:ベルーナドーム
DESCRIPTION:1
END:VEVENT
END:VCALENDAR
