BEGIN:VCALENDAR
VERSION:2.0
X-WR-CALNAME:Yomiuri Giants Schedule
REFRESH-INTERVAL;VALUE=DURATION:PT1H
X-PUBLISHED-TTL:PT1H
BEGIN:VEVENT
UID:2021040017@faceoff
DTSTART:20260221T040000Z
DURATION:PT3H30M
SUMMARY:Yomiuri Giants vs Tokyo Yakult Swallows
LOCATION:沖縄セルラースタジアム那覇
DESCRIPTION:2
END:VEVENT
BEGIN:VEVENT
UID:2021040019@faceoff
DTSTART:20260222T043000Z
DURATION:PT3H30M
SUMMARY:Yomiuri Giants @ Chunichi Dragons
LOCATION:Agreスタジアム北谷
DESCRIPTION:2
END:VEVENT
BEGIN:VEVENT
UID:2021040025@faceoff
DTSTART:20260223T040000Z
DURATION:PT3H30M
SUMMARY:Yomiuri Giants vs Tohoku Rakuten Golden Eagles
LOCATION:沖縄セルラースタジアム那覇
DESCRIPTION:2
END:VEVENT
BEGIN:VEVENT
UID:2021040042@faceoff
DTSTART:20260306T090000Z
DURATION:PT3H30M
SUMMARY:Yomiuri Giants @ ORIX Buffaloes
LOCATION:京セラドーム大阪
DESCRIPTION:2
END:VEVENT
BEGIN:VEVENT
UID:2021040047@faceoff
DTSTART:20260307T050000Z
DURATION:PT3H30M
SUMMARY:Yomiuri Giants @ ORIX Buffaloes
LOCATION:京セラドーム大阪
DESCRIPTION:2
END:VEVENT
BEGIN:VEVENT
UID:2021040054@faceoff
DTSTART:20260308T040000Z
DURATION:PT3H30M
SUMMARY:Yomiuri Giants @ Hanshin Tigers
LOCATION:阪神甲子園球場
DESCRIPTION:2
END:VEVENT
BEGIN:VEVENT
UID:2021040060@faceoff
DTSTART:20260310T040000Z
DURATION:PT3H30M
SUMMARY:Yomiuri Giants @ Fukuoka SoftBank Hawks
LOCATION:ユーピーアールスタジアム
DESCRIPTION:2
END:VEVENT
BEGIN:VEVENT
UID:2021040066@faceoff
DTSTART:20260311T090000Z
DURATION:PT3H30M
SUMMARY:Yomiuri Giants @ Fukuoka SoftBank Hawks
LOCATION:みずほPayPayドーム福岡
DESCRIPTION:2
END:VEVENT
BEGIN:VEVENT
UID:2021040069@faceoff
DTSTART:20260312T090000Z
DURATION:PT3H30M
SUMMARY:Yomiuri Giants @ Fukuoka SoftBank Hawks
LOCATION:みずほPayPayドーム福岡
DESCRIPTION:2
END:VEVENT
BEGIN:VEVENT
UID:2021040074@faceoff
DTSTART:20260314T090000Z
DURATION:PT3H30M
SUMMARY:Yomiuri Giants vs Hokkaido Nippon-Ham Fighters
LOCATION:東京ドーム
DESCRIPTION:2
END:VEVENT
BEGIN:VEVENT
UID:2021040080@faceoff
DTSTART:20260315T050000Z
DURATION:PT3H30M
SUMMARY:Yomiuri Giants vs Hokkaido Nippon-Ham Fighters
LOCATION:東京ドーム
DESCRIPTION:2
END:VEVENT
BEGIN:VEVENT
UID:2021040088@faceoff
DTSTART:20260317T090000Z
DURATION:PT3H30M
SUMMARY:Yomiuri Giants vs Tokyo Yakult Swallows
LOCATION:東京ドーム
DESCRIPTION:2
END:VEVENT
BEGIN:VEVENT
UID:2021040094@faceoff
DTSTART:20260318T090000Z
DURATION:PT3H30M
SUMMARY:Yomiuri Giants vs Tokyo Yakult Swallows
LOCATION:東京ドーム
DESCRIPTION:2
END:VEVENT
BEGIN:VEVENT
UID:2021040099@faceoff
DTSTART:20260320T090000Z
DURATION:PT3H30M
SUMMARY:Yomiuri Giants vs Tohoku Rakuten Golden Eagles
LOCATION:東京ドーム
DESCRIPTION:2
END:VEVENT
BEGIN:VEVENT
UID:2021040105@faceoff
DTSTART:20260321T050000Z
DURATION:PT3H30M
SUMMARY:Yomiuri Giants vs Tohoku Rakuten Golden Eagles
LOCATION:東京ドーム
DESCRIPTION:2
END:VEVENT
BEGIN:VEVENT
UID:2021040111@faceoff
DTSTART:20260322T050000Z
DURATION:PT3H30M
SUMMARY:Yomiuri Giants vs Tohoku Rakuten Golden Eagles
LOCATION:東京ドーム
DESCRIPTION:2
END:VEVENT
BEGIN:VEVENT
UID:2021038622@faceoff
DTSTART:20260327T091500Z
DURATION:PT3H30M
SUMMARY:Yomiuri Giants vs Hanshin Tigers
LOCATION:東京ドーム
DESCRIPTION:2
END:VEVENT
BEGIN:VEVENT
UID:2021038628@faceoff
DTSTART:20260328T050000Z
DURATION:PT3H30M
SUMMARY:Yomiuri Giants vs Hanshin Tigers
LOCATION:東京ドーム
DESCRIPTION:2
END:VEVENT
BEGIN:VEVENT
UID:2021038634@faceoff
DTSTART:20260329T050000Z
DURATION:PT3H30M
SUMMARY:Yomiuri Giants vs Hanshin Tigers
LOCATION:東京ドーム
DESCRIPTION:2
END:VEVENT
BEGIN:VEVENT
UID:2021038641@faceoff
DTSTART:20260331T091500Z
DURATION:PT3H30M
SUMMARY:Yomiuri Giants @ Chunichi Dragons
LOCATION:バンテリンドーム ナゴヤ
DESCRIPTION:2
END:VEVENT
BEGIN:VEVENT
UID:2021038647@faceoff
DTSTART:20260401T090000Z
DURATION:PT3H30M
SUMMARY:Yomiuri Giants @ Chunichi Dragons
LOCATION:バンテリンドーム ナゴヤ
DESCRIPTION:2
END:VEVENT
BEGIN:VEVENT
UID:2021038653@faceoff
DTSTART:20260402T090000Z
DURATION:PT3H30M
SUMMARY:Yomiuri Giants @ Chunichi Dragons
LOCATION:バンテリンドーム ナゴヤ
DESCRIPTION:2
END:VEVENT
BEGIN:VEVENT
UID:2021038658@faceoff
DTSTART:20260403T090000Z
DURATION:PT3H30M
SUMMARY:Yomiuri Giants vs Yokohama DeNA BayStars
LOCATION:東京ドーム
DESCRIPTION:2
END:VEVENT
BEGIN:VEVENT
UID:2021038664@faceoff
DTSTART:20260404T050000Z
DURATION:PT3H30M
SUMMARY:Yomiuri Giants vs Yokohama DeNA BayStars
LOCATION:東京ドーム
DESCRIPTION:2
END:VEVENT
BEGIN:VEVENT
UID:2021038670@faceoff
DTSTART:20260405T050000Z
DURATION:PT3H30M
SUMMARY:Yomiuri Giants vs Yokohama DeNA BayStars
LOCATION:東京ドーム
DESCRIPTION:2
END:VEVENT
BEGIN:VEVENT
UID:2021038678@faceoff
DTSTART:20260407T090000Z
DURATION:PT3H30M
SUMMARY:Yomiuri Giants @ Hiroshima Toyo Carp
LOCATION:MAZDA Zoom-Zoom スタジアム広島
DESCRIPTION:2
END:VEVENT
BEGIN:VEVENT
UID:2021038684@faceoff
DTSTART:20260408T090000Z
DURATION:PT3H30M
SUMMARY:Yomiuri Giants @ Hiroshima Toyo Carp
LOCATION:MAZDA Zoom-Zoom スタジアム広島
DESCRIPTION:2
END:VEVENT
BEGIN:VEVENT
UID:2021038689@faceoff
DTSTART:20260409T090000Z
DURATION:PT3H30M
SUMMARY:Yomiuri Giants @ Hiroshima Toyo Carp
LOCATION:MAZDA Zoom-Zoom スタジアム広島
DESCRIPTION:4
END:VEVENT
BEGIN:VEVENT
UID:2021038693@faceoff
DTSTART:20260410T090000Z
DURATION:PT3H30M
SUMMARY:Yomiuri Giants vs Tokyo Yakult Swallows
LOCATION:東京ドーム
DESCRIPTION:2
END:VEVENT
BEGIN:VEVENT
UID:2021038698@faceoff
DTSTART:20260411T090000Z
DURATION:PT3H30M
SUMMARY:Yomiuri Giants vs Tokyo Yakult Swallows
LOCATION:東京ドーム
DESCRIPTION:2
END:VEVENT
BEGIN:VEVENT
UID:2021038704@faceoff
DTSTART:20260412T050000Z
DURATION:PT3H30M
SUMMARY:Yomiuri Giants vs Tokyo Yakult Swallows
LOCATION:東京ドーム
DESCRIPTION:2
END:VEVENT
BEGIN:VEVENT
UID:2021038712@faceoff
DTSTART:20260414T090000Z
DURATION:PT3H30M
SUMMARY:Yomiuri Giants @ Hanshin Tigers
LOCATION:阪神甲子園球場
DESCRIPTION:2
END:VEVENT
BEGIN:VEVENT
UID:2021038717@faceoff
DTSTART:20260415T090000Z
DURATION:PT3H30M
SUMMARY:Yomiuri Giants @ Hanshin Tigers
LOCATION:阪神甲子園球場
DESCRIPTION:4
END:VEVENT
BEGIN:VEVENT
UID:2021038722@faceoff
DTSTART:20260416T090000Z
DURATION:PT3H30M
SUMMARY:Yomiuri Giants @ Hanshin Tigers
LOCATION:阪神甲子園球場
DESCRIPTION:2
END:VEVENT
BEGIN:VEVENT
UID:2021038726@faceoff
DTSTART:20260417T090000Z
DURATION:PT3H30M
SUMMARY:Yomiuri Giants @ Tokyo Yakult Swallows
LOCATION:明治神宮野球場
DESCRIPTION:2
END:VEVENT
BEGIN:VEVENT
UID:2021038732@faceoff
DTSTART:20260418T090000Z
DURATION:PT3H30M
SUMMARY:Yomiuri Giants @ Tokyo Yakult Swallows
LOCATION:明治神宮野球場
DESCRIPTION:2
END:VEVENT
BEGIN:VEVENT
UID:2021038738@faceoff
DTSTART:20260419T090000Z
DURATION:PT3H30M
SUMMARY:Yomiuri Giants @ Tokyo Yakult Swallows
LOCATION:明治神宮野球場
DESCRIPTION:2
END:VEVENT
BEGIN:VEVENT
UID:2021038744@faceoff
DTSTART:20260421T090000Z
DURATION:PT3H30M
SUMMARY:Yomiuri Giants vs Chunichi Dragons
LOCATION:長野オリンピックスタジアム
DESCRIPTION:2
END:VEVENT
BEGIN:VEVENT
UID:2021038750@faceoff
DTSTART:20260422T090000Z
DURATION:PT3H30M
SUMMARY:Yomiuri Giants vs Chunichi Dragons
LOCATION:上毛新聞敷島球場
DESCRIPTION:2
END:VEVENT
BEGIN:VEVENT
UID:2021038761@faceoff
DTSTART:20260424T090000Z
DURATION:PT3H30M
SUMMARY:Yomiuri Giants @ Yokohama DeNA BayStars
LOCATION:横浜スタジアム
DESCRIPTION:1
END:VEVENT
BEGIN:VEVENT
UID:2021038764@faceoff
DTSTART:20260425T050000Z
DURATION:PT3H30M
SUMMARY:Yomiuri Giants @ Yokohama DeNA BayStars
LOCATION:横浜スタジアム
DESCRIPTION:1
END:VEVENT
BEGIN:VEVENT
UID:2021038770@faceoff
DTSTART:20260426T050000Z
DURATION:PT3H30M
SUMMARY:Yomiuri Giants @ Yokohama DeNA BayStars
LOCATION:横浜スタジアム
DESCRIPTION:1
END:VEVENT
BEGIN:VEVENT
UID:2021038776@faceoff
DTSTART:20260428T090000Z
DURATION:PT3H30M
SUMMARY:Yomiuri Giants vs Hiroshima Toyo Carp
LOCATION:東京ドーム
DESCRIPTION:1
END:VEVENT
BEGIN:VEVENT
UID:2021038782@faceoff
DTSTART:20260429T090000Z
DURATION:PT3H30M
SUMMARY:Yomiuri Giants vs Hiroshima Toyo Carp
LOCATION:東京ドーム
DESCRIPTION:1
END:VEVENT
BEGIN:VEVENT
UID:2021038788@faceoff
DTSTART:20260430T090000Z
DURATION:PT3H30M
SUMMARY:Yomiuri Giants vs Hiroshima Toyo Carp
LOCATION:東京ドーム
DESCRIPTION:1
END:VEVENT
BEGIN:VEVENT
UID:2021038793@faceoff
DTSTART:20260501T090000Z
DURATION:PT3H30M
SUMMARY:Yomiuri Giants @ Hanshin Tigers
LOCATION:阪神甲子園球場
DESCRIPTION:1
END:VEVENT
BEGIN:VEVENT
UID:2021038799@faceoff
DTSTART:20260502T050000Z
DURATION:PT3H30M
SUMMARY:Yomiuri Giants @ Hanshin Tigers
LOCATION:阪神甲子園球場
DESCRIPTION:1
END:VEVENT
BEGIN:VEVENT
UID:2021038805@faceoff
DTSTART:20260503T050000Z
DURATION:PT3H30M
SUMMARY:Yomiuri Giants @ Hanshin Tigers
LOCATION:阪神甲子園球場
DESCRIPTION:1
END:VEVENT
BEGIN:VEVENT
UID:2021038810@faceoff
DTSTART:20260504T090000Z
DURATION:PT3H30M
SUMMARY:Yomiuri Giants vs Tokyo Yakult Swallows
LOCATION:東京ドーム
DESCRIPTION:1
END:VEVENT
BEGIN:VEVENT
UID:2021038816@faceoff
DTSTART:20260505T050000Z
DURATION:PT3H30M
SUMMARY:Yomiuri Giants vs Tokyo Yakult Swallows
LOCATION:東京ドーム
DESCRIPTION:1
END:VEVENT
BEGIN:VEVENT
UID:2021038822@faceoff
DTSTART:20260506T050000Z
DURATION:PT3H30M
SUMMARY:Yomiuri Giants vs Tokyo Yakult Swallows
LOCATION:東京ドーム
DESCRIPTION:1
END:VEVENT
BEGIN:VEVENT
UID:2021038828@faceoff
DTSTART:20260508T090000Z
DURATION:PT3H30M
SUMMARY:Yomiuri Giants @ Chunichi Dragons
LOCATION:バンテリンドーム ナゴヤ
DESCRIPTION:1
END:VEVENT
BEGIN:VEVENT
UID:2021038834@faceoff
DTSTART:20260509T050000Z
DURATION:PT3H30M
SUMMARY:Yomiuri Giants @ Chunichi Dragons
LOCATION:バンテリンドーム ナゴヤ
DESCRIPTION:1
END:VEVENT
BEGIN:VEVENT
UID:2021038840@faceoff
DTSTART:20260510T043000Z
DURATION:PT3H30M
SUMMARY:Yomiuri Giants @ Chunichi Dragons
LOCATION:バンテリンドーム ナゴヤ
DESCRIPTION:1
END:VEVENT
BEGIN:VEVENT
UID:2021038846@faceoff
DTSTART:20260512T090000Z
DURATION:PT3H30M
SUMMARY:Yomiuri Giants vs Hiroshima Toyo Carp
LOCATION:ぎふしん長良川球場
DESCRIPTION:1
END:VEVENT
BEGIN:VEVENT
UID:2021038852@faceoff
DTSTART:20260513T090000Z
DURATION:PT3H30M
SUMMARY:Yomiuri Giants vs Hiroshima Toyo Carp
LOCATION:セーレン・ドリームスタジアム
DESCRIPTION:1
END:VEVENT
BEGIN:VEVENT
UID:2021038860@faceoff
DTSTART:20260515T090000Z
DURATION:PT3H30M
SUMMARY:Yomiuri Giants vs Yokohama DeNA BayStars
LOCATION:東京ドーム
DESCRIPTION:1
END:VEVENT
BEGIN:VEVENT
UID:2021038866@faceoff
DTSTART:20260516T050000Z
DURATION:PT3H30M
SUMMARY:Yomiuri Giants vs Yokohama DeNA BayStars
LOCATION:東京ドーム
DESCRIPTION:1
END:VEVENT
BEGIN:VEVENT
UID:2021038872@faceoff
DTSTART:20260517T050000Z
DURATION:PT3H30M
SUMMARY:Yomiuri Giants vs Yokohama DeNA BayStars
LOCATION:東京ドーム
DESCRIPTION:1
END:VEVENT
BEGIN:VEVENT
UID:2021038878@faceoff
DTSTART:20260519T090000Z
DURATION:PT3H30M
SUMMARY:Yomiuri Giants @ Tokyo Yakult Swallows
LOCATION:ヨークいわきスタジアム
DESCRIPTION:1
END:VEVENT
BEGIN:VEVENT
UID:2021038889@faceoff
DTSTART:20260521T090000Z
DURATION:PT3H30M
SUMMARY:Yomiuri Giants @ Tokyo Yakult Swallows
LOCATION:明治神宮野球場
DESCRIPTION:1
END:VEVENT
BEGIN:VEVENT
UID:2021038892@faceoff
DTSTART:20260522T090000Z
DURATION:PT3H30M
SUMMARY:Yomiuri Giants vs Hanshin Tigers
LOCATION:東京ドーム
DESCRIPTION:1
END:VEVENT
BEGIN:VEVENT
UID:2021038897@faceoff
DTSTART:20260523T090000Z
DURATION:PT3H30M
SUMMARY:Yomiuri Giants vs Hanshin Tigers
LOCATION:東京ドーム
DESCRIPTION:1
END:VEVENT
BEGIN:VEVENT
UID:2021038903@faceoff
DTSTART:20260524T050000Z
DURATION:PT3H30M
SUMMARY:Yomiuri Giants vs Hanshin Tigers
LOCATION:東京ドーム
DESCRIPTION:1
END:VEVENT
BEGIN:VEVENT
UID:2021038909@faceoff
DTSTART:20260526T090000Z
DURATION:PT3H30M
SUMMARY:Yomiuri Giants vs Fukuoka SoftBank Hawks
LOCATION:東京ドーム
DESCRIPTION:1
END:VEVENT
BEGIN:VEVENT
UID:2021038915@faceoff
DTSTART:20260527T090000Z
DURATION:PT3H30M
SUMMARY:Yomiuri Giants vs Fukuoka SoftBank Hawks
LOCATION:東京ドーム
DESCRIPTION:1
END:VEVENT
BEGIN:VEVENT
UID:2021038921@faceoff
DTSTART:20260528T090000Z
DURATION:PT3H30M
SUMMARY:Yomiuri Giants vs Fukuoka SoftBank Hawks
LOCATION:東京ドーム
DESCRIPTION:1
END:VEVENT
BEGIN:VEVENT
UID:2021038927@faceoff
DTSTART:20260529T090000Z
DURATION:PT3H30M
SUMMARY:Yomiuri Giants @ Hokkaido Nippon-Ham Fighters
LOCATION:エスコンフィールドHOKKAIDO
DESCRIPTION:1
END:VEVENT
BEGIN:VEVENT
UID:2021038933@faceoff
DTSTART:20260530T050000Z
DURATION:PT3H30M
SUMMARY:Yomiuri Giants @ Hokkaido Nippon-Ham Fighters
LOCATION:エスコンフィールドHOKKAIDO
DESCRIPTION:1
END:VEVENT
BEGIN:VEVENT
UID:2021038939@faceoff
DTSTART:20260531T040000Z
DURATION:PT3H30M
SUMMARY:Yomiuri Giants @ Hokkaido Nippon-Ham Fighters
LOCATION:エスコンフィールドHOKKAIDO
DESCRIPTION:1
END:VEVENT
BEGIN:VEVENT
UID:2021038945@faceoff
DTSTART:20260602T090000Z
DURATION:PT3H30M
SUMMARY:Yomiuri Giants vs ORIX Buffaloes
LOCATION:東京ドーム
DESCRIPTION:1
END:VEVENT
BEGIN:VEVENT
UID:2021038951@faceoff
DTSTART:20260603T090000Z
DURATION:PT3H30M
SUMMARY:Yomiuri Giants vs ORIX Buffaloes
LOCATION:東京ドーム
DESCRIPTION:1
END:VEVENT
BEGIN:VEVENT
UID:2021038957@faceoff
DTSTART:20260604T090000Z
DURATION:PT3H30M
SUMMARY:Yomiuri Giants vs ORIX Buffaloes
LOCATION:東京ドーム
DESCRIPTION:1
END:VEVENT
BEGIN:VEVENT
UID:2021038963@faceoff
DTSTART:20260605T090000Z
DURATION:PT3H30M
SUMMARY:Yomiuri Giants vs Chiba Lotte Marines
LOCATION:東京ドーム
DESCRIPTION:1
END:VEVENT
BEGIN:VEVENT
UID:2021038969@faceoff
DTSTART:20260606T090000Z
DURATION:PT3H30M
SUMMARY:Yomiuri Giants vs Chiba Lotte Marines
LOCATION:東京ドーム
DESCRIPTION:1
END:VEVENT
BEGIN:VEVENT
UID:2021038975@faceoff
DTSTART:20260607T050000Z
DURATION:PT3H30M
SUMMARY:Yomiuri Giants vs Chiba Lotte Marines
LOCATION:東京ドーム
DESCRIPTION:1
END:VEVENT
BEGIN:VEVENT
UID:2021038982@faceoff
DTSTART:20260609T090000Z
DURATION:PT3H30M
SUMMARY:Yomiuri Giants @ Tohoku Rakuten Golden Eagles
LOCATION:楽天モバイル 最強パーク宮城
DESCRIPTION:1
END:VEVENT
BEGIN:VEVENT
UID:2021038988@faceoff
DTSTART:20260610T090000Z
DURATION:PT3H30M
SUMMARY:Yomiuri Giants @ Tohoku Rakuten Golden Eagles
LOCATION:楽天モバイル 最強パーク宮城
DESCRIPTION:1
END:VEVENT
BEGIN:VEVENT
UID:2021038994@faceoff
DTSTART:20260611T090000Z
DURATION:PT3H30M
SUMMARY:Yomiuri Giants @ Tohoku Rakuten Golden Eagles
LOCATION:楽天モバイル 最強パーク宮城
DESCRIPTION:1
END:VEVENT
BEGIN:VEVENT
UID:2021039001@faceoff
DTSTART:20260612T090000Z
DURATION:PT3H30M
SUMMARY:Yomiuri Giants @ Saitama Seibu Lions
LOCATION:ベルーナドーム
DESCRIPTION:1
END:VEVENT
BEGIN:VEVENT
UID:2021039007@faceoff
DTSTART:20260613T090000Z
DURATION:PT3H30M
SUMMARY:Yomiuri Giants @ Saitama Seibu Lions
LOCATION:ベルーナドーム
DESCRIPTION:1
END:VEVENT
BEGIN:VEVENT
UID:2021039013@faceoff
DTSTART:20260614T040000Z
DURATION:PT3H30M
SUMMARY:Yomiuri Giants @ Saitama Seibu Lions
LOCATION:ベルーナドーム
DESCRIPTION:1
END:VEVENT
BEGIN:VEVENT
UID:2021039017@faceoff
DTSTART:20260619T090000Z
DURATION:PT3H30M
SUMMARY:Yomiuri Giants vs Chunichi Dragons
LOCATION:東京ドーム
DESCRIPTION:1
END:VEVENT
BEGIN:VEVENT
UID:2021039023@faceoff
DTSTART:20260620T050000Z
DURATION:PT3H30M
SUMMARY:Yomiuri Giants vs Chunichi Dragons
LOCATION:東京ドーム
DESCRIPTION:1
END:VEVENT
BEGIN:VEVENT
UID:2021039029@faceoff
DTSTART:20260621T050000Z
DURATION:PT3H30M
SUMMARY:Yomiuri Giants vs Chunichi Dragons
LOCATION:東京ドーム
DESCRIPTION:1
END:VEVENT
BEGIN:VEVENT
UID:2021039038@faceoff
DTSTART:20260623T090000Z
DURATION:PT3H30M
SUMMARY:Yomiuri Giants @ Hiroshima Toyo Carp
LOCATION:MAZDA Zoom-Zoom スタジアム広島
DESCRIPTION:1
END:VEVENT
BEGIN:VEVENT
UID:2021039044@faceoff
DTSTART:20260624T090000Z
DURATION:PT3H30M
SUMMARY:Yomiuri Giants @ Hiroshima Toyo Carp
LOCATION:MAZDA Zoom-Zoom スタジアム広島
DESCRIPTION:1
END:VEVENT
BEGIN:VEVENT
UID:2021039052@faceoff
DTSTART:20260626T091500Z
DURATION:PT3H30M
SUMMARY:Yomiuri Giants @ Yokohama DeNA BayStars
LOCATION:横浜スタジアム
DESCRIPTION:1
END:VEVENT
BEGIN:VEVENT
UID:2021039057@faceoff
DTSTART:20260627T091500Z
DURATION:PT3H30M
SUMMARY:Yomiuri Giants @ Yokohama DeNA BayStars
LOCATION:横浜スタジアム
DESCRIPTION:1
END:VEVENT
BEGIN:VEVENT
UID:2021039063@faceoff
DTSTART:20260628T091500Z
DURATION:PT3H30M
SUMMARY:Yomiuri Giants @ Yokohama DeNA BayStars
LOCATION:横浜スタジアム
DESCRIPTION:1
END:VEVENT
BEGIN:VEVENT
UID:2021039068@faceoff
DTSTART:20260630T090000Z
DURATION:PT3H30M
SUMMARY:Yomiuri Giants vs Tokyo Yakult Swallows
LOCATION:はるか夢球場
DESCRIPTION:1
END:VEVENT
BEGIN:VEVENT
UID:2021039074@faceoff
DTSTART:20260701T090000Z
DURATION:PT3H30M
SUMMARY:Yomiuri Giants vs Tokyo Yakult Swallows
LOCATION:きたぎんボールパーク
DESCRIPTION:1
END:VEVENT
BEGIN:VEVENT
UID:2021039083@faceoff
DTSTART:20260703T090000Z
DURATION:PT3H30M
SUMMARY:Yomiuri Giants @ Chunichi Dragons
LOCATION:バンテリンドーム ナゴヤ
DESCRIPTION:1
END:VEVENT
BEGIN:VEVENT
UID:2021039089@faceoff
DTSTART:20260704T050000Z
DURATION:PT3H30M
SUMMARY:Yomiuri Giants @ Chunichi Dragons
LOCATION:バンテリンドーム ナゴヤ
DESCRIPTION:1
END:VEVENT
BEGIN:VEVENT
UID:2021039095@faceoff
DTSTART:20260705T043000Z
DURATION:PT3H30M
SUMMARY:Yomiuri Giants @ Chunichi Dragons
LOCATION:バンテリンドーム ナゴヤ
DESCRIPTION:1
END:VEVENT
BEGIN:VEVENT
UID:2021039100@faceoff
DTSTART:20260707T090000Z
DURATION:PT3H30M
SUMMARY:Yomiuri Giants vs Hanshin Tigers
LOCATION:東京ドーム
DESCRIPTION:1
END:VEVENT
BEGIN:VEVENT
UID:2021039106@faceoff
DTSTART:20260708T090000Z
DURATION:PT3H30M
SUMMARY:Yomiuri Giants vs Hanshin Tigers
LOCATION:東京ドーム
DESCRIPTION:1
END:VEVENT
BEGIN:VEVENT
UID:2021039112@faceoff
DTSTART:20260709T090000Z
DURATION:PT3H30M
SUMMARY:Yomiuri Giants vs Hanshin Tigers
LOCATION:東京ドーム
DESCRIPTION:1
END:VEVENT
BEGIN:VEVENT
UID:2021039115@faceoff
DTSTART:20260710T091500Z
DURATION:PT3H30M
SUMMARY:Yomiuri Giants @ Yokohama DeNA BayStars
LOCATION:横浜スタジアム
DESCRIPTION:1
END:VEVENT
BEGIN:VEVENT
UID:2021039121@faceoff
DTSTART:20260711T090000Z
DURATION:PT3H30M
SUMMARY:Yomiuri Giants @ Yokohama DeNA BayStars
LOCATION:横浜スタジアム
DESCRIPTION:1
END:VEVENT
BEGIN:VEVENT
UID:2021039127@faceoff
DTSTART:20260712T090000Z
DURATION:PT3H30M
SUMMARY:Yomiuri Giants @ Yokohama DeNA BayStars
LOCATION:横浜スタジアム
DESCRIPTION:1
END:VEVENT
BEGIN:VEVENT
UID:2021039133@faceoff
DTSTART:20260714T090000Z
DURATION:PT3H30M
SUMMARY:Yomiuri Giants @ Tokyo Yakult Swallows
LOCATION:明治神宮野球場
DESCRIPTION:1
END:VEVENT
BEGIN:VEVENT
UID:2021039139@faceoff
DTSTART:20260715T090000Z
DURATION:PT3H30M
SUMMARY:Yomiuri Giants @ Tokyo Yakult Swallows
LOCATION:明治神宮野球場
DESCRIPTION:1
END:VEVENT
BEGIN:VEVENT
UID:2021039145@faceoff
DTSTART:20260716T090000Z
DURATION:PT3H30M
SUMMARY:Yomiuri Giants @ Tokyo Yakult Swallows
LOCATION:明治神宮野球場
DESCRIPTION:1
END:VEVENT
BEGIN:VEVENT
UID:2021039150@faceoff
DTSTART:20260717T090000Z
DURATION:PT3H30M
SUMMARY:Yomiuri Giants vs Chunichi Dragons
LOCATION:東京ドーム
DESCRIPTION:1
END:VEVENT
BEGIN:VEVENT
UID:2021039153@faceoff
DTSTART:20260718T050000Z
DURATION:PT3H30M
SUMMARY:Yomiuri Giants vs Chunichi Dragons
LOCATION:東京ドーム
DESCRIPTION:1
END:VEVENT
BEGIN:VEVENT
UID:2021039159@faceoff
DTSTART:20260719T050000Z
DURATION:PT3H30M
SUMMARY:Yomiuri Giants vs Chunichi Dragons
LOCATION:東京ドーム
DESCRIPTION:1
END:VEVENT
BEGIN:VEVENT
UID:2021039165@faceoff
DTSTART:20260720T090000Z
DURATION:PT3H30M
SUMMARY:Yomiuri Giants vs Hiroshima Toyo Carp
LOCATION:東京ドーム
DESCRIPTION:1
END:VEVENT
BEGIN:VEVENT
UID:2021039171@faceoff
DTSTART:20260721T090000Z
DURATION:PT3H30M
SUMMARY:Yomiuri Giants vs Hiroshima Toyo Carp
LOCATION:東京ドーム
DESCRIPTION:1
END:VEVENT
BEGIN:VEVENT
UID:2021039175@faceoff
DTSTART:20260722T090000Z
DURATION:PT3H30M
SUMMARY:Yomiuri Giants vs Hiroshima Toyo Carp
LOCATION:東京ドーム
DESCRIPTION:1
END:VEVENT
BEGIN:VEVENT
UID:2021039186@faceoff
DTSTART:20260724T090000Z
DURATION:PT3H30M
SUMMARY:Yomiuri Giants @ Hanshin Tigers
LOCATION:阪神甲子園球場
DESCRIPTION:1
END:VEVENT
BEGIN:VEVENT
UID:2021039191@faceoff
DTSTART:20260725T090000Z
DURATION:PT3H30M
SUMMARY:Yomiuri Giants @ Hanshin Tigers
LOCATION:阪神甲子園球場
DESCRIPTION:1
END:VEVENT
BEGIN:VEVENT
UID:2021039197@faceoff
DTSTART:20260726T090000Z
DURATION:PT3H30M
SUMMARY:Yomiuri Giants @ Hanshin Tigers
LOCATION:阪神甲子園球場
DESCRIPTION:1
END:VEVENT
BEGIN:VEVENT
UID:2021039201@faceoff
DTSTART:20260731T090000Z
DURATION:PT3H30M
SUMMARY:Yomiuri Giants vs Yokohama DeNA BayStars
LOCATION:東京ドーム
DESCRIPTION:1
END:VEVENT
BEGIN:VEVENT
UID:2021039207@faceoff
DTSTART:20260801T090000Z
DURATION:PT3H30M
SUMMARY:Yomiuri Giants vs Yokohama DeNA BayStars
LOCATION:東京ドーム
DESCRIPTION:1
END:VEVENT
BEGIN:VEVENT
UID:2021039213@faceoff
DTSTART:20260802T050000Z
DURATION:PT3H30M
SUMMARY:Yomiuri Giants vs Yokohama DeNA BayStars
LOCATION:東京ドーム
DESCRIPTION:1
END:VEVENT
BEGIN:VEVENT
UID:2021039222@faceoff
DTSTART:20260804T090000Z
DURATION:PT3H30M
SUMMARY:Yomiuri Giants @ Hiroshima Toyo Carp
LOCATION:MAZDA Zoom-Zoom スタジアム広島
DESCRIPTION:1
END:VEVENT
BEGIN:VEVENT
UID:2021039227@faceoff
DTSTART:20260805T090000Z
DURATION:PT3H30M
SUMMARY:Yomiuri Giants @ Hiroshima Toyo Carp
LOCATION:MAZDA Zoom-Zoom スタジアム広島
DESCRIPTION:1
END:VEVENT
BEGIN:VEVENT
UID:2021039233@faceoff
DTSTART:20260806T090000Z
DURATION:PT3H30M
SUMMARY:Yomiuri Giants @ Hiroshima Toyo Carp
LOCATION:MAZDA Zoom-Zoom スタジアム広島
DESCRIPTION:1
END:VEVENT
BEGIN:VEVENT
UID:2021039236@faceoff
DTSTART:20260807T090000Z
DURATION:PT3H30M
SUMMARY:Yomiuri Giants vs Tokyo Yakult Swallows
LOCATION:東京ドーム
DESCRIPTION:1
END:VEVENT
BEGIN:VEVENT
UID:2021039242@faceoff
DTSTART:20260808T060000Z
DURATION:PT3H30M
SUMMARY:Yomiuri Giants vs Tokyo Yakult Swallows
LOCATION:東京ドーム
DESCRIPTION:1
END:VEVENT
BEGIN:VEVENT
UID:2021039248@faceoff
DTSTART:20260809T050000Z
DURATION:PT3H30M
SUMMARY:Yomiuri Giants vs Tokyo Yakult Swallows
LOCATION:東京ドーム
DESCRIPTION:1
END:VEVENT
BEGIN:VEVENT
UID:2021039254@faceoff
DTSTART:20260811T050000Z
DURATION:PT3H30M
SUMMARY:Yomiuri Giants vs Hanshin Tigers
LOCATION:東京ドーム
DESCRIPTION:1
END:VEVENT
BEGIN:VEVENT
UID:2021039260@faceoff
DTSTART:20260812T090000Z
DURATION:PT3H30M
SUMMARY:Yomiuri Giants vs Hanshin Tigers
LOCATION:東京ドーム
DESCRIPTION:1
END:VEVENT
BEGIN:VEVENT
UID:2021039266@faceoff
DTSTART:20260813T090000Z
DURATION:PT3H30M
SUMMARY:Yomiuri Giants vs Hanshin Tigers
LOCATION:東京ドーム
DESCRIPTION:1
END:VEVENT
BEGIN:VEVENT
UID:2021039273@faceoff
DTSTART:20260814T090000Z
DURATION:PT3H30M
SUMMARY:Yomiuri Giants @ Chunichi Dragons
LOCATION:バンテリンドーム ナゴヤ
DESCRIPTION:1
END:VEVENT
BEGIN:VEVENT
UID:2021039279@faceoff
DTSTART:20260815T050000Z
DURATION:PT3H30M
SUMMARY:Yomiuri Giants @ Chunichi Dragons
LOCATION:バンテリンドーム ナゴヤ
DESCRIPTION:1
END:VEVENT
BEGIN:VEVENT
UID:2021039285@faceoff
DTSTART:20260816T043000Z
DURATION:PT3H30M
SUMMARY:Yomiuri Giants @ Chunichi Dragons
LOCATION:バンテリンドーム ナゴヤ
DESCRIPTION:1
END:VEVENT
BEGIN:VEVENT
UID:2021039290@faceoff
DTSTART:20260818T084500Z
DURATION:PT3H30M
SUMMARY:Yomiuri Giants @ Yokohama DeNA BayStars
LOCATION:横浜スタジアム
DESCRIPTION:1
END:VEVENT
BEGIN:VEVENT
UID:2021039296@faceoff
DTSTART:20260819T084500Z
DURATION:PT3H30M
SUMMARY:Yomiuri Giants @ Yokohama DeNA BayStars
LOCATION:横浜スタジアム
DESCRIPTION:1
END:VEVENT
BEGIN:VEVENT
UID:2021039302@faceoff
DTSTART:20260820T084500Z
DURATION:PT3H30M
SUMMARY:Yomiuri Giants @ Yokohama DeNA BayStars
LOCATION:横浜スタジアム
DESCRIPTION:1
END:VEVENT
BEGIN:VEVENT
UID:2021039308@faceoff
DTSTART:20260821T090000Z
DURATION:PT3H30M
SUMMARY:Yomiuri Giants vs Hiroshima Toyo Carp
LOCATION:東京ドーム
DESCRIPTION:1
END:VEVENT
BEGIN:VEVENT
UID:2021039313@faceoff
DTSTART:20260822T050000Z
DURATION:PT3H30M
SUMMARY:Yomiuri Giants vs Hiroshima Toyo Carp
LOCATION:東京ドーム
DESCRIPTION:1
END:VEVENT
BEGIN:VEVENT
UID:2021039319@faceoff
DTSTART:20260823T050000Z
DURATION:PT3H30M
SUMMARY:Yomiuri Giants vs Hiroshima Toyo Carp
LOCATION:東京ドーム
DESCRIPTION:1
END:VEVENT
BEGIN:VEVENT
UID:2021039325@faceoff
DTSTART:20260825T090000Z
DURATION:PT3H30M
SUMMARY:Yomiuri Giants @ Tokyo Yakult Swallows
LOCATION:明治神宮野球場
DESCRIPTION:1
END:VEVENT
BEGIN:VEVENT
UID:2021039331@faceoff
DTSTART:20260826T090000Z
DURATION:PT3H30M
SUMMARY:Yomiuri Giants @ Tokyo Yakult Swallows
LOCATION:明治神宮野球場
DESCRIPTION:1
END:VEVENT
BEGIN:VEVENT
UID:2021039337@faceoff
DTSTART:20260827T090000Z
DURATION:PT3H30M
SUMMARY:Yomiuri Giants @ Tokyo Yakult Swallows
LOCATION:明治神宮野球場
DESCRIPTION:1
END:VEVENT
BEGIN:VEVENT
UID:2021039343@faceoff
DTSTART:20260828T090000Z
DURATION:PT3H30M
SUMMARY:Yomiuri Giants @ Hanshin Tigers
LOCATION:阪神甲子園球場
DESCRIPTION:1
END:VEVENT
BEGIN:VEVENT
UID:2021039349@faceoff
DTSTART:20260829T090000Z
DURATION:PT3H30M
SUMMARY:Yomiuri Giants @ Hanshin Tigers
LOCATION:阪神甲子園球場
DESCRIPTION:1
END:VEVENT
BEGIN:VEVENT
UID:2021039355@faceoff
DTSTART:20260830T090000Z
DURATION:PT3H30M
SUMMARY:Yomiuri Giants @ Hanshin Tigers
LOCATION:阪神甲子園球場
DESCRIPTION:1
END:VEVENT
BEGIN:VEVENT
UID:2021039360@faceoff
DTSTART:20260901T090000Z
DURATION:PT3H30M
SUMMARY:Yomiuri Giants vs Yokohama DeNA BayStars
LOCATION:京セラドーム大阪
DESCRIPTION:1
END:VEVENT
BEGIN:VEVENT
UID:2021039366@faceoff
DTSTART:20260902T090000Z
DURATION:PT3H30M
SUMMARY:Yomiuri Giants vs Yokohama DeNA BayStars
LOCATION:京セラドーム大阪
DESCRIPTION:1
END:VEVENT
BEGIN:VEVENT
UID:2021039374@faceoff
DTSTART:20260904T090000Z
DURATION:PT3H30M
SUMMARY:Yomiuri Giants @ Hiroshima Toyo Carp
LOCATION:MAZDA Zoom-Zoom スタジアム広島
DESCRIPTION:1
END:VEVENT
BEGIN:VEVENT
UID:2021039380@faceoff
DTSTART:20260905T090000Z
DURATION:PT3H30M
SUMMARY:Yomiuri Giants @ Hiroshima Toyo Carp
LOCATION:MAZDA Zoom-Zoom スタジアム広島
DESCRIPTION:1
END:VEVENT
BEGIN:VEVENT
UID:2021039386@faceoff
DTSTART:20260906T090000Z
DURATION:PT3H30M
SUMMARY:Yomiuri Giants @ Hiroshima Toyo Carp
LOCATION:MAZDA Zoom-Zoom スタジアム広島
DESCRIPTION:1
END:VEVENT
BEGIN:VEVENT
UID:2021039390@faceoff
DTSTART:20260908T090000Z
DURATION:PT3H30M
SUMMARY:Yomiuri Giants vs Chunichi Dragons
LOCATION:東京ドーム
DESCRIPTION:1
END:VEVENT
BEGIN:VEVENT
UID:2021039396@faceoff
DTSTART:20260909T090000Z
DURATION:PT3H30M
SUMMARY:Yomiuri Giants vs Chunichi Dragons
LOCATION:東京ドーム
DESCRIPTION:1
END:VEVENT
BEGIN:VEVENT
UID:2021039402@faceoff
DTSTART:20260910T090000Z
DURATION:PT3H30M
SUMMARY:Yomiuri Giants vs Chunichi Dragons
LOCATION:東京ドーム
DESCRIPTION:1
END:VEVENT
BEGIN:VEVENT
UID:2021039409@faceoff
DTSTART:20260912T050000Z
DURATION:PT3H30M
SUMMARY:Yomiuri Giants vs Hanshin Tigers
LOCATION:東京ドーム
DESCRIPTION:1
END:VEVENT
BEGIN:VEVENT
UID:2021039416@faceoff
DTSTART:20260913T090000Z
DURATION:PT3H30M
SUMMARY:Yomiuri Giants @ Yokohama DeNA BayStars
LOCATION:横浜スタジアム
DESCRIPTION:1
END:VEVENT
BEGIN:VEVENT
UID:2021039428@faceoff
DTSTART:20260918T090000Z
DURATION:PT3H30M
SUMMARY:Yomiuri Giants vs Chunichi Dragons
LOCATION:東京ドーム
DESCRIPTION:1
END:VEVENT
BEGIN:VEVENT
UID:2021039431@faceoff
DTSTART:20260919T050000Z
DURATION:PT3H30M
SUMMARY:Yomiuri Giants vs Chunichi Dragons
LOCATION:東京ドーム
DESCRIPTION:1
END:VEVENT
BEGIN:VEVENT
UID:2021039437@faceoff
DTSTART:20260920T050000Z
DURATION:PT3H30M
SUMMARY:Yomiuri Giants vs Tokyo Yakult Swallows
LOCATION:東京ドーム
DESCRIPTION:1
END:VEVENT
BEGIN:VEVENT
UID:2021039450@faceoff
DTSTART:20260922T060000Z
DURATION:PT3H30M
SUMMARY:Yomiuri Giants @ Hiroshima Toyo Carp
LOCATION:MAZDA Zoom-Zoom スタジアム広島
DESCRIPTION:1
END:VEVENT
BEGIN:VEVENT
UID:2021039455@faceoff
DTSTART:20260923T060000Z
DURATION:PT3H30M
SUMMARY:Yomiuri Giants @ Hiroshima Toyo Carp
LOCATION:MAZDA Zoom-Zoom スタジアム広島
DESCRIPTION:1
END:VEVENT
END:VCALENDAR
