BEGIN:VCALENDAR
VERSION:2.0
X-WR-CALNAME:Yokohama DeNA BayStars Schedule
REFRESH-INTERVAL;VALUE=DURATION:PT1H
X-PUBLISHED-TTL:PT1H
BEGIN:VEVENT
UID:2021040016@faceoff
DTSTART:20260221T040000Z
DURATION:PT3H30M
SUMMARY:Yokohama DeNA BayStars vs Hiroshima Toyo Carp
LOCATION:ユニオンですからスタジアム宜野湾
DESCRIPTION:2
END:VEVENT
BEGIN:VEVENT
UID:2021040020@faceoff
DTSTART:20260222T040000Z
DURATION:PT3H30M
SUMMARY:Yokohama DeNA BayStars vs Tohoku Rakuten Golden Eagles
LOCATION:ユニオンですからスタジアム宜野湾
DESCRIPTION:2
END:VEVENT
BEGIN:VEVENT
UID:2021040029@faceoff
DTSTART:20260301T050000Z
DURATION:PT3H30M
SUMMARY:Yokohama DeNA BayStars @ Chunichi Dragons
LOCATION:バンテリンドーム ナゴヤ
DESCRIPTION:2
END:VEVENT
BEGIN:VEVENT
UID:2021040031@faceoff
DTSTART:20260303T040000Z
DURATION:PT3H30M
SUMMARY:Yokohama DeNA BayStars vs Chunichi Dragons
LOCATION:横浜スタジアム
DESCRIPTION:4
END:VEVENT
BEGIN:VEVENT
UID:2021040035@faceoff
DTSTART:20260304T040000Z
DURATION:PT3H30M
SUMMARY:Yokohama DeNA BayStars vs Chunichi Dragons
LOCATION:横浜スタジアム
DESCRIPTION:2
END:VEVENT
BEGIN:VEVENT
UID:2021040040@faceoff
DTSTART:20260305T040000Z
DURATION:PT3H30M
SUMMARY:Yokohama DeNA BayStars vs Chunichi Dragons
LOCATION:横浜スタジアム
DESCRIPTION:2
END:VEVENT
BEGIN:VEVENT
UID:2021040045@faceoff
DTSTART:20260307T040000Z
DURATION:PT3H30M
SUMMARY:Yokohama DeNA BayStars @ Tohoku Rakuten Golden Eagles
LOCATION:静岡県草薙総合運動場硬式野球場
DESCRIPTION:2
END:VEVENT
BEGIN:VEVENT
UID:2021040051@faceoff
DTSTART:20260308T040000Z
DURATION:PT3H30M
SUMMARY:Yokohama DeNA BayStars @ Tohoku Rakuten Golden Eagles
LOCATION:静岡県草薙総合運動場硬式野球場
DESCRIPTION:2
END:VEVENT
BEGIN:VEVENT
UID:2021040057@faceoff
DTSTART:20260310T040000Z
DURATION:PT3H30M
SUMMARY:Yokohama DeNA BayStars vs Hiroshima Toyo Carp
LOCATION:横浜スタジアム
DESCRIPTION:2
END:VEVENT
BEGIN:VEVENT
UID:2021040063@faceoff
DTSTART:20260311T040000Z
DURATION:PT3H30M
SUMMARY:Yokohama DeNA BayStars vs Hiroshima Toyo Carp
LOCATION:横浜スタジアム
DESCRIPTION:2
END:VEVENT
BEGIN:VEVENT
UID:2021040068@faceoff
DTSTART:20260312T040000Z
DURATION:PT3H30M
SUMMARY:Yokohama DeNA BayStars vs Hiroshima Toyo Carp
LOCATION:横浜スタジアム
DESCRIPTION:2
END:VEVENT
BEGIN:VEVENT
UID:2021040076@faceoff
DTSTART:20260314T040000Z
DURATION:PT3H30M
SUMMARY:Yokohama DeNA BayStars vs Fukuoka SoftBank Hawks
LOCATION:横浜スタジアム
DESCRIPTION:2
END:VEVENT
BEGIN:VEVENT
UID:2021040082@faceoff
DTSTART:20260315T040000Z
DURATION:PT3H30M
SUMMARY:Yokohama DeNA BayStars vs Fukuoka SoftBank Hawks
LOCATION:横浜スタジアム
DESCRIPTION:2
END:VEVENT
BEGIN:VEVENT
UID:2021040085@faceoff
DTSTART:20260317T090000Z
DURATION:PT3H30M
SUMMARY:Yokohama DeNA BayStars @ Hokkaido Nippon-Ham Fighters
LOCATION:エスコンフィールドHOKKAIDO
DESCRIPTION:2
END:VEVENT
BEGIN:VEVENT
UID:2021040091@faceoff
DTSTART:20260318T090000Z
DURATION:PT3H30M
SUMMARY:Yokohama DeNA BayStars @ Hokkaido Nippon-Ham Fighters
LOCATION:エスコンフィールドHOKKAIDO
DESCRIPTION:2
END:VEVENT
BEGIN:VEVENT
UID:2021040098@faceoff
DTSTART:20260320T040000Z
DURATION:PT3H30M
SUMMARY:Yokohama DeNA BayStars @ Saitama Seibu Lions
LOCATION:ベルーナドーム
DESCRIPTION:2
END:VEVENT
BEGIN:VEVENT
UID:2021040104@faceoff
DTSTART:20260321T040000Z
DURATION:PT3H30M
SUMMARY:Yokohama DeNA BayStars @ Saitama Seibu Lions
LOCATION:ベルーナドーム
DESCRIPTION:2
END:VEVENT
BEGIN:VEVENT
UID:2021040110@faceoff
DTSTART:20260322T040000Z
DURATION:PT3H30M
SUMMARY:Yokohama DeNA BayStars @ Saitama Seibu Lions
LOCATION:ベルーナドーム
DESCRIPTION:2
END:VEVENT
BEGIN:VEVENT
UID:2021038623@faceoff
DTSTART:20260327T093000Z
DURATION:PT3H30M
SUMMARY:Yokohama DeNA BayStars vs Tokyo Yakult Swallows
LOCATION:横浜スタジアム
DESCRIPTION:2
END:VEVENT
BEGIN:VEVENT
UID:2021038629@faceoff
DTSTART:20260328T050000Z
DURATION:PT3H30M
SUMMARY:Yokohama DeNA BayStars vs Tokyo Yakult Swallows
LOCATION:横浜スタジアム
DESCRIPTION:2
END:VEVENT
BEGIN:VEVENT
UID:2021038635@faceoff
DTSTART:20260329T050000Z
DURATION:PT3H30M
SUMMARY:Yokohama DeNA BayStars vs Tokyo Yakult Swallows
LOCATION:横浜スタジアム
DESCRIPTION:2
END:VEVENT
BEGIN:VEVENT
UID:2021038642@faceoff
DTSTART:20260331T090000Z
DURATION:PT3H30M
SUMMARY:Yokohama DeNA BayStars @ Hanshin Tigers
LOCATION:京セラドーム大阪
DESCRIPTION:2
END:VEVENT
BEGIN:VEVENT
UID:2021038648@faceoff
DTSTART:20260401T090000Z
DURATION:PT3H30M
SUMMARY:Yokohama DeNA BayStars @ Hanshin Tigers
LOCATION:京セラドーム大阪
DESCRIPTION:2
END:VEVENT
BEGIN:VEVENT
UID:2021038654@faceoff
DTSTART:20260402T090000Z
DURATION:PT3H30M
SUMMARY:Yokohama DeNA BayStars @ Hanshin Tigers
LOCATION:京セラドーム大阪
DESCRIPTION:2
END:VEVENT
BEGIN:VEVENT
UID:2021038658@faceoff
DTSTART:20260403T090000Z
DURATION:PT3H30M
SUMMARY:Yokohama DeNA BayStars @ Yomiuri Giants
LOCATION:東京ドーム
DESCRIPTION:2
END:VEVENT
BEGIN:VEVENT
UID:2021038664@faceoff
DTSTART:20260404T050000Z
DURATION:PT3H30M
SUMMARY:Yokohama DeNA BayStars @ Yomiuri Giants
LOCATION:東京ドーム
DESCRIPTION:2
END:VEVENT
BEGIN:VEVENT
UID:2021038670@faceoff
DTSTART:20260405T050000Z
DURATION:PT3H30M
SUMMARY:Yokohama DeNA BayStars @ Yomiuri Giants
LOCATION:東京ドーム
DESCRIPTION:2
END:VEVENT
BEGIN:VEVENT
UID:2021038676@faceoff
DTSTART:20260407T090000Z
DURATION:PT3H30M
SUMMARY:Yokohama DeNA BayStars vs Chunichi Dragons
LOCATION:横浜スタジアム
DESCRIPTION:2
END:VEVENT
BEGIN:VEVENT
UID:2021038682@faceoff
DTSTART:20260408T090000Z
DURATION:PT3H30M
SUMMARY:Yokohama DeNA BayStars vs Chunichi Dragons
LOCATION:横浜スタジアム
DESCRIPTION:2
END:VEVENT
BEGIN:VEVENT
UID:2021038694@faceoff
DTSTART:20260410T090000Z
DURATION:PT3H30M
SUMMARY:Yokohama DeNA BayStars vs Hiroshima Toyo Carp
LOCATION:横浜スタジアム
DESCRIPTION:4
END:VEVENT
BEGIN:VEVENT
UID:2021038699@faceoff
DTSTART:20260411T050000Z
DURATION:PT3H30M
SUMMARY:Yokohama DeNA BayStars vs Hiroshima Toyo Carp
LOCATION:横浜スタジアム
DESCRIPTION:2
END:VEVENT
BEGIN:VEVENT
UID:2021038705@faceoff
DTSTART:20260412T050000Z
DURATION:PT3H30M
SUMMARY:Yokohama DeNA BayStars vs Hiroshima Toyo Carp
LOCATION:横浜スタジアム
DESCRIPTION:2
END:VEVENT
BEGIN:VEVENT
UID:2021038710@faceoff
DTSTART:20260414T090000Z
DURATION:PT3H30M
SUMMARY:Yokohama DeNA BayStars @ Tokyo Yakult Swallows
LOCATION:坊っちゃんスタジアム
DESCRIPTION:2
END:VEVENT
BEGIN:VEVENT
UID:2021038721@faceoff
DTSTART:20260416T090000Z
DURATION:PT3H30M
SUMMARY:Yokohama DeNA BayStars @ Tokyo Yakult Swallows
LOCATION:明治神宮野球場
DESCRIPTION:2
END:VEVENT
BEGIN:VEVENT
UID:2021038728@faceoff
DTSTART:20260417T090000Z
DURATION:PT3H30M
SUMMARY:Yokohama DeNA BayStars @ Hiroshima Toyo Carp
LOCATION:MAZDA Zoom-Zoom スタジアム広島
DESCRIPTION:2
END:VEVENT
BEGIN:VEVENT
UID:2021038734@faceoff
DTSTART:20260418T050000Z
DURATION:PT3H30M
SUMMARY:Yokohama DeNA BayStars @ Hiroshima Toyo Carp
LOCATION:MAZDA Zoom-Zoom スタジアム広島
DESCRIPTION:2
END:VEVENT
BEGIN:VEVENT
UID:2021038740@faceoff
DTSTART:20260419T043000Z
DURATION:PT3H30M
SUMMARY:Yokohama DeNA BayStars @ Hiroshima Toyo Carp
LOCATION:MAZDA Zoom-Zoom スタジアム広島
DESCRIPTION:2
END:VEVENT
BEGIN:VEVENT
UID:2021038745@faceoff
DTSTART:20260421T084500Z
DURATION:PT3H30M
SUMMARY:Yokohama DeNA BayStars vs Hanshin Tigers
LOCATION:横浜スタジアム
DESCRIPTION:2
END:VEVENT
BEGIN:VEVENT
UID:2021038751@faceoff
DTSTART:20260422T084500Z
DURATION:PT3H30M
SUMMARY:Yokohama DeNA BayStars vs Hanshin Tigers
LOCATION:横浜スタジアム
DESCRIPTION:2
END:VEVENT
BEGIN:VEVENT
UID:2021038756@faceoff
DTSTART:20260423T084500Z
DURATION:PT3H30M
SUMMARY:Yokohama DeNA BayStars vs Hanshin Tigers
LOCATION:横浜スタジアム
DESCRIPTION:4
END:VEVENT
BEGIN:VEVENT
UID:2021038761@faceoff
DTSTART:20260424T090000Z
DURATION:PT3H30M
SUMMARY:Yokohama DeNA BayStars vs Yomiuri Giants
LOCATION:横浜スタジアム
DESCRIPTION:1
END:VEVENT
BEGIN:VEVENT
UID:2021038764@faceoff
DTSTART:20260425T050000Z
DURATION:PT3H30M
SUMMARY:Yokohama DeNA BayStars vs Yomiuri Giants
LOCATION:横浜スタジアム
DESCRIPTION:1
END:VEVENT
BEGIN:VEVENT
UID:2021038770@faceoff
DTSTART:20260426T050000Z
DURATION:PT3H30M
SUMMARY:Yokohama DeNA BayStars vs Yomiuri Giants
LOCATION:横浜スタジアム
DESCRIPTION:1
END:VEVENT
BEGIN:VEVENT
UID:2021038778@faceoff
DTSTART:20260428T090000Z
DURATION:PT3H30M
SUMMARY:Yokohama DeNA BayStars @ Chunichi Dragons
LOCATION:バンテリンドーム ナゴヤ
DESCRIPTION:1
END:VEVENT
BEGIN:VEVENT
UID:2021038784@faceoff
DTSTART:20260429T050000Z
DURATION:PT3H30M
SUMMARY:Yokohama DeNA BayStars @ Chunichi Dragons
LOCATION:バンテリンドーム ナゴヤ
DESCRIPTION:1
END:VEVENT
BEGIN:VEVENT
UID:2021038790@faceoff
DTSTART:20260430T090000Z
DURATION:PT3H30M
SUMMARY:Yokohama DeNA BayStars @ Chunichi Dragons
LOCATION:バンテリンドーム ナゴヤ
DESCRIPTION:1
END:VEVENT
BEGIN:VEVENT
UID:2021038792@faceoff
DTSTART:20260501T090000Z
DURATION:PT3H30M
SUMMARY:Yokohama DeNA BayStars @ Tokyo Yakult Swallows
LOCATION:明治神宮野球場
DESCRIPTION:1
END:VEVENT
BEGIN:VEVENT
UID:2021038798@faceoff
DTSTART:20260502T090000Z
DURATION:PT3H30M
SUMMARY:Yokohama DeNA BayStars @ Tokyo Yakult Swallows
LOCATION:明治神宮野球場
DESCRIPTION:1
END:VEVENT
BEGIN:VEVENT
UID:2021038804@faceoff
DTSTART:20260503T090000Z
DURATION:PT3H30M
SUMMARY:Yokohama DeNA BayStars @ Tokyo Yakult Swallows
LOCATION:明治神宮野球場
DESCRIPTION:1
END:VEVENT
BEGIN:VEVENT
UID:2021038811@faceoff
DTSTART:20260504T060000Z
DURATION:PT3H30M
SUMMARY:Yokohama DeNA BayStars vs Hiroshima Toyo Carp
LOCATION:横浜スタジアム
DESCRIPTION:1
END:VEVENT
BEGIN:VEVENT
UID:2021038817@faceoff
DTSTART:20260505T050000Z
DURATION:PT3H30M
SUMMARY:Yokohama DeNA BayStars vs Hiroshima Toyo Carp
LOCATION:横浜スタジアム
DESCRIPTION:1
END:VEVENT
BEGIN:VEVENT
UID:2021038823@faceoff
DTSTART:20260506T050000Z
DURATION:PT3H30M
SUMMARY:Yokohama DeNA BayStars vs Hiroshima Toyo Carp
LOCATION:横浜スタジアム
DESCRIPTION:1
END:VEVENT
BEGIN:VEVENT
UID:2021038829@faceoff
DTSTART:20260508T090000Z
DURATION:PT3H30M
SUMMARY:Yokohama DeNA BayStars @ Hanshin Tigers
LOCATION:阪神甲子園球場
DESCRIPTION:1
END:VEVENT
BEGIN:VEVENT
UID:2021038835@faceoff
DTSTART:20260509T050000Z
DURATION:PT3H30M
SUMMARY:Yokohama DeNA BayStars @ Hanshin Tigers
LOCATION:阪神甲子園球場
DESCRIPTION:1
END:VEVENT
BEGIN:VEVENT
UID:2021038841@faceoff
DTSTART:20260510T050000Z
DURATION:PT3H30M
SUMMARY:Yokohama DeNA BayStars @ Hanshin Tigers
LOCATION:阪神甲子園球場
DESCRIPTION:1
END:VEVENT
BEGIN:VEVENT
UID:2021038848@faceoff
DTSTART:20260512T090000Z
DURATION:PT3H30M
SUMMARY:Yokohama DeNA BayStars vs Chunichi Dragons
LOCATION:横浜スタジアム
DESCRIPTION:1
END:VEVENT
BEGIN:VEVENT
UID:2021038854@faceoff
DTSTART:20260513T090000Z
DURATION:PT3H30M
SUMMARY:Yokohama DeNA BayStars vs Chunichi Dragons
LOCATION:横浜スタジアム
DESCRIPTION:1
END:VEVENT
BEGIN:VEVENT
UID:2021038857@faceoff
DTSTART:20260514T090000Z
DURATION:PT3H30M
SUMMARY:Yokohama DeNA BayStars vs Chunichi Dragons
LOCATION:横浜スタジアム
DESCRIPTION:1
END:VEVENT
BEGIN:VEVENT
UID:2021038860@faceoff
DTSTART:20260515T090000Z
DURATION:PT3H30M
SUMMARY:Yokohama DeNA BayStars @ Yomiuri Giants
LOCATION:東京ドーム
DESCRIPTION:1
END:VEVENT
BEGIN:VEVENT
UID:2021038866@faceoff
DTSTART:20260516T050000Z
DURATION:PT3H30M
SUMMARY:Yokohama DeNA BayStars @ Yomiuri Giants
LOCATION:東京ドーム
DESCRIPTION:1
END:VEVENT
BEGIN:VEVENT
UID:2021038872@faceoff
DTSTART:20260517T050000Z
DURATION:PT3H30M
SUMMARY:Yokohama DeNA BayStars @ Yomiuri Giants
LOCATION:東京ドーム
DESCRIPTION:1
END:VEVENT
BEGIN:VEVENT
UID:2021038880@faceoff
DTSTART:20260519T090000Z
DURATION:PT3H30M
SUMMARY:Yokohama DeNA BayStars @ Hiroshima Toyo Carp
LOCATION:MAZDA Zoom-Zoom スタジアム広島
DESCRIPTION:1
END:VEVENT
BEGIN:VEVENT
UID:2021038885@faceoff
DTSTART:20260520T090000Z
DURATION:PT3H30M
SUMMARY:Yokohama DeNA BayStars @ Hiroshima Toyo Carp
LOCATION:MAZDA Zoom-Zoom スタジアム広島
DESCRIPTION:1
END:VEVENT
BEGIN:VEVENT
UID:2021038891@faceoff
DTSTART:20260521T090000Z
DURATION:PT3H30M
SUMMARY:Yokohama DeNA BayStars @ Hiroshima Toyo Carp
LOCATION:MAZDA Zoom-Zoom スタジアム広島
DESCRIPTION:1
END:VEVENT
BEGIN:VEVENT
UID:2021038898@faceoff
DTSTART:20260523T050000Z
DURATION:PT3H30M
SUMMARY:Yokohama DeNA BayStars vs Tokyo Yakult Swallows
LOCATION:横浜スタジアム
DESCRIPTION:1
END:VEVENT
BEGIN:VEVENT
UID:2021038904@faceoff
DTSTART:20260524T050000Z
DURATION:PT3H30M
SUMMARY:Yokohama DeNA BayStars vs Tokyo Yakult Swallows
LOCATION:横浜スタジアム
DESCRIPTION:1
END:VEVENT
BEGIN:VEVENT
UID:2021038911@faceoff
DTSTART:20260526T084500Z
DURATION:PT3H30M
SUMMARY:Yokohama DeNA BayStars vs ORIX Buffaloes
LOCATION:横浜スタジアム
DESCRIPTION:1
END:VEVENT
BEGIN:VEVENT
UID:2021038917@faceoff
DTSTART:20260527T084500Z
DURATION:PT3H30M
SUMMARY:Yokohama DeNA BayStars vs ORIX Buffaloes
LOCATION:横浜スタジアム
DESCRIPTION:1
END:VEVENT
BEGIN:VEVENT
UID:2021038923@faceoff
DTSTART:20260528T084500Z
DURATION:PT3H30M
SUMMARY:Yokohama DeNA BayStars vs ORIX Buffaloes
LOCATION:横浜スタジアム
DESCRIPTION:1
END:VEVENT
BEGIN:VEVENT
UID:2021038929@faceoff
DTSTART:20260529T090000Z
DURATION:PT3H30M
SUMMARY:Yokohama DeNA BayStars @ Saitama Seibu Lions
LOCATION:ベルーナドーム
DESCRIPTION:1
END:VEVENT
BEGIN:VEVENT
UID:2021038935@faceoff
DTSTART:20260530T050000Z
DURATION:PT3H30M
SUMMARY:Yokohama DeNA BayStars @ Saitama Seibu Lions
LOCATION:ベルーナドーム
DESCRIPTION:1
END:VEVENT
BEGIN:VEVENT
UID:2021038941@faceoff
DTSTART:20260531T050000Z
DURATION:PT3H30M
SUMMARY:Yokohama DeNA BayStars @ Saitama Seibu Lions
LOCATION:ベルーナドーム
DESCRIPTION:1
END:VEVENT
BEGIN:VEVENT
UID:2021038947@faceoff
DTSTART:20260602T090000Z
DURATION:PT3H30M
SUMMARY:Yokohama DeNA BayStars vs Tohoku Rakuten Golden Eagles
LOCATION:横浜スタジアム
DESCRIPTION:1
END:VEVENT
BEGIN:VEVENT
UID:2021038953@faceoff
DTSTART:20260603T090000Z
DURATION:PT3H30M
SUMMARY:Yokohama DeNA BayStars vs Tohoku Rakuten Golden Eagles
LOCATION:横浜スタジアム
DESCRIPTION:1
END:VEVENT
BEGIN:VEVENT
UID:2021038959@faceoff
DTSTART:20260604T090000Z
DURATION:PT3H30M
SUMMARY:Yokohama DeNA BayStars vs Tohoku Rakuten Golden Eagles
LOCATION:横浜スタジアム
DESCRIPTION:1
END:VEVENT
BEGIN:VEVENT
UID:2021038965@faceoff
DTSTART:20260605T090000Z
DURATION:PT3H30M
SUMMARY:Yokohama DeNA BayStars vs Fukuoka SoftBank Hawks
LOCATION:横浜スタジアム
DESCRIPTION:1
END:VEVENT
BEGIN:VEVENT
UID:2021038971@faceoff
DTSTART:20260606T050000Z
DURATION:PT3H30M
SUMMARY:Yokohama DeNA BayStars vs Fukuoka SoftBank Hawks
LOCATION:横浜スタジアム
DESCRIPTION:1
END:VEVENT
BEGIN:VEVENT
UID:2021038977@faceoff
DTSTART:20260607T050000Z
DURATION:PT3H30M
SUMMARY:Yokohama DeNA BayStars vs Fukuoka SoftBank Hawks
LOCATION:横浜スタジアム
DESCRIPTION:1
END:VEVENT
BEGIN:VEVENT
UID:2021038981@faceoff
DTSTART:20260609T090000Z
DURATION:PT3H30M
SUMMARY:Yokohama DeNA BayStars @ Hokkaido Nippon-Ham Fighters
LOCATION:エスコンフィールドHOKKAIDO
DESCRIPTION:1
END:VEVENT
BEGIN:VEVENT
UID:2021038987@faceoff
DTSTART:20260610T090000Z
DURATION:PT3H30M
SUMMARY:Yokohama DeNA BayStars @ Hokkaido Nippon-Ham Fighters
LOCATION:エスコンフィールドHOKKAIDO
DESCRIPTION:1
END:VEVENT
BEGIN:VEVENT
UID:2021038993@faceoff
DTSTART:20260611T090000Z
DURATION:PT3H30M
SUMMARY:Yokohama DeNA BayStars @ Hokkaido Nippon-Ham Fighters
LOCATION:エスコンフィールドHOKKAIDO
DESCRIPTION:1
END:VEVENT
BEGIN:VEVENT
UID:2021039002@faceoff
DTSTART:20260612T090000Z
DURATION:PT3H30M
SUMMARY:Yokohama DeNA BayStars @ Chiba Lotte Marines
LOCATION:ZOZOマリンスタジアム
DESCRIPTION:1
END:VEVENT
BEGIN:VEVENT
UID:2021039008@faceoff
DTSTART:20260613T050000Z
DURATION:PT3H30M
SUMMARY:Yokohama DeNA BayStars @ Chiba Lotte Marines
LOCATION:ZOZOマリンスタジアム
DESCRIPTION:1
END:VEVENT
BEGIN:VEVENT
UID:2021039014@faceoff
DTSTART:20260614T050000Z
DURATION:PT3H30M
SUMMARY:Yokohama DeNA BayStars @ Chiba Lotte Marines
LOCATION:ZOZOマリンスタジアム
DESCRIPTION:1
END:VEVENT
BEGIN:VEVENT
UID:2021039019@faceoff
DTSTART:20260619T091500Z
DURATION:PT3H30M
SUMMARY:Yokohama DeNA BayStars vs Hanshin Tigers
LOCATION:横浜スタジアム
DESCRIPTION:1
END:VEVENT
BEGIN:VEVENT
UID:2021039025@faceoff
DTSTART:20260620T091500Z
DURATION:PT3H30M
SUMMARY:Yokohama DeNA BayStars vs Hanshin Tigers
LOCATION:横浜スタジアム
DESCRIPTION:1
END:VEVENT
BEGIN:VEVENT
UID:2021039031@faceoff
DTSTART:20260621T091500Z
DURATION:PT3H30M
SUMMARY:Yokohama DeNA BayStars vs Hanshin Tigers
LOCATION:横浜スタジアム
DESCRIPTION:1
END:VEVENT
BEGIN:VEVENT
UID:2021039036@faceoff
DTSTART:20260623T090000Z
DURATION:PT3H30M
SUMMARY:Yokohama DeNA BayStars @ Chunichi Dragons
LOCATION:ぎふしん長良川球場
DESCRIPTION:1
END:VEVENT
BEGIN:VEVENT
UID:2021039042@faceoff
DTSTART:20260624T090000Z
DURATION:PT3H30M
SUMMARY:Yokohama DeNA BayStars @ Chunichi Dragons
LOCATION:バンテリンドーム ナゴヤ
DESCRIPTION:1
END:VEVENT
BEGIN:VEVENT
UID:2021039047@faceoff
DTSTART:20260625T090000Z
DURATION:PT3H30M
SUMMARY:Yokohama DeNA BayStars @ Chunichi Dragons
LOCATION:バンテリンドーム ナゴヤ
DESCRIPTION:1
END:VEVENT
BEGIN:VEVENT
UID:2021039052@faceoff
DTSTART:20260626T091500Z
DURATION:PT3H30M
SUMMARY:Yokohama DeNA BayStars vs Yomiuri Giants
LOCATION:横浜スタジアム
DESCRIPTION:1
END:VEVENT
BEGIN:VEVENT
UID:2021039057@faceoff
DTSTART:20260627T091500Z
DURATION:PT3H30M
SUMMARY:Yokohama DeNA BayStars vs Yomiuri Giants
LOCATION:横浜スタジアム
DESCRIPTION:1
END:VEVENT
BEGIN:VEVENT
UID:2021039063@faceoff
DTSTART:20260628T091500Z
DURATION:PT3H30M
SUMMARY:Yokohama DeNA BayStars vs Yomiuri Giants
LOCATION:横浜スタジアム
DESCRIPTION:1
END:VEVENT
BEGIN:VEVENT
UID:2021039069@faceoff
DTSTART:20260630T090000Z
DURATION:PT3H30M
SUMMARY:Yokohama DeNA BayStars vs Hiroshima Toyo Carp
LOCATION:HARD OFF ECOスタジアム新潟
DESCRIPTION:1
END:VEVENT
BEGIN:VEVENT
UID:2021039078@faceoff
DTSTART:20260702T091500Z
DURATION:PT3H30M
SUMMARY:Yokohama DeNA BayStars vs Hiroshima Toyo Carp
LOCATION:横浜スタジアム
DESCRIPTION:1
END:VEVENT
BEGIN:VEVENT
UID:2021039082@faceoff
DTSTART:20260703T090000Z
DURATION:PT3H30M
SUMMARY:Yokohama DeNA BayStars @ Tokyo Yakult Swallows
LOCATION:明治神宮野球場
DESCRIPTION:1
END:VEVENT
BEGIN:VEVENT
UID:2021039088@faceoff
DTSTART:20260704T090000Z
DURATION:PT3H30M
SUMMARY:Yokohama DeNA BayStars @ Tokyo Yakult Swallows
LOCATION:明治神宮野球場
DESCRIPTION:1
END:VEVENT
BEGIN:VEVENT
UID:2021039094@faceoff
DTSTART:20260705T090000Z
DURATION:PT3H30M
SUMMARY:Yokohama DeNA BayStars @ Tokyo Yakult Swallows
LOCATION:明治神宮野球場
DESCRIPTION:1
END:VEVENT
BEGIN:VEVENT
UID:2021039101@faceoff
DTSTART:20260707T091500Z
DURATION:PT3H30M
SUMMARY:Yokohama DeNA BayStars vs Chunichi Dragons
LOCATION:横浜スタジアム
DESCRIPTION:1
END:VEVENT
BEGIN:VEVENT
UID:2021039107@faceoff
DTSTART:20260708T091500Z
DURATION:PT3H30M
SUMMARY:Yokohama DeNA BayStars vs Chunichi Dragons
LOCATION:横浜スタジアム
DESCRIPTION:1
END:VEVENT
BEGIN:VEVENT
UID:2021039113@faceoff
DTSTART:20260709T091500Z
DURATION:PT3H30M
SUMMARY:Yokohama DeNA BayStars vs Chunichi Dragons
LOCATION:横浜スタジアム
DESCRIPTION:1
END:VEVENT
BEGIN:VEVENT
UID:2021039115@faceoff
DTSTART:20260710T091500Z
DURATION:PT3H30M
SUMMARY:Yokohama DeNA BayStars vs Yomiuri Giants
LOCATION:横浜スタジアム
DESCRIPTION:1
END:VEVENT
BEGIN:VEVENT
UID:2021039121@faceoff
DTSTART:20260711T090000Z
DURATION:PT3H30M
SUMMARY:Yokohama DeNA BayStars vs Yomiuri Giants
LOCATION:横浜スタジアム
DESCRIPTION:1
END:VEVENT
BEGIN:VEVENT
UID:2021039127@faceoff
DTSTART:20260712T090000Z
DURATION:PT3H30M
SUMMARY:Yokohama DeNA BayStars vs Yomiuri Giants
LOCATION:横浜スタジアム
DESCRIPTION:1
END:VEVENT
BEGIN:VEVENT
UID:2021039135@faceoff
DTSTART:20260714T090000Z
DURATION:PT3H30M
SUMMARY:Yokohama DeNA BayStars @ Hiroshima Toyo Carp
LOCATION:MAZDA Zoom-Zoom スタジアム広島
DESCRIPTION:1
END:VEVENT
BEGIN:VEVENT
UID:2021039141@faceoff
DTSTART:20260715T090000Z
DURATION:PT3H30M
SUMMARY:Yokohama DeNA BayStars @ Hiroshima Toyo Carp
LOCATION:MAZDA Zoom-Zoom スタジアム広島
DESCRIPTION:1
END:VEVENT
BEGIN:VEVENT
UID:2021039151@faceoff
DTSTART:20260717T090000Z
DURATION:PT3H30M
SUMMARY:Yokohama DeNA BayStars vs Tokyo Yakult Swallows
LOCATION:横浜スタジアム
DESCRIPTION:1
END:VEVENT
BEGIN:VEVENT
UID:2021039154@faceoff
DTSTART:20260718T090000Z
DURATION:PT3H30M
SUMMARY:Yokohama DeNA BayStars vs Tokyo Yakult Swallows
LOCATION:横浜スタジアム
DESCRIPTION:1
END:VEVENT
BEGIN:VEVENT
UID:2021039160@faceoff
DTSTART:20260719T090000Z
DURATION:PT3H30M
SUMMARY:Yokohama DeNA BayStars vs Tokyo Yakult Swallows
LOCATION:横浜スタジアム
DESCRIPTION:1
END:VEVENT
BEGIN:VEVENT
UID:2021039167@faceoff
DTSTART:20260720T090000Z
DURATION:PT3H30M
SUMMARY:Yokohama DeNA BayStars @ Hanshin Tigers
LOCATION:阪神甲子園球場
DESCRIPTION:1
END:VEVENT
BEGIN:VEVENT
UID:2021039173@faceoff
DTSTART:20260721T090000Z
DURATION:PT3H30M
SUMMARY:Yokohama DeNA BayStars @ Hanshin Tigers
LOCATION:阪神甲子園球場
DESCRIPTION:1
END:VEVENT
BEGIN:VEVENT
UID:2021039177@faceoff
DTSTART:20260722T090000Z
DURATION:PT3H30M
SUMMARY:Yokohama DeNA BayStars @ Hanshin Tigers
LOCATION:阪神甲子園球場
DESCRIPTION:1
END:VEVENT
BEGIN:VEVENT
UID:2021039185@faceoff
DTSTART:20260724T090000Z
DURATION:PT3H30M
SUMMARY:Yokohama DeNA BayStars @ Chunichi Dragons
LOCATION:バンテリンドーム ナゴヤ
DESCRIPTION:1
END:VEVENT
BEGIN:VEVENT
UID:2021039190@faceoff
DTSTART:20260725T050000Z
DURATION:PT3H30M
SUMMARY:Yokohama DeNA BayStars @ Chunichi Dragons
LOCATION:バンテリンドーム ナゴヤ
DESCRIPTION:1
END:VEVENT
BEGIN:VEVENT
UID:2021039196@faceoff
DTSTART:20260726T043000Z
DURATION:PT3H30M
SUMMARY:Yokohama DeNA BayStars @ Chunichi Dragons
LOCATION:バンテリンドーム ナゴヤ
DESCRIPTION:1
END:VEVENT
BEGIN:VEVENT
UID:2021039201@faceoff
DTSTART:20260731T090000Z
DURATION:PT3H30M
SUMMARY:Yokohama DeNA BayStars @ Yomiuri Giants
LOCATION:東京ドーム
DESCRIPTION:1
END:VEVENT
BEGIN:VEVENT
UID:2021039207@faceoff
DTSTART:20260801T090000Z
DURATION:PT3H30M
SUMMARY:Yokohama DeNA BayStars @ Yomiuri Giants
LOCATION:東京ドーム
DESCRIPTION:1
END:VEVENT
BEGIN:VEVENT
UID:2021039213@faceoff
DTSTART:20260802T050000Z
DURATION:PT3H30M
SUMMARY:Yokohama DeNA BayStars @ Yomiuri Giants
LOCATION:東京ドーム
DESCRIPTION:1
END:VEVENT
BEGIN:VEVENT
UID:2021039220@faceoff
DTSTART:20260804T084500Z
DURATION:PT3H30M
SUMMARY:Yokohama DeNA BayStars vs Hanshin Tigers
LOCATION:横浜スタジアム
DESCRIPTION:1
END:VEVENT
BEGIN:VEVENT
UID:2021039225@faceoff
DTSTART:20260805T084500Z
DURATION:PT3H30M
SUMMARY:Yokohama DeNA BayStars vs Hanshin Tigers
LOCATION:横浜スタジアム
DESCRIPTION:1
END:VEVENT
BEGIN:VEVENT
UID:2021039231@faceoff
DTSTART:20260806T084500Z
DURATION:PT3H30M
SUMMARY:Yokohama DeNA BayStars vs Hanshin Tigers
LOCATION:横浜スタジアム
DESCRIPTION:1
END:VEVENT
BEGIN:VEVENT
UID:2021039237@faceoff
DTSTART:20260807T090000Z
DURATION:PT3H30M
SUMMARY:Yokohama DeNA BayStars vs Hiroshima Toyo Carp
LOCATION:横浜スタジアム
DESCRIPTION:1
END:VEVENT
BEGIN:VEVENT
UID:2021039243@faceoff
DTSTART:20260808T090000Z
DURATION:PT3H30M
SUMMARY:Yokohama DeNA BayStars vs Hiroshima Toyo Carp
LOCATION:横浜スタジアム
DESCRIPTION:1
END:VEVENT
BEGIN:VEVENT
UID:2021039249@faceoff
DTSTART:20260809T090000Z
DURATION:PT3H30M
SUMMARY:Yokohama DeNA BayStars vs Hiroshima Toyo Carp
LOCATION:横浜スタジアム
DESCRIPTION:1
END:VEVENT
BEGIN:VEVENT
UID:2021039256@faceoff
DTSTART:20260811T050000Z
DURATION:PT3H30M
SUMMARY:Yokohama DeNA BayStars @ Chunichi Dragons
LOCATION:バンテリンドーム ナゴヤ
DESCRIPTION:1
END:VEVENT
BEGIN:VEVENT
UID:2021039262@faceoff
DTSTART:20260812T090000Z
DURATION:PT3H30M
SUMMARY:Yokohama DeNA BayStars @ Chunichi Dragons
LOCATION:バンテリンドーム ナゴヤ
DESCRIPTION:1
END:VEVENT
BEGIN:VEVENT
UID:2021039268@faceoff
DTSTART:20260813T090000Z
DURATION:PT3H30M
SUMMARY:Yokohama DeNA BayStars @ Chunichi Dragons
LOCATION:バンテリンドーム ナゴヤ
DESCRIPTION:1
END:VEVENT
BEGIN:VEVENT
UID:2021039272@faceoff
DTSTART:20260814T090000Z
DURATION:PT3H30M
SUMMARY:Yokohama DeNA BayStars @ Tokyo Yakult Swallows
LOCATION:明治神宮野球場
DESCRIPTION:1
END:VEVENT
BEGIN:VEVENT
UID:2021039278@faceoff
DTSTART:20260815T090000Z
DURATION:PT3H30M
SUMMARY:Yokohama DeNA BayStars @ Tokyo Yakult Swallows
LOCATION:明治神宮野球場
DESCRIPTION:1
END:VEVENT
BEGIN:VEVENT
UID:2021039284@faceoff
DTSTART:20260816T090000Z
DURATION:PT3H30M
SUMMARY:Yokohama DeNA BayStars @ Tokyo Yakult Swallows
LOCATION:明治神宮野球場
DESCRIPTION:1
END:VEVENT
BEGIN:VEVENT
UID:2021039290@faceoff
DTSTART:20260818T084500Z
DURATION:PT3H30M
SUMMARY:Yokohama DeNA BayStars vs Yomiuri Giants
LOCATION:横浜スタジアム
DESCRIPTION:1
END:VEVENT
BEGIN:VEVENT
UID:2021039296@faceoff
DTSTART:20260819T084500Z
DURATION:PT3H30M
SUMMARY:Yokohama DeNA BayStars vs Yomiuri Giants
LOCATION:横浜スタジアム
DESCRIPTION:1
END:VEVENT
BEGIN:VEVENT
UID:2021039302@faceoff
DTSTART:20260820T084500Z
DURATION:PT3H30M
SUMMARY:Yokohama DeNA BayStars vs Yomiuri Giants
LOCATION:横浜スタジアム
DESCRIPTION:1
END:VEVENT
BEGIN:VEVENT
UID:2021039309@faceoff
DTSTART:20260821T090000Z
DURATION:PT3H30M
SUMMARY:Yokohama DeNA BayStars vs Hanshin Tigers
LOCATION:横浜スタジアム
DESCRIPTION:1
END:VEVENT
BEGIN:VEVENT
UID:2021039314@faceoff
DTSTART:20260822T090000Z
DURATION:PT3H30M
SUMMARY:Yokohama DeNA BayStars vs Hanshin Tigers
LOCATION:横浜スタジアム
DESCRIPTION:1
END:VEVENT
BEGIN:VEVENT
UID:2021039320@faceoff
DTSTART:20260823T090000Z
DURATION:PT3H30M
SUMMARY:Yokohama DeNA BayStars vs Hanshin Tigers
LOCATION:横浜スタジアム
DESCRIPTION:1
END:VEVENT
BEGIN:VEVENT
UID:2021039327@faceoff
DTSTART:20260825T090000Z
DURATION:PT3H30M
SUMMARY:Yokohama DeNA BayStars @ Hiroshima Toyo Carp
LOCATION:MAZDA Zoom-Zoom スタジアム広島
DESCRIPTION:1
END:VEVENT
BEGIN:VEVENT
UID:2021039333@faceoff
DTSTART:20260826T090000Z
DURATION:PT3H30M
SUMMARY:Yokohama DeNA BayStars @ Hiroshima Toyo Carp
LOCATION:MAZDA Zoom-Zoom スタジアム広島
DESCRIPTION:1
END:VEVENT
BEGIN:VEVENT
UID:2021039339@faceoff
DTSTART:20260827T090000Z
DURATION:PT3H30M
SUMMARY:Yokohama DeNA BayStars @ Hiroshima Toyo Carp
LOCATION:MAZDA Zoom-Zoom スタジアム広島
DESCRIPTION:1
END:VEVENT
BEGIN:VEVENT
UID:2021039342@faceoff
DTSTART:20260828T090000Z
DURATION:PT3H30M
SUMMARY:Yokohama DeNA BayStars vs Chunichi Dragons
LOCATION:横浜スタジアム
DESCRIPTION:1
END:VEVENT
BEGIN:VEVENT
UID:2021039348@faceoff
DTSTART:20260829T090000Z
DURATION:PT3H30M
SUMMARY:Yokohama DeNA BayStars vs Chunichi Dragons
LOCATION:横浜スタジアム
DESCRIPTION:1
END:VEVENT
BEGIN:VEVENT
UID:2021039354@faceoff
DTSTART:20260830T090000Z
DURATION:PT3H30M
SUMMARY:Yokohama DeNA BayStars vs Chunichi Dragons
LOCATION:横浜スタジアム
DESCRIPTION:1
END:VEVENT
BEGIN:VEVENT
UID:2021039360@faceoff
DTSTART:20260901T090000Z
DURATION:PT3H30M
SUMMARY:Yokohama DeNA BayStars @ Yomiuri Giants
LOCATION:京セラドーム大阪
DESCRIPTION:1
END:VEVENT
BEGIN:VEVENT
UID:2021039366@faceoff
DTSTART:20260902T090000Z
DURATION:PT3H30M
SUMMARY:Yokohama DeNA BayStars @ Yomiuri Giants
LOCATION:京セラドーム大阪
DESCRIPTION:1
END:VEVENT
BEGIN:VEVENT
UID:2021039379@faceoff
DTSTART:20260905T090000Z
DURATION:PT3H30M
SUMMARY:Yokohama DeNA BayStars @ Hanshin Tigers
LOCATION:阪神甲子園球場
DESCRIPTION:1
END:VEVENT
BEGIN:VEVENT
UID:2021039385@faceoff
DTSTART:20260906T090000Z
DURATION:PT3H30M
SUMMARY:Yokohama DeNA BayStars @ Hanshin Tigers
LOCATION:阪神甲子園球場
DESCRIPTION:1
END:VEVENT
BEGIN:VEVENT
UID:2021039391@faceoff
DTSTART:20260908T090000Z
DURATION:PT3H30M
SUMMARY:Yokohama DeNA BayStars vs Tokyo Yakult Swallows
LOCATION:横浜スタジアム
DESCRIPTION:1
END:VEVENT
BEGIN:VEVENT
UID:2021039397@faceoff
DTSTART:20260909T090000Z
DURATION:PT3H30M
SUMMARY:Yokohama DeNA BayStars vs Tokyo Yakult Swallows
LOCATION:横浜スタジアム
DESCRIPTION:1
END:VEVENT
BEGIN:VEVENT
UID:2021039403@faceoff
DTSTART:20260910T090000Z
DURATION:PT3H30M
SUMMARY:Yokohama DeNA BayStars vs Tokyo Yakult Swallows
LOCATION:横浜スタジアム
DESCRIPTION:1
END:VEVENT
BEGIN:VEVENT
UID:2021039408@faceoff
DTSTART:20260911T090000Z
DURATION:PT3H30M
SUMMARY:Yokohama DeNA BayStars @ Hiroshima Toyo Carp
LOCATION:MAZDA Zoom-Zoom スタジアム広島
DESCRIPTION:1
END:VEVENT
BEGIN:VEVENT
UID:2021039411@faceoff
DTSTART:20260912T050000Z
DURATION:PT3H30M
SUMMARY:Yokohama DeNA BayStars @ Hiroshima Toyo Carp
LOCATION:MAZDA Zoom-Zoom スタジアム広島
DESCRIPTION:1
END:VEVENT
BEGIN:VEVENT
UID:2021039416@faceoff
DTSTART:20260913T090000Z
DURATION:PT3H30M
SUMMARY:Yokohama DeNA BayStars vs Yomiuri Giants
LOCATION:横浜スタジアム
DESCRIPTION:1
END:VEVENT
BEGIN:VEVENT
UID:2021039429@faceoff
DTSTART:20260918T090000Z
DURATION:PT3H30M
SUMMARY:Yokohama DeNA BayStars vs Tokyo Yakult Swallows
LOCATION:横浜スタジアム
DESCRIPTION:1
END:VEVENT
BEGIN:VEVENT
UID:2021039432@faceoff
DTSTART:20260919T090000Z
DURATION:PT3H30M
SUMMARY:Yokohama DeNA BayStars vs Tokyo Yakult Swallows
LOCATION:横浜スタジアム
DESCRIPTION:1
END:VEVENT
BEGIN:VEVENT
UID:2021039439@faceoff
DTSTART:20260920T090000Z
DURATION:PT3H30M
SUMMARY:Yokohama DeNA BayStars @ Hanshin Tigers
LOCATION:阪神甲子園球場
DESCRIPTION:1
END:VEVENT
BEGIN:VEVENT
UID:2021039444@faceoff
DTSTART:20260921T050000Z
DURATION:PT3H30M
SUMMARY:Yokohama DeNA BayStars @ Hanshin Tigers
LOCATION:阪神甲子園球場
DESCRIPTION:1
END:VEVENT
BEGIN:VEVENT
UID:2021039449@faceoff
DTSTART:20260922T090000Z
DURATION:PT3H30M
SUMMARY:Yokohama DeNA BayStars vs Chunichi Dragons
LOCATION:横浜スタジアム
DESCRIPTION:1
END:VEVENT
BEGIN:VEVENT
UID:2021039454@faceoff
DTSTART:20260923T090000Z
DURATION:PT3H30M
SUMMARY:Yokohama DeNA BayStars vs Chunichi Dragons
LOCATION:横浜スタジアム
DESCRIPTION:1
END:VEVENT
END:VCALENDAR
