BEGIN:VCALENDAR
VERSION:2.0
X-WR-CALNAME:Chunichi Dragons Schedule
REFRESH-INTERVAL;VALUE=DURATION:PT1H
X-PUBLISHED-TTL:PT1H
BEGIN:VEVENT
UID:2021040015@faceoff
DTSTART:20260221T050000Z
DURATION:PT3H30M
SUMMARY:Chunichi Dragons vs Hanshin Tigers
LOCATION:Agreスタジアム北谷
DESCRIPTION:2
END:VEVENT
BEGIN:VEVENT
UID:2021040019@faceoff
DTSTART:20260222T043000Z
DURATION:PT3H30M
SUMMARY:Chunichi Dragons vs Yomiuri Giants
LOCATION:Agreスタジアム北谷
DESCRIPTION:2
END:VEVENT
BEGIN:VEVENT
UID:2021040023@faceoff
DTSTART:20260223T043000Z
DURATION:PT3H30M
SUMMARY:Chunichi Dragons vs Chiba Lotte Marines
LOCATION:Agreスタジアム北谷
DESCRIPTION:2
END:VEVENT
BEGIN:VEVENT
UID:2021040029@faceoff
DTSTART:20260301T050000Z
DURATION:PT3H30M
SUMMARY:Chunichi Dragons vs Yokohama DeNA BayStars
LOCATION:バンテリンドーム ナゴヤ
DESCRIPTION:2
END:VEVENT
BEGIN:VEVENT
UID:2021040031@faceoff
DTSTART:20260303T040000Z
DURATION:PT3H30M
SUMMARY:Chunichi Dragons @ Yokohama DeNA BayStars
LOCATION:横浜スタジアム
DESCRIPTION:4
END:VEVENT
BEGIN:VEVENT
UID:2021040035@faceoff
DTSTART:20260304T040000Z
DURATION:PT3H30M
SUMMARY:Chunichi Dragons @ Yokohama DeNA BayStars
LOCATION:横浜スタジアム
DESCRIPTION:2
END:VEVENT
BEGIN:VEVENT
UID:2021040040@faceoff
DTSTART:20260305T040000Z
DURATION:PT3H30M
SUMMARY:Chunichi Dragons @ Yokohama DeNA BayStars
LOCATION:横浜スタジアム
DESCRIPTION:2
END:VEVENT
BEGIN:VEVENT
UID:2021040049@faceoff
DTSTART:20260307T040000Z
DURATION:PT3H30M
SUMMARY:Chunichi Dragons @ Hiroshima Toyo Carp
LOCATION:MAZDA Zoom-Zoom スタジアム広島
DESCRIPTION:2
END:VEVENT
BEGIN:VEVENT
UID:2021040055@faceoff
DTSTART:20260308T040000Z
DURATION:PT3H30M
SUMMARY:Chunichi Dragons @ Hiroshima Toyo Carp
LOCATION:MAZDA Zoom-Zoom スタジアム広島
DESCRIPTION:2
END:VEVENT
BEGIN:VEVENT
UID:2021040058@faceoff
DTSTART:20260310T090000Z
DURATION:PT3H30M
SUMMARY:Chunichi Dragons vs Tokyo Yakult Swallows
LOCATION:バンテリンドーム ナゴヤ
DESCRIPTION:2
END:VEVENT
BEGIN:VEVENT
UID:2021040064@faceoff
DTSTART:20260311T090000Z
DURATION:PT3H30M
SUMMARY:Chunichi Dragons vs Tokyo Yakult Swallows
LOCATION:バンテリンドーム ナゴヤ
DESCRIPTION:2
END:VEVENT
BEGIN:VEVENT
UID:2021040072@faceoff
DTSTART:20260313T090000Z
DURATION:PT3H30M
SUMMARY:Chunichi Dragons vs Tohoku Rakuten Golden Eagles
LOCATION:バンテリンドーム ナゴヤ
DESCRIPTION:2
END:VEVENT
BEGIN:VEVENT
UID:2021040077@faceoff
DTSTART:20260314T050000Z
DURATION:PT3H30M
SUMMARY:Chunichi Dragons vs Tohoku Rakuten Golden Eagles
LOCATION:バンテリンドーム ナゴヤ
DESCRIPTION:2
END:VEVENT
BEGIN:VEVENT
UID:2021040083@faceoff
DTSTART:20260315T043000Z
DURATION:PT3H30M
SUMMARY:Chunichi Dragons vs Tohoku Rakuten Golden Eagles
LOCATION:バンテリンドーム ナゴヤ
DESCRIPTION:2
END:VEVENT
BEGIN:VEVENT
UID:2021040090@faceoff
DTSTART:20260317T090000Z
DURATION:PT3H30M
SUMMARY:Chunichi Dragons @ Fukuoka SoftBank Hawks
LOCATION:みずほPayPayドーム福岡
DESCRIPTION:2
END:VEVENT
BEGIN:VEVENT
UID:2021040096@faceoff
DTSTART:20260318T090000Z
DURATION:PT3H30M
SUMMARY:Chunichi Dragons @ Fukuoka SoftBank Hawks
LOCATION:みずほPayPayドーム福岡
DESCRIPTION:2
END:VEVENT
BEGIN:VEVENT
UID:2021040100@faceoff
DTSTART:20260320T050000Z
DURATION:PT3H30M
SUMMARY:Chunichi Dragons vs Chiba Lotte Marines
LOCATION:バンテリンドーム ナゴヤ
DESCRIPTION:2
END:VEVENT
BEGIN:VEVENT
UID:2021040106@faceoff
DTSTART:20260321T050000Z
DURATION:PT3H30M
SUMMARY:Chunichi Dragons vs Chiba Lotte Marines
LOCATION:バンテリンドーム ナゴヤ
DESCRIPTION:2
END:VEVENT
BEGIN:VEVENT
UID:2021040112@faceoff
DTSTART:20260322T043000Z
DURATION:PT3H30M
SUMMARY:Chunichi Dragons vs Chiba Lotte Marines
LOCATION:バンテリンドーム ナゴヤ
DESCRIPTION:2
END:VEVENT
BEGIN:VEVENT
UID:2021038624@faceoff
DTSTART:20260327T090000Z
DURATION:PT3H30M
SUMMARY:Chunichi Dragons @ Hiroshima Toyo Carp
LOCATION:MAZDA Zoom-Zoom スタジアム広島
DESCRIPTION:2
END:VEVENT
BEGIN:VEVENT
UID:2021038630@faceoff
DTSTART:20260328T050000Z
DURATION:PT3H30M
SUMMARY:Chunichi Dragons @ Hiroshima Toyo Carp
LOCATION:MAZDA Zoom-Zoom スタジアム広島
DESCRIPTION:2
END:VEVENT
BEGIN:VEVENT
UID:2021038636@faceoff
DTSTART:20260329T043000Z
DURATION:PT3H30M
SUMMARY:Chunichi Dragons @ Hiroshima Toyo Carp
LOCATION:MAZDA Zoom-Zoom スタジアム広島
DESCRIPTION:2
END:VEVENT
BEGIN:VEVENT
UID:2021038641@faceoff
DTSTART:20260331T091500Z
DURATION:PT3H30M
SUMMARY:Chunichi Dragons vs Yomiuri Giants
LOCATION:バンテリンドーム ナゴヤ
DESCRIPTION:2
END:VEVENT
BEGIN:VEVENT
UID:2021038647@faceoff
DTSTART:20260401T090000Z
DURATION:PT3H30M
SUMMARY:Chunichi Dragons vs Yomiuri Giants
LOCATION:バンテリンドーム ナゴヤ
DESCRIPTION:2
END:VEVENT
BEGIN:VEVENT
UID:2021038653@faceoff
DTSTART:20260402T090000Z
DURATION:PT3H30M
SUMMARY:Chunichi Dragons vs Yomiuri Giants
LOCATION:バンテリンドーム ナゴヤ
DESCRIPTION:2
END:VEVENT
BEGIN:VEVENT
UID:2021038659@faceoff
DTSTART:20260403T090000Z
DURATION:PT3H30M
SUMMARY:Chunichi Dragons @ Tokyo Yakult Swallows
LOCATION:明治神宮野球場
DESCRIPTION:2
END:VEVENT
BEGIN:VEVENT
UID:2021038665@faceoff
DTSTART:20260404T050000Z
DURATION:PT3H30M
SUMMARY:Chunichi Dragons @ Tokyo Yakult Swallows
LOCATION:明治神宮野球場
DESCRIPTION:2
END:VEVENT
BEGIN:VEVENT
UID:2021038671@faceoff
DTSTART:20260405T043000Z
DURATION:PT3H30M
SUMMARY:Chunichi Dragons @ Tokyo Yakult Swallows
LOCATION:明治神宮野球場
DESCRIPTION:2
END:VEVENT
BEGIN:VEVENT
UID:2021038676@faceoff
DTSTART:20260407T090000Z
DURATION:PT3H30M
SUMMARY:Chunichi Dragons @ Yokohama DeNA BayStars
LOCATION:横浜スタジアム
DESCRIPTION:2
END:VEVENT
BEGIN:VEVENT
UID:2021038682@faceoff
DTSTART:20260408T090000Z
DURATION:PT3H30M
SUMMARY:Chunichi Dragons @ Yokohama DeNA BayStars
LOCATION:横浜スタジアム
DESCRIPTION:2
END:VEVENT
BEGIN:VEVENT
UID:2021038695@faceoff
DTSTART:20260410T090000Z
DURATION:PT3H30M
SUMMARY:Chunichi Dragons vs Hanshin Tigers
LOCATION:バンテリンドーム ナゴヤ
DESCRIPTION:2
END:VEVENT
BEGIN:VEVENT
UID:2021038700@faceoff
DTSTART:20260411T050000Z
DURATION:PT3H30M
SUMMARY:Chunichi Dragons vs Hanshin Tigers
LOCATION:バンテリンドーム ナゴヤ
DESCRIPTION:2
END:VEVENT
BEGIN:VEVENT
UID:2021038706@faceoff
DTSTART:20260412T043000Z
DURATION:PT3H30M
SUMMARY:Chunichi Dragons vs Hanshin Tigers
LOCATION:バンテリンドーム ナゴヤ
DESCRIPTION:2
END:VEVENT
BEGIN:VEVENT
UID:2021038711@faceoff
DTSTART:20260414T090000Z
DURATION:PT3H30M
SUMMARY:Chunichi Dragons vs Hiroshima Toyo Carp
LOCATION:豊橋市民球場
DESCRIPTION:2
END:VEVENT
BEGIN:VEVENT
UID:2021038716@faceoff
DTSTART:20260415T090000Z
DURATION:PT3H30M
SUMMARY:Chunichi Dragons vs Hiroshima Toyo Carp
LOCATION:バンテリンドーム ナゴヤ
DESCRIPTION:2
END:VEVENT
BEGIN:VEVENT
UID:2021038727@faceoff
DTSTART:20260417T090000Z
DURATION:PT3H30M
SUMMARY:Chunichi Dragons @ Hanshin Tigers
LOCATION:阪神甲子園球場
DESCRIPTION:2
END:VEVENT
BEGIN:VEVENT
UID:2021038733@faceoff
DTSTART:20260418T050000Z
DURATION:PT3H30M
SUMMARY:Chunichi Dragons @ Hanshin Tigers
LOCATION:阪神甲子園球場
DESCRIPTION:2
END:VEVENT
BEGIN:VEVENT
UID:2021038739@faceoff
DTSTART:20260419T050000Z
DURATION:PT3H30M
SUMMARY:Chunichi Dragons @ Hanshin Tigers
LOCATION:阪神甲子園球場
DESCRIPTION:2
END:VEVENT
BEGIN:VEVENT
UID:2021038744@faceoff
DTSTART:20260421T090000Z
DURATION:PT3H30M
SUMMARY:Chunichi Dragons @ Yomiuri Giants
LOCATION:長野オリンピックスタジアム
DESCRIPTION:2
END:VEVENT
BEGIN:VEVENT
UID:2021038750@faceoff
DTSTART:20260422T090000Z
DURATION:PT3H30M
SUMMARY:Chunichi Dragons @ Yomiuri Giants
LOCATION:上毛新聞敷島球場
DESCRIPTION:2
END:VEVENT
BEGIN:VEVENT
UID:2021038762@faceoff
DTSTART:20260424T090000Z
DURATION:PT3H30M
SUMMARY:Chunichi Dragons vs Tokyo Yakult Swallows
LOCATION:バンテリンドーム ナゴヤ
DESCRIPTION:1
END:VEVENT
BEGIN:VEVENT
UID:2021038765@faceoff
DTSTART:20260425T050000Z
DURATION:PT3H30M
SUMMARY:Chunichi Dragons vs Tokyo Yakult Swallows
LOCATION:バンテリンドーム ナゴヤ
DESCRIPTION:1
END:VEVENT
BEGIN:VEVENT
UID:2021038771@faceoff
DTSTART:20260426T043000Z
DURATION:PT3H30M
SUMMARY:Chunichi Dragons vs Tokyo Yakult Swallows
LOCATION:バンテリンドーム ナゴヤ
DESCRIPTION:1
END:VEVENT
BEGIN:VEVENT
UID:2021038778@faceoff
DTSTART:20260428T090000Z
DURATION:PT3H30M
SUMMARY:Chunichi Dragons vs Yokohama DeNA BayStars
LOCATION:バンテリンドーム ナゴヤ
DESCRIPTION:1
END:VEVENT
BEGIN:VEVENT
UID:2021038784@faceoff
DTSTART:20260429T050000Z
DURATION:PT3H30M
SUMMARY:Chunichi Dragons vs Yokohama DeNA BayStars
LOCATION:バンテリンドーム ナゴヤ
DESCRIPTION:1
END:VEVENT
BEGIN:VEVENT
UID:2021038790@faceoff
DTSTART:20260430T090000Z
DURATION:PT3H30M
SUMMARY:Chunichi Dragons vs Yokohama DeNA BayStars
LOCATION:バンテリンドーム ナゴヤ
DESCRIPTION:1
END:VEVENT
BEGIN:VEVENT
UID:2021038794@faceoff
DTSTART:20260501T090000Z
DURATION:PT3H30M
SUMMARY:Chunichi Dragons @ Hiroshima Toyo Carp
LOCATION:MAZDA Zoom-Zoom スタジアム広島
DESCRIPTION:1
END:VEVENT
BEGIN:VEVENT
UID:2021038800@faceoff
DTSTART:20260502T050000Z
DURATION:PT3H30M
SUMMARY:Chunichi Dragons @ Hiroshima Toyo Carp
LOCATION:MAZDA Zoom-Zoom スタジアム広島
DESCRIPTION:1
END:VEVENT
BEGIN:VEVENT
UID:2021038806@faceoff
DTSTART:20260503T043000Z
DURATION:PT3H30M
SUMMARY:Chunichi Dragons @ Hiroshima Toyo Carp
LOCATION:MAZDA Zoom-Zoom スタジアム広島
DESCRIPTION:1
END:VEVENT
BEGIN:VEVENT
UID:2021038812@faceoff
DTSTART:20260504T053000Z
DURATION:PT3H30M
SUMMARY:Chunichi Dragons vs Hanshin Tigers
LOCATION:バンテリンドーム ナゴヤ
DESCRIPTION:1
END:VEVENT
BEGIN:VEVENT
UID:2021038818@faceoff
DTSTART:20260505T050000Z
DURATION:PT3H30M
SUMMARY:Chunichi Dragons vs Hanshin Tigers
LOCATION:バンテリンドーム ナゴヤ
DESCRIPTION:1
END:VEVENT
BEGIN:VEVENT
UID:2021038824@faceoff
DTSTART:20260506T050000Z
DURATION:PT3H30M
SUMMARY:Chunichi Dragons vs Hanshin Tigers
LOCATION:バンテリンドーム ナゴヤ
DESCRIPTION:1
END:VEVENT
BEGIN:VEVENT
UID:2021038828@faceoff
DTSTART:20260508T090000Z
DURATION:PT3H30M
SUMMARY:Chunichi Dragons vs Yomiuri Giants
LOCATION:バンテリンドーム ナゴヤ
DESCRIPTION:1
END:VEVENT
BEGIN:VEVENT
UID:2021038834@faceoff
DTSTART:20260509T050000Z
DURATION:PT3H30M
SUMMARY:Chunichi Dragons vs Yomiuri Giants
LOCATION:バンテリンドーム ナゴヤ
DESCRIPTION:1
END:VEVENT
BEGIN:VEVENT
UID:2021038840@faceoff
DTSTART:20260510T043000Z
DURATION:PT3H30M
SUMMARY:Chunichi Dragons vs Yomiuri Giants
LOCATION:バンテリンドーム ナゴヤ
DESCRIPTION:1
END:VEVENT
BEGIN:VEVENT
UID:2021038848@faceoff
DTSTART:20260512T090000Z
DURATION:PT3H30M
SUMMARY:Chunichi Dragons @ Yokohama DeNA BayStars
LOCATION:横浜スタジアム
DESCRIPTION:1
END:VEVENT
BEGIN:VEVENT
UID:2021038854@faceoff
DTSTART:20260513T090000Z
DURATION:PT3H30M
SUMMARY:Chunichi Dragons @ Yokohama DeNA BayStars
LOCATION:横浜スタジアム
DESCRIPTION:1
END:VEVENT
BEGIN:VEVENT
UID:2021038857@faceoff
DTSTART:20260514T090000Z
DURATION:PT3H30M
SUMMARY:Chunichi Dragons @ Yokohama DeNA BayStars
LOCATION:横浜スタジアム
DESCRIPTION:1
END:VEVENT
BEGIN:VEVENT
UID:2021038861@faceoff
DTSTART:20260515T090000Z
DURATION:PT3H30M
SUMMARY:Chunichi Dragons vs Tokyo Yakult Swallows
LOCATION:バンテリンドーム ナゴヤ
DESCRIPTION:1
END:VEVENT
BEGIN:VEVENT
UID:2021038867@faceoff
DTSTART:20260516T050000Z
DURATION:PT3H30M
SUMMARY:Chunichi Dragons vs Tokyo Yakult Swallows
LOCATION:バンテリンドーム ナゴヤ
DESCRIPTION:1
END:VEVENT
BEGIN:VEVENT
UID:2021038873@faceoff
DTSTART:20260517T043000Z
DURATION:PT3H30M
SUMMARY:Chunichi Dragons vs Tokyo Yakult Swallows
LOCATION:バンテリンドーム ナゴヤ
DESCRIPTION:1
END:VEVENT
BEGIN:VEVENT
UID:2021038879@faceoff
DTSTART:20260519T090000Z
DURATION:PT3H30M
SUMMARY:Chunichi Dragons @ Hanshin Tigers
LOCATION:マスカットスタジアム
DESCRIPTION:1
END:VEVENT
BEGIN:VEVENT
UID:2021038884@faceoff
DTSTART:20260520T090000Z
DURATION:PT3H30M
SUMMARY:Chunichi Dragons @ Hanshin Tigers
LOCATION:阪神甲子園球場
DESCRIPTION:1
END:VEVENT
BEGIN:VEVENT
UID:2021038890@faceoff
DTSTART:20260521T090000Z
DURATION:PT3H30M
SUMMARY:Chunichi Dragons @ Hanshin Tigers
LOCATION:阪神甲子園球場
DESCRIPTION:1
END:VEVENT
BEGIN:VEVENT
UID:2021038893@faceoff
DTSTART:20260522T090000Z
DURATION:PT3H30M
SUMMARY:Chunichi Dragons vs Hiroshima Toyo Carp
LOCATION:バンテリンドーム ナゴヤ
DESCRIPTION:1
END:VEVENT
BEGIN:VEVENT
UID:2021038899@faceoff
DTSTART:20260523T050000Z
DURATION:PT3H30M
SUMMARY:Chunichi Dragons vs Hiroshima Toyo Carp
LOCATION:バンテリンドーム ナゴヤ
DESCRIPTION:1
END:VEVENT
BEGIN:VEVENT
UID:2021038905@faceoff
DTSTART:20260524T043000Z
DURATION:PT3H30M
SUMMARY:Chunichi Dragons vs Hiroshima Toyo Carp
LOCATION:バンテリンドーム ナゴヤ
DESCRIPTION:1
END:VEVENT
BEGIN:VEVENT
UID:2021038912@faceoff
DTSTART:20260526T090000Z
DURATION:PT3H30M
SUMMARY:Chunichi Dragons vs Tohoku Rakuten Golden Eagles
LOCATION:バンテリンドーム ナゴヤ
DESCRIPTION:1
END:VEVENT
BEGIN:VEVENT
UID:2021038918@faceoff
DTSTART:20260527T090000Z
DURATION:PT3H30M
SUMMARY:Chunichi Dragons vs Tohoku Rakuten Golden Eagles
LOCATION:バンテリンドーム ナゴヤ
DESCRIPTION:1
END:VEVENT
BEGIN:VEVENT
UID:2021038924@faceoff
DTSTART:20260528T090000Z
DURATION:PT3H30M
SUMMARY:Chunichi Dragons vs Tohoku Rakuten Golden Eagles
LOCATION:バンテリンドーム ナゴヤ
DESCRIPTION:1
END:VEVENT
BEGIN:VEVENT
UID:2021038931@faceoff
DTSTART:20260529T090000Z
DURATION:PT3H30M
SUMMARY:Chunichi Dragons @ ORIX Buffaloes
LOCATION:京セラドーム大阪
DESCRIPTION:1
END:VEVENT
BEGIN:VEVENT
UID:2021038937@faceoff
DTSTART:20260530T050000Z
DURATION:PT3H30M
SUMMARY:Chunichi Dragons @ ORIX Buffaloes
LOCATION:京セラドーム大阪
DESCRIPTION:1
END:VEVENT
BEGIN:VEVENT
UID:2021038943@faceoff
DTSTART:20260531T040000Z
DURATION:PT3H30M
SUMMARY:Chunichi Dragons @ ORIX Buffaloes
LOCATION:京セラドーム大阪
DESCRIPTION:1
END:VEVENT
BEGIN:VEVENT
UID:2021038948@faceoff
DTSTART:20260602T090000Z
DURATION:PT3H30M
SUMMARY:Chunichi Dragons vs Fukuoka SoftBank Hawks
LOCATION:バンテリンドーム ナゴヤ
DESCRIPTION:1
END:VEVENT
BEGIN:VEVENT
UID:2021038954@faceoff
DTSTART:20260603T090000Z
DURATION:PT3H30M
SUMMARY:Chunichi Dragons vs Fukuoka SoftBank Hawks
LOCATION:バンテリンドーム ナゴヤ
DESCRIPTION:1
END:VEVENT
BEGIN:VEVENT
UID:2021038960@faceoff
DTSTART:20260604T090000Z
DURATION:PT3H30M
SUMMARY:Chunichi Dragons vs Fukuoka SoftBank Hawks
LOCATION:バンテリンドーム ナゴヤ
DESCRIPTION:1
END:VEVENT
BEGIN:VEVENT
UID:2021038966@faceoff
DTSTART:20260605T090000Z
DURATION:PT3H30M
SUMMARY:Chunichi Dragons vs Saitama Seibu Lions
LOCATION:バンテリンドーム ナゴヤ
DESCRIPTION:1
END:VEVENT
BEGIN:VEVENT
UID:2021038972@faceoff
DTSTART:20260606T050000Z
DURATION:PT3H30M
SUMMARY:Chunichi Dragons vs Saitama Seibu Lions
LOCATION:バンテリンドーム ナゴヤ
DESCRIPTION:1
END:VEVENT
BEGIN:VEVENT
UID:2021038978@faceoff
DTSTART:20260607T043000Z
DURATION:PT3H30M
SUMMARY:Chunichi Dragons vs Saitama Seibu Lions
LOCATION:バンテリンドーム ナゴヤ
DESCRIPTION:1
END:VEVENT
BEGIN:VEVENT
UID:2021038984@faceoff
DTSTART:20260609T090000Z
DURATION:PT3H30M
SUMMARY:Chunichi Dragons @ Chiba Lotte Marines
LOCATION:ZOZOマリンスタジアム
DESCRIPTION:1
END:VEVENT
BEGIN:VEVENT
UID:2021038990@faceoff
DTSTART:20260610T090000Z
DURATION:PT3H30M
SUMMARY:Chunichi Dragons @ Chiba Lotte Marines
LOCATION:ZOZOマリンスタジアム
DESCRIPTION:1
END:VEVENT
BEGIN:VEVENT
UID:2021038996@faceoff
DTSTART:20260611T090000Z
DURATION:PT3H30M
SUMMARY:Chunichi Dragons @ Chiba Lotte Marines
LOCATION:ZOZOマリンスタジアム
DESCRIPTION:1
END:VEVENT
BEGIN:VEVENT
UID:2021038999@faceoff
DTSTART:20260612T090000Z
DURATION:PT3H30M
SUMMARY:Chunichi Dragons @ Hokkaido Nippon-Ham Fighters
LOCATION:エスコンフィールドHOKKAIDO
DESCRIPTION:1
END:VEVENT
BEGIN:VEVENT
UID:2021039005@faceoff
DTSTART:20260613T050000Z
DURATION:PT3H30M
SUMMARY:Chunichi Dragons @ Hokkaido Nippon-Ham Fighters
LOCATION:エスコンフィールドHOKKAIDO
DESCRIPTION:1
END:VEVENT
BEGIN:VEVENT
UID:2021039011@faceoff
DTSTART:20260614T040000Z
DURATION:PT3H30M
SUMMARY:Chunichi Dragons @ Hokkaido Nippon-Ham Fighters
LOCATION:エスコンフィールドHOKKAIDO
DESCRIPTION:1
END:VEVENT
BEGIN:VEVENT
UID:2021039017@faceoff
DTSTART:20260619T090000Z
DURATION:PT3H30M
SUMMARY:Chunichi Dragons @ Yomiuri Giants
LOCATION:東京ドーム
DESCRIPTION:1
END:VEVENT
BEGIN:VEVENT
UID:2021039023@faceoff
DTSTART:20260620T050000Z
DURATION:PT3H30M
SUMMARY:Chunichi Dragons @ Yomiuri Giants
LOCATION:東京ドーム
DESCRIPTION:1
END:VEVENT
BEGIN:VEVENT
UID:2021039029@faceoff
DTSTART:20260621T050000Z
DURATION:PT3H30M
SUMMARY:Chunichi Dragons @ Yomiuri Giants
LOCATION:東京ドーム
DESCRIPTION:1
END:VEVENT
BEGIN:VEVENT
UID:2021039036@faceoff
DTSTART:20260623T090000Z
DURATION:PT3H30M
SUMMARY:Chunichi Dragons vs Yokohama DeNA BayStars
LOCATION:ぎふしん長良川球場
DESCRIPTION:1
END:VEVENT
BEGIN:VEVENT
UID:2021039042@faceoff
DTSTART:20260624T090000Z
DURATION:PT3H30M
SUMMARY:Chunichi Dragons vs Yokohama DeNA BayStars
LOCATION:バンテリンドーム ナゴヤ
DESCRIPTION:1
END:VEVENT
BEGIN:VEVENT
UID:2021039047@faceoff
DTSTART:20260625T090000Z
DURATION:PT3H30M
SUMMARY:Chunichi Dragons vs Yokohama DeNA BayStars
LOCATION:バンテリンドーム ナゴヤ
DESCRIPTION:1
END:VEVENT
BEGIN:VEVENT
UID:2021039051@faceoff
DTSTART:20260626T090000Z
DURATION:PT3H30M
SUMMARY:Chunichi Dragons @ Tokyo Yakult Swallows
LOCATION:明治神宮野球場
DESCRIPTION:1
END:VEVENT
BEGIN:VEVENT
UID:2021039056@faceoff
DTSTART:20260627T090000Z
DURATION:PT3H30M
SUMMARY:Chunichi Dragons @ Tokyo Yakult Swallows
LOCATION:明治神宮野球場
DESCRIPTION:1
END:VEVENT
BEGIN:VEVENT
UID:2021039062@faceoff
DTSTART:20260628T080000Z
DURATION:PT3H30M
SUMMARY:Chunichi Dragons @ Tokyo Yakult Swallows
LOCATION:明治神宮野球場
DESCRIPTION:1
END:VEVENT
BEGIN:VEVENT
UID:2021039070@faceoff
DTSTART:20260630T090000Z
DURATION:PT3H30M
SUMMARY:Chunichi Dragons @ Hanshin Tigers
LOCATION:阪神甲子園球場
DESCRIPTION:1
END:VEVENT
BEGIN:VEVENT
UID:2021039075@faceoff
DTSTART:20260701T090000Z
DURATION:PT3H30M
SUMMARY:Chunichi Dragons @ Hanshin Tigers
LOCATION:阪神甲子園球場
DESCRIPTION:1
END:VEVENT
BEGIN:VEVENT
UID:2021039079@faceoff
DTSTART:20260702T090000Z
DURATION:PT3H30M
SUMMARY:Chunichi Dragons @ Hanshin Tigers
LOCATION:阪神甲子園球場
DESCRIPTION:1
END:VEVENT
BEGIN:VEVENT
UID:2021039083@faceoff
DTSTART:20260703T090000Z
DURATION:PT3H30M
SUMMARY:Chunichi Dragons vs Yomiuri Giants
LOCATION:バンテリンドーム ナゴヤ
DESCRIPTION:1
END:VEVENT
BEGIN:VEVENT
UID:2021039089@faceoff
DTSTART:20260704T050000Z
DURATION:PT3H30M
SUMMARY:Chunichi Dragons vs Yomiuri Giants
LOCATION:バンテリンドーム ナゴヤ
DESCRIPTION:1
END:VEVENT
BEGIN:VEVENT
UID:2021039095@faceoff
DTSTART:20260705T043000Z
DURATION:PT3H30M
SUMMARY:Chunichi Dragons vs Yomiuri Giants
LOCATION:バンテリンドーム ナゴヤ
DESCRIPTION:1
END:VEVENT
BEGIN:VEVENT
UID:2021039101@faceoff
DTSTART:20260707T091500Z
DURATION:PT3H30M
SUMMARY:Chunichi Dragons @ Yokohama DeNA BayStars
LOCATION:横浜スタジアム
DESCRIPTION:1
END:VEVENT
BEGIN:VEVENT
UID:2021039107@faceoff
DTSTART:20260708T091500Z
DURATION:PT3H30M
SUMMARY:Chunichi Dragons @ Yokohama DeNA BayStars
LOCATION:横浜スタジアム
DESCRIPTION:1
END:VEVENT
BEGIN:VEVENT
UID:2021039113@faceoff
DTSTART:20260709T091500Z
DURATION:PT3H30M
SUMMARY:Chunichi Dragons @ Yokohama DeNA BayStars
LOCATION:横浜スタジアム
DESCRIPTION:1
END:VEVENT
BEGIN:VEVENT
UID:2021039116@faceoff
DTSTART:20260710T090000Z
DURATION:PT3H30M
SUMMARY:Chunichi Dragons vs Hiroshima Toyo Carp
LOCATION:バンテリンドーム ナゴヤ
DESCRIPTION:1
END:VEVENT
BEGIN:VEVENT
UID:2021039122@faceoff
DTSTART:20260711T050000Z
DURATION:PT3H30M
SUMMARY:Chunichi Dragons vs Hiroshima Toyo Carp
LOCATION:バンテリンドーム ナゴヤ
DESCRIPTION:1
END:VEVENT
BEGIN:VEVENT
UID:2021039128@faceoff
DTSTART:20260712T043000Z
DURATION:PT3H30M
SUMMARY:Chunichi Dragons vs Hiroshima Toyo Carp
LOCATION:バンテリンドーム ナゴヤ
DESCRIPTION:1
END:VEVENT
BEGIN:VEVENT
UID:2021039134@faceoff
DTSTART:20260714T090000Z
DURATION:PT3H30M
SUMMARY:Chunichi Dragons vs Hanshin Tigers
LOCATION:バンテリンドーム ナゴヤ
DESCRIPTION:1
END:VEVENT
BEGIN:VEVENT
UID:2021039140@faceoff
DTSTART:20260715T090000Z
DURATION:PT3H30M
SUMMARY:Chunichi Dragons vs Hanshin Tigers
LOCATION:バンテリンドーム ナゴヤ
DESCRIPTION:1
END:VEVENT
BEGIN:VEVENT
UID:2021039146@faceoff
DTSTART:20260716T090000Z
DURATION:PT3H30M
SUMMARY:Chunichi Dragons vs Hanshin Tigers
LOCATION:バンテリンドーム ナゴヤ
DESCRIPTION:1
END:VEVENT
BEGIN:VEVENT
UID:2021039150@faceoff
DTSTART:20260717T090000Z
DURATION:PT3H30M
SUMMARY:Chunichi Dragons @ Yomiuri Giants
LOCATION:東京ドーム
DESCRIPTION:1
END:VEVENT
BEGIN:VEVENT
UID:2021039153@faceoff
DTSTART:20260718T050000Z
DURATION:PT3H30M
SUMMARY:Chunichi Dragons @ Yomiuri Giants
LOCATION:東京ドーム
DESCRIPTION:1
END:VEVENT
BEGIN:VEVENT
UID:2021039159@faceoff
DTSTART:20260719T050000Z
DURATION:PT3H30M
SUMMARY:Chunichi Dragons @ Yomiuri Giants
LOCATION:東京ドーム
DESCRIPTION:1
END:VEVENT
BEGIN:VEVENT
UID:2021039166@faceoff
DTSTART:20260720T090000Z
DURATION:PT3H30M
SUMMARY:Chunichi Dragons @ Tokyo Yakult Swallows
LOCATION:明治神宮野球場
DESCRIPTION:1
END:VEVENT
BEGIN:VEVENT
UID:2021039172@faceoff
DTSTART:20260721T090000Z
DURATION:PT3H30M
SUMMARY:Chunichi Dragons @ Tokyo Yakult Swallows
LOCATION:明治神宮野球場
DESCRIPTION:1
END:VEVENT
BEGIN:VEVENT
UID:2021039176@faceoff
DTSTART:20260722T090000Z
DURATION:PT3H30M
SUMMARY:Chunichi Dragons @ Tokyo Yakult Swallows
LOCATION:明治神宮野球場
DESCRIPTION:1
END:VEVENT
BEGIN:VEVENT
UID:2021039185@faceoff
DTSTART:20260724T090000Z
DURATION:PT3H30M
SUMMARY:Chunichi Dragons vs Yokohama DeNA BayStars
LOCATION:バンテリンドーム ナゴヤ
DESCRIPTION:1
END:VEVENT
BEGIN:VEVENT
UID:2021039190@faceoff
DTSTART:20260725T050000Z
DURATION:PT3H30M
SUMMARY:Chunichi Dragons vs Yokohama DeNA BayStars
LOCATION:バンテリンドーム ナゴヤ
DESCRIPTION:1
END:VEVENT
BEGIN:VEVENT
UID:2021039196@faceoff
DTSTART:20260726T043000Z
DURATION:PT3H30M
SUMMARY:Chunichi Dragons vs Yokohama DeNA BayStars
LOCATION:バンテリンドーム ナゴヤ
DESCRIPTION:1
END:VEVENT
BEGIN:VEVENT
UID:2021039203@faceoff
DTSTART:20260731T090000Z
DURATION:PT3H30M
SUMMARY:Chunichi Dragons @ Hiroshima Toyo Carp
LOCATION:MAZDA Zoom-Zoom スタジアム広島
DESCRIPTION:1
END:VEVENT
BEGIN:VEVENT
UID:2021039209@faceoff
DTSTART:20260801T090000Z
DURATION:PT3H30M
SUMMARY:Chunichi Dragons @ Hiroshima Toyo Carp
LOCATION:MAZDA Zoom-Zoom スタジアム広島
DESCRIPTION:1
END:VEVENT
BEGIN:VEVENT
UID:2021039215@faceoff
DTSTART:20260802T090000Z
DURATION:PT3H30M
SUMMARY:Chunichi Dragons @ Hiroshima Toyo Carp
LOCATION:MAZDA Zoom-Zoom スタジアム広島
DESCRIPTION:1
END:VEVENT
BEGIN:VEVENT
UID:2021039221@faceoff
DTSTART:20260804T090000Z
DURATION:PT3H30M
SUMMARY:Chunichi Dragons vs Tokyo Yakult Swallows
LOCATION:バンテリンドーム ナゴヤ
DESCRIPTION:1
END:VEVENT
BEGIN:VEVENT
UID:2021039226@faceoff
DTSTART:20260805T090000Z
DURATION:PT3H30M
SUMMARY:Chunichi Dragons vs Tokyo Yakult Swallows
LOCATION:バンテリンドーム ナゴヤ
DESCRIPTION:1
END:VEVENT
BEGIN:VEVENT
UID:2021039232@faceoff
DTSTART:20260806T090000Z
DURATION:PT3H30M
SUMMARY:Chunichi Dragons vs Tokyo Yakult Swallows
LOCATION:バンテリンドーム ナゴヤ
DESCRIPTION:1
END:VEVENT
BEGIN:VEVENT
UID:2021039238@faceoff
DTSTART:20260807T090000Z
DURATION:PT3H30M
SUMMARY:Chunichi Dragons @ Hanshin Tigers
LOCATION:京セラドーム大阪
DESCRIPTION:1
END:VEVENT
BEGIN:VEVENT
UID:2021039244@faceoff
DTSTART:20260808T090000Z
DURATION:PT3H30M
SUMMARY:Chunichi Dragons @ Hanshin Tigers
LOCATION:京セラドーム大阪
DESCRIPTION:1
END:VEVENT
BEGIN:VEVENT
UID:2021039250@faceoff
DTSTART:20260809T090000Z
DURATION:PT3H30M
SUMMARY:Chunichi Dragons @ Hanshin Tigers
LOCATION:京セラドーム大阪
DESCRIPTION:1
END:VEVENT
BEGIN:VEVENT
UID:2021039256@faceoff
DTSTART:20260811T050000Z
DURATION:PT3H30M
SUMMARY:Chunichi Dragons vs Yokohama DeNA BayStars
LOCATION:バンテリンドーム ナゴヤ
DESCRIPTION:1
END:VEVENT
BEGIN:VEVENT
UID:2021039262@faceoff
DTSTART:20260812T090000Z
DURATION:PT3H30M
SUMMARY:Chunichi Dragons vs Yokohama DeNA BayStars
LOCATION:バンテリンドーム ナゴヤ
DESCRIPTION:1
END:VEVENT
BEGIN:VEVENT
UID:2021039268@faceoff
DTSTART:20260813T090000Z
DURATION:PT3H30M
SUMMARY:Chunichi Dragons vs Yokohama DeNA BayStars
LOCATION:バンテリンドーム ナゴヤ
DESCRIPTION:1
END:VEVENT
BEGIN:VEVENT
UID:2021039273@faceoff
DTSTART:20260814T090000Z
DURATION:PT3H30M
SUMMARY:Chunichi Dragons vs Yomiuri Giants
LOCATION:バンテリンドーム ナゴヤ
DESCRIPTION:1
END:VEVENT
BEGIN:VEVENT
UID:2021039279@faceoff
DTSTART:20260815T050000Z
DURATION:PT3H30M
SUMMARY:Chunichi Dragons vs Yomiuri Giants
LOCATION:バンテリンドーム ナゴヤ
DESCRIPTION:1
END:VEVENT
BEGIN:VEVENT
UID:2021039285@faceoff
DTSTART:20260816T043000Z
DURATION:PT3H30M
SUMMARY:Chunichi Dragons vs Yomiuri Giants
LOCATION:バンテリンドーム ナゴヤ
DESCRIPTION:1
END:VEVENT
BEGIN:VEVENT
UID:2021039292@faceoff
DTSTART:20260818T090000Z
DURATION:PT3H30M
SUMMARY:Chunichi Dragons @ Hiroshima Toyo Carp
LOCATION:MAZDA Zoom-Zoom スタジアム広島
DESCRIPTION:1
END:VEVENT
BEGIN:VEVENT
UID:2021039298@faceoff
DTSTART:20260819T090000Z
DURATION:PT3H30M
SUMMARY:Chunichi Dragons @ Hiroshima Toyo Carp
LOCATION:MAZDA Zoom-Zoom スタジアム広島
DESCRIPTION:1
END:VEVENT
BEGIN:VEVENT
UID:2021039304@faceoff
DTSTART:20260820T090000Z
DURATION:PT3H30M
SUMMARY:Chunichi Dragons @ Hiroshima Toyo Carp
LOCATION:MAZDA Zoom-Zoom スタジアム広島
DESCRIPTION:1
END:VEVENT
BEGIN:VEVENT
UID:2021039310@faceoff
DTSTART:20260821T090000Z
DURATION:PT3H30M
SUMMARY:Chunichi Dragons vs Tokyo Yakult Swallows
LOCATION:バンテリンドーム ナゴヤ
DESCRIPTION:1
END:VEVENT
BEGIN:VEVENT
UID:2021039315@faceoff
DTSTART:20260822T050000Z
DURATION:PT3H30M
SUMMARY:Chunichi Dragons vs Tokyo Yakult Swallows
LOCATION:バンテリンドーム ナゴヤ
DESCRIPTION:1
END:VEVENT
BEGIN:VEVENT
UID:2021039321@faceoff
DTSTART:20260823T043000Z
DURATION:PT3H30M
SUMMARY:Chunichi Dragons vs Tokyo Yakult Swallows
LOCATION:バンテリンドーム ナゴヤ
DESCRIPTION:1
END:VEVENT
BEGIN:VEVENT
UID:2021039326@faceoff
DTSTART:20260825T090000Z
DURATION:PT3H30M
SUMMARY:Chunichi Dragons vs Hanshin Tigers
LOCATION:バンテリンドーム ナゴヤ
DESCRIPTION:1
END:VEVENT
BEGIN:VEVENT
UID:2021039332@faceoff
DTSTART:20260826T090000Z
DURATION:PT3H30M
SUMMARY:Chunichi Dragons vs Hanshin Tigers
LOCATION:バンテリンドーム ナゴヤ
DESCRIPTION:1
END:VEVENT
BEGIN:VEVENT
UID:2021039338@faceoff
DTSTART:20260827T090000Z
DURATION:PT3H30M
SUMMARY:Chunichi Dragons vs Hanshin Tigers
LOCATION:バンテリンドーム ナゴヤ
DESCRIPTION:1
END:VEVENT
BEGIN:VEVENT
UID:2021039342@faceoff
DTSTART:20260828T090000Z
DURATION:PT3H30M
SUMMARY:Chunichi Dragons @ Yokohama DeNA BayStars
LOCATION:横浜スタジアム
DESCRIPTION:1
END:VEVENT
BEGIN:VEVENT
UID:2021039348@faceoff
DTSTART:20260829T090000Z
DURATION:PT3H30M
SUMMARY:Chunichi Dragons @ Yokohama DeNA BayStars
LOCATION:横浜スタジアム
DESCRIPTION:1
END:VEVENT
BEGIN:VEVENT
UID:2021039354@faceoff
DTSTART:20260830T090000Z
DURATION:PT3H30M
SUMMARY:Chunichi Dragons @ Yokohama DeNA BayStars
LOCATION:横浜スタジアム
DESCRIPTION:1
END:VEVENT
BEGIN:VEVENT
UID:2021039362@faceoff
DTSTART:20260901T090000Z
DURATION:PT3H30M
SUMMARY:Chunichi Dragons vs Hiroshima Toyo Carp
LOCATION:バンテリンドーム ナゴヤ
DESCRIPTION:1
END:VEVENT
BEGIN:VEVENT
UID:2021039368@faceoff
DTSTART:20260902T090000Z
DURATION:PT3H30M
SUMMARY:Chunichi Dragons vs Hiroshima Toyo Carp
LOCATION:バンテリンドーム ナゴヤ
DESCRIPTION:1
END:VEVENT
BEGIN:VEVENT
UID:2021039372@faceoff
DTSTART:20260903T090000Z
DURATION:PT3H30M
SUMMARY:Chunichi Dragons vs Hiroshima Toyo Carp
LOCATION:バンテリンドーム ナゴヤ
DESCRIPTION:1
END:VEVENT
BEGIN:VEVENT
UID:2021039373@faceoff
DTSTART:20260904T090000Z
DURATION:PT3H30M
SUMMARY:Chunichi Dragons @ Tokyo Yakult Swallows
LOCATION:明治神宮野球場
DESCRIPTION:1
END:VEVENT
BEGIN:VEVENT
UID:2021039378@faceoff
DTSTART:20260905T090000Z
DURATION:PT3H30M
SUMMARY:Chunichi Dragons @ Tokyo Yakult Swallows
LOCATION:明治神宮野球場
DESCRIPTION:1
END:VEVENT
BEGIN:VEVENT
UID:2021039384@faceoff
DTSTART:20260906T080000Z
DURATION:PT3H30M
SUMMARY:Chunichi Dragons @ Tokyo Yakult Swallows
LOCATION:明治神宮野球場
DESCRIPTION:1
END:VEVENT
BEGIN:VEVENT
UID:2021039390@faceoff
DTSTART:20260908T090000Z
DURATION:PT3H30M
SUMMARY:Chunichi Dragons @ Yomiuri Giants
LOCATION:東京ドーム
DESCRIPTION:1
END:VEVENT
BEGIN:VEVENT
UID:2021039396@faceoff
DTSTART:20260909T090000Z
DURATION:PT3H30M
SUMMARY:Chunichi Dragons @ Yomiuri Giants
LOCATION:東京ドーム
DESCRIPTION:1
END:VEVENT
BEGIN:VEVENT
UID:2021039402@faceoff
DTSTART:20260910T090000Z
DURATION:PT3H30M
SUMMARY:Chunichi Dragons @ Yomiuri Giants
LOCATION:東京ドーム
DESCRIPTION:1
END:VEVENT
BEGIN:VEVENT
UID:2021039410@faceoff
DTSTART:20260912T050000Z
DURATION:PT3H30M
SUMMARY:Chunichi Dragons vs Tokyo Yakult Swallows
LOCATION:バンテリンドーム ナゴヤ
DESCRIPTION:1
END:VEVENT
BEGIN:VEVENT
UID:2021039417@faceoff
DTSTART:20260913T090000Z
DURATION:PT3H30M
SUMMARY:Chunichi Dragons @ Hanshin Tigers
LOCATION:阪神甲子園球場
DESCRIPTION:1
END:VEVENT
BEGIN:VEVENT
UID:2021039428@faceoff
DTSTART:20260918T090000Z
DURATION:PT3H30M
SUMMARY:Chunichi Dragons @ Yomiuri Giants
LOCATION:東京ドーム
DESCRIPTION:1
END:VEVENT
BEGIN:VEVENT
UID:2021039431@faceoff
DTSTART:20260919T050000Z
DURATION:PT3H30M
SUMMARY:Chunichi Dragons @ Yomiuri Giants
LOCATION:東京ドーム
DESCRIPTION:1
END:VEVENT
BEGIN:VEVENT
UID:2021039438@faceoff
DTSTART:20260920T090000Z
DURATION:PT3H30M
SUMMARY:Chunichi Dragons vs Hiroshima Toyo Carp
LOCATION:バンテリンドーム ナゴヤ
DESCRIPTION:1
END:VEVENT
BEGIN:VEVENT
UID:2021039443@faceoff
DTSTART:20260921T050000Z
DURATION:PT3H30M
SUMMARY:Chunichi Dragons vs Hiroshima Toyo Carp
LOCATION:バンテリンドーム ナゴヤ
DESCRIPTION:1
END:VEVENT
BEGIN:VEVENT
UID:2021039449@faceoff
DTSTART:20260922T090000Z
DURATION:PT3H30M
SUMMARY:Chunichi Dragons @ Yokohama DeNA BayStars
LOCATION:横浜スタジアム
DESCRIPTION:1
END:VEVENT
BEGIN:VEVENT
UID:2021039454@faceoff
DTSTART:20260923T090000Z
DURATION:PT3H30M
SUMMARY:Chunichi Dragons @ Yokohama DeNA BayStars
LOCATION:横浜スタジアム
DESCRIPTION:1
END:VEVENT
END:VCALENDAR
