BEGIN:VCALENDAR
VERSION:2.0
X-WR-CALNAME:Hiroshima Toyo Carp Schedule
REFRESH-INTERVAL;VALUE=DURATION:PT1H
X-PUBLISHED-TTL:PT1H
BEGIN:VEVENT
UID:2021040016@faceoff
DTSTART:20260221T040000Z
DURATION:PT3H30M
SUMMARY:Hiroshima Toyo Carp @ Yokohama DeNA BayStars
LOCATION:ユニオンですからスタジアム宜野湾
DESCRIPTION:2
END:VEVENT
BEGIN:VEVENT
UID:2021040018@faceoff
DTSTART:20260222T040000Z
DURATION:PT3H30M
SUMMARY:Hiroshima Toyo Carp @ Hokkaido Nippon-Ham Fighters
LOCATION:Enagicスタジアム名護
DESCRIPTION:2
END:VEVENT
BEGIN:VEVENT
UID:2021040024@faceoff
DTSTART:20260223T040000Z
DURATION:PT3H30M
SUMMARY:Hiroshima Toyo Carp @ Tokyo Yakult Swallows
LOCATION:ANA BALL PARK浦添
DESCRIPTION:2
END:VEVENT
BEGIN:VEVENT
UID:2021040026@faceoff
DTSTART:20260228T040000Z
DURATION:PT3H30M
SUMMARY:Hiroshima Toyo Carp @ Tohoku Rakuten Golden Eagles
LOCATION:マスカットスタジアム
DESCRIPTION:2
END:VEVENT
BEGIN:VEVENT
UID:2021040028@faceoff
DTSTART:20260301T040000Z
DURATION:PT3H30M
SUMMARY:Hiroshima Toyo Carp @ Tohoku Rakuten Golden Eagles
LOCATION:マスカットスタジアム
DESCRIPTION:2
END:VEVENT
BEGIN:VEVENT
UID:2021040036@faceoff
DTSTART:20260304T090000Z
DURATION:PT3H30M
SUMMARY:Hiroshima Toyo Carp @ ORIX Buffaloes
LOCATION:京セラドーム大阪
DESCRIPTION:2
END:VEVENT
BEGIN:VEVENT
UID:2021040049@faceoff
DTSTART:20260307T040000Z
DURATION:PT3H30M
SUMMARY:Hiroshima Toyo Carp vs Chunichi Dragons
LOCATION:MAZDA Zoom-Zoom スタジアム広島
DESCRIPTION:2
END:VEVENT
BEGIN:VEVENT
UID:2021040055@faceoff
DTSTART:20260308T040000Z
DURATION:PT3H30M
SUMMARY:Hiroshima Toyo Carp vs Chunichi Dragons
LOCATION:MAZDA Zoom-Zoom スタジアム広島
DESCRIPTION:2
END:VEVENT
BEGIN:VEVENT
UID:2021040057@faceoff
DTSTART:20260310T040000Z
DURATION:PT3H30M
SUMMARY:Hiroshima Toyo Carp @ Yokohama DeNA BayStars
LOCATION:横浜スタジアム
DESCRIPTION:2
END:VEVENT
BEGIN:VEVENT
UID:2021040063@faceoff
DTSTART:20260311T040000Z
DURATION:PT3H30M
SUMMARY:Hiroshima Toyo Carp @ Yokohama DeNA BayStars
LOCATION:横浜スタジアム
DESCRIPTION:2
END:VEVENT
BEGIN:VEVENT
UID:2021040068@faceoff
DTSTART:20260312T040000Z
DURATION:PT3H30M
SUMMARY:Hiroshima Toyo Carp @ Yokohama DeNA BayStars
LOCATION:横浜スタジアム
DESCRIPTION:2
END:VEVENT
BEGIN:VEVENT
UID:2021040078@faceoff
DTSTART:20260314T040000Z
DURATION:PT3H30M
SUMMARY:Hiroshima Toyo Carp vs Hanshin Tigers
LOCATION:MAZDA Zoom-Zoom スタジアム広島
DESCRIPTION:2
END:VEVENT
BEGIN:VEVENT
UID:2021040084@faceoff
DTSTART:20260315T040000Z
DURATION:PT3H30M
SUMMARY:Hiroshima Toyo Carp vs Hanshin Tigers
LOCATION:MAZDA Zoom-Zoom スタジアム広島
DESCRIPTION:2
END:VEVENT
BEGIN:VEVENT
UID:2021040089@faceoff
DTSTART:20260317T090000Z
DURATION:PT3H30M
SUMMARY:Hiroshima Toyo Carp @ ORIX Buffaloes
LOCATION:京セラドーム大阪
DESCRIPTION:2
END:VEVENT
BEGIN:VEVENT
UID:2021040095@faceoff
DTSTART:20260318T090000Z
DURATION:PT3H30M
SUMMARY:Hiroshima Toyo Carp @ ORIX Buffaloes
LOCATION:京セラドーム大阪
DESCRIPTION:2
END:VEVENT
BEGIN:VEVENT
UID:2021040102@faceoff
DTSTART:20260320T050000Z
DURATION:PT3H30M
SUMMARY:Hiroshima Toyo Carp @ Fukuoka SoftBank Hawks
LOCATION:みずほPayPayドーム福岡
DESCRIPTION:2
END:VEVENT
BEGIN:VEVENT
UID:2021040108@faceoff
DTSTART:20260321T040000Z
DURATION:PT3H30M
SUMMARY:Hiroshima Toyo Carp @ Fukuoka SoftBank Hawks
LOCATION:みずほPayPayドーム福岡
DESCRIPTION:2
END:VEVENT
BEGIN:VEVENT
UID:2021040114@faceoff
DTSTART:20260322T050000Z
DURATION:PT3H30M
SUMMARY:Hiroshima Toyo Carp vs Fukuoka SoftBank Hawks
LOCATION:MAZDA Zoom-Zoom スタジアム広島
DESCRIPTION:2
END:VEVENT
BEGIN:VEVENT
UID:2021038624@faceoff
DTSTART:20260327T090000Z
DURATION:PT3H30M
SUMMARY:Hiroshima Toyo Carp vs Chunichi Dragons
LOCATION:MAZDA Zoom-Zoom スタジアム広島
DESCRIPTION:2
END:VEVENT
BEGIN:VEVENT
UID:2021038630@faceoff
DTSTART:20260328T050000Z
DURATION:PT3H30M
SUMMARY:Hiroshima Toyo Carp vs Chunichi Dragons
LOCATION:MAZDA Zoom-Zoom スタジアム広島
DESCRIPTION:2
END:VEVENT
BEGIN:VEVENT
UID:2021038636@faceoff
DTSTART:20260329T043000Z
DURATION:PT3H30M
SUMMARY:Hiroshima Toyo Carp vs Chunichi Dragons
LOCATION:MAZDA Zoom-Zoom スタジアム広島
DESCRIPTION:2
END:VEVENT
BEGIN:VEVENT
UID:2021038640@faceoff
DTSTART:20260331T090000Z
DURATION:PT3H30M
SUMMARY:Hiroshima Toyo Carp @ Tokyo Yakult Swallows
LOCATION:明治神宮野球場
DESCRIPTION:2
END:VEVENT
BEGIN:VEVENT
UID:2021038646@faceoff
DTSTART:20260401T090000Z
DURATION:PT3H30M
SUMMARY:Hiroshima Toyo Carp @ Tokyo Yakult Swallows
LOCATION:明治神宮野球場
DESCRIPTION:4
END:VEVENT
BEGIN:VEVENT
UID:2021038652@faceoff
DTSTART:20260402T090000Z
DURATION:PT3H30M
SUMMARY:Hiroshima Toyo Carp @ Tokyo Yakult Swallows
LOCATION:明治神宮野球場
DESCRIPTION:2
END:VEVENT
BEGIN:VEVENT
UID:2021038660@faceoff
DTSTART:20260403T090000Z
DURATION:PT3H30M
SUMMARY:Hiroshima Toyo Carp vs Hanshin Tigers
LOCATION:MAZDA Zoom-Zoom スタジアム広島
DESCRIPTION:2
END:VEVENT
BEGIN:VEVENT
UID:2021038666@faceoff
DTSTART:20260404T050000Z
DURATION:PT3H30M
SUMMARY:Hiroshima Toyo Carp vs Hanshin Tigers
LOCATION:MAZDA Zoom-Zoom スタジアム広島
DESCRIPTION:2
END:VEVENT
BEGIN:VEVENT
UID:2021038672@faceoff
DTSTART:20260405T050000Z
DURATION:PT3H30M
SUMMARY:Hiroshima Toyo Carp vs Hanshin Tigers
LOCATION:MAZDA Zoom-Zoom スタジアム広島
DESCRIPTION:2
END:VEVENT
BEGIN:VEVENT
UID:2021038678@faceoff
DTSTART:20260407T090000Z
DURATION:PT3H30M
SUMMARY:Hiroshima Toyo Carp vs Yomiuri Giants
LOCATION:MAZDA Zoom-Zoom スタジアム広島
DESCRIPTION:2
END:VEVENT
BEGIN:VEVENT
UID:2021038684@faceoff
DTSTART:20260408T090000Z
DURATION:PT3H30M
SUMMARY:Hiroshima Toyo Carp vs Yomiuri Giants
LOCATION:MAZDA Zoom-Zoom スタジアム広島
DESCRIPTION:2
END:VEVENT
BEGIN:VEVENT
UID:2021038689@faceoff
DTSTART:20260409T090000Z
DURATION:PT3H30M
SUMMARY:Hiroshima Toyo Carp vs Yomiuri Giants
LOCATION:MAZDA Zoom-Zoom スタジアム広島
DESCRIPTION:4
END:VEVENT
BEGIN:VEVENT
UID:2021038694@faceoff
DTSTART:20260410T090000Z
DURATION:PT3H30M
SUMMARY:Hiroshima Toyo Carp @ Yokohama DeNA BayStars
LOCATION:横浜スタジアム
DESCRIPTION:4
END:VEVENT
BEGIN:VEVENT
UID:2021038699@faceoff
DTSTART:20260411T050000Z
DURATION:PT3H30M
SUMMARY:Hiroshima Toyo Carp @ Yokohama DeNA BayStars
LOCATION:横浜スタジアム
DESCRIPTION:2
END:VEVENT
BEGIN:VEVENT
UID:2021038705@faceoff
DTSTART:20260412T050000Z
DURATION:PT3H30M
SUMMARY:Hiroshima Toyo Carp @ Yokohama DeNA BayStars
LOCATION:横浜スタジアム
DESCRIPTION:2
END:VEVENT
BEGIN:VEVENT
UID:2021038711@faceoff
DTSTART:20260414T090000Z
DURATION:PT3H30M
SUMMARY:Hiroshima Toyo Carp @ Chunichi Dragons
LOCATION:豊橋市民球場
DESCRIPTION:2
END:VEVENT
BEGIN:VEVENT
UID:2021038716@faceoff
DTSTART:20260415T090000Z
DURATION:PT3H30M
SUMMARY:Hiroshima Toyo Carp @ Chunichi Dragons
LOCATION:バンテリンドーム ナゴヤ
DESCRIPTION:2
END:VEVENT
BEGIN:VEVENT
UID:2021038728@faceoff
DTSTART:20260417T090000Z
DURATION:PT3H30M
SUMMARY:Hiroshima Toyo Carp vs Yokohama DeNA BayStars
LOCATION:MAZDA Zoom-Zoom スタジアム広島
DESCRIPTION:2
END:VEVENT
BEGIN:VEVENT
UID:2021038734@faceoff
DTSTART:20260418T050000Z
DURATION:PT3H30M
SUMMARY:Hiroshima Toyo Carp vs Yokohama DeNA BayStars
LOCATION:MAZDA Zoom-Zoom スタジアム広島
DESCRIPTION:2
END:VEVENT
BEGIN:VEVENT
UID:2021038740@faceoff
DTSTART:20260419T043000Z
DURATION:PT3H30M
SUMMARY:Hiroshima Toyo Carp vs Yokohama DeNA BayStars
LOCATION:MAZDA Zoom-Zoom スタジアム広島
DESCRIPTION:2
END:VEVENT
BEGIN:VEVENT
UID:2021038746@faceoff
DTSTART:20260421T090000Z
DURATION:PT3H30M
SUMMARY:Hiroshima Toyo Carp vs Tokyo Yakult Swallows
LOCATION:MAZDA Zoom-Zoom スタジアム広島
DESCRIPTION:2
END:VEVENT
BEGIN:VEVENT
UID:2021038752@faceoff
DTSTART:20260422T090000Z
DURATION:PT3H30M
SUMMARY:Hiroshima Toyo Carp vs Tokyo Yakult Swallows
LOCATION:MAZDA Zoom-Zoom スタジアム広島
DESCRIPTION:2
END:VEVENT
BEGIN:VEVENT
UID:2021038757@faceoff
DTSTART:20260423T090000Z
DURATION:PT3H30M
SUMMARY:Hiroshima Toyo Carp vs Tokyo Yakult Swallows
LOCATION:MAZDA Zoom-Zoom スタジアム広島
DESCRIPTION:2
END:VEVENT
BEGIN:VEVENT
UID:2021038766@faceoff
DTSTART:20260425T050000Z
DURATION:PT3H30M
SUMMARY:Hiroshima Toyo Carp @ Hanshin Tigers
LOCATION:阪神甲子園球場
DESCRIPTION:1
END:VEVENT
BEGIN:VEVENT
UID:2021038772@faceoff
DTSTART:20260426T050000Z
DURATION:PT3H30M
SUMMARY:Hiroshima Toyo Carp @ Hanshin Tigers
LOCATION:阪神甲子園球場
DESCRIPTION:1
END:VEVENT
BEGIN:VEVENT
UID:2021038776@faceoff
DTSTART:20260428T090000Z
DURATION:PT3H30M
SUMMARY:Hiroshima Toyo Carp @ Yomiuri Giants
LOCATION:東京ドーム
DESCRIPTION:1
END:VEVENT
BEGIN:VEVENT
UID:2021038782@faceoff
DTSTART:20260429T090000Z
DURATION:PT3H30M
SUMMARY:Hiroshima Toyo Carp @ Yomiuri Giants
LOCATION:東京ドーム
DESCRIPTION:1
END:VEVENT
BEGIN:VEVENT
UID:2021038788@faceoff
DTSTART:20260430T090000Z
DURATION:PT3H30M
SUMMARY:Hiroshima Toyo Carp @ Yomiuri Giants
LOCATION:東京ドーム
DESCRIPTION:1
END:VEVENT
BEGIN:VEVENT
UID:2021038794@faceoff
DTSTART:20260501T090000Z
DURATION:PT3H30M
SUMMARY:Hiroshima Toyo Carp vs Chunichi Dragons
LOCATION:MAZDA Zoom-Zoom スタジアム広島
DESCRIPTION:1
END:VEVENT
BEGIN:VEVENT
UID:2021038800@faceoff
DTSTART:20260502T050000Z
DURATION:PT3H30M
SUMMARY:Hiroshima Toyo Carp vs Chunichi Dragons
LOCATION:MAZDA Zoom-Zoom スタジアム広島
DESCRIPTION:1
END:VEVENT
BEGIN:VEVENT
UID:2021038806@faceoff
DTSTART:20260503T043000Z
DURATION:PT3H30M
SUMMARY:Hiroshima Toyo Carp vs Chunichi Dragons
LOCATION:MAZDA Zoom-Zoom スタジアム広島
DESCRIPTION:1
END:VEVENT
BEGIN:VEVENT
UID:2021038811@faceoff
DTSTART:20260504T060000Z
DURATION:PT3H30M
SUMMARY:Hiroshima Toyo Carp @ Yokohama DeNA BayStars
LOCATION:横浜スタジアム
DESCRIPTION:1
END:VEVENT
BEGIN:VEVENT
UID:2021038817@faceoff
DTSTART:20260505T050000Z
DURATION:PT3H30M
SUMMARY:Hiroshima Toyo Carp @ Yokohama DeNA BayStars
LOCATION:横浜スタジアム
DESCRIPTION:1
END:VEVENT
BEGIN:VEVENT
UID:2021038823@faceoff
DTSTART:20260506T050000Z
DURATION:PT3H30M
SUMMARY:Hiroshima Toyo Carp @ Yokohama DeNA BayStars
LOCATION:横浜スタジアム
DESCRIPTION:1
END:VEVENT
BEGIN:VEVENT
UID:2021038830@faceoff
DTSTART:20260508T090000Z
DURATION:PT3H30M
SUMMARY:Hiroshima Toyo Carp vs Tokyo Yakult Swallows
LOCATION:MAZDA Zoom-Zoom スタジアム広島
DESCRIPTION:1
END:VEVENT
BEGIN:VEVENT
UID:2021038836@faceoff
DTSTART:20260509T050000Z
DURATION:PT3H30M
SUMMARY:Hiroshima Toyo Carp vs Tokyo Yakult Swallows
LOCATION:MAZDA Zoom-Zoom スタジアム広島
DESCRIPTION:1
END:VEVENT
BEGIN:VEVENT
UID:2021038842@faceoff
DTSTART:20260510T043000Z
DURATION:PT3H30M
SUMMARY:Hiroshima Toyo Carp vs Tokyo Yakult Swallows
LOCATION:MAZDA Zoom-Zoom スタジアム広島
DESCRIPTION:1
END:VEVENT
BEGIN:VEVENT
UID:2021038846@faceoff
DTSTART:20260512T090000Z
DURATION:PT3H30M
SUMMARY:Hiroshima Toyo Carp @ Yomiuri Giants
LOCATION:ぎふしん長良川球場
DESCRIPTION:1
END:VEVENT
BEGIN:VEVENT
UID:2021038852@faceoff
DTSTART:20260513T090000Z
DURATION:PT3H30M
SUMMARY:Hiroshima Toyo Carp @ Yomiuri Giants
LOCATION:セーレン・ドリームスタジアム
DESCRIPTION:1
END:VEVENT
BEGIN:VEVENT
UID:2021038862@faceoff
DTSTART:20260515T090000Z
DURATION:PT3H30M
SUMMARY:Hiroshima Toyo Carp @ Hanshin Tigers
LOCATION:阪神甲子園球場
DESCRIPTION:1
END:VEVENT
BEGIN:VEVENT
UID:2021038868@faceoff
DTSTART:20260516T050000Z
DURATION:PT3H30M
SUMMARY:Hiroshima Toyo Carp @ Hanshin Tigers
LOCATION:阪神甲子園球場
DESCRIPTION:1
END:VEVENT
BEGIN:VEVENT
UID:2021038874@faceoff
DTSTART:20260517T050000Z
DURATION:PT3H30M
SUMMARY:Hiroshima Toyo Carp @ Hanshin Tigers
LOCATION:阪神甲子園球場
DESCRIPTION:1
END:VEVENT
BEGIN:VEVENT
UID:2021038880@faceoff
DTSTART:20260519T090000Z
DURATION:PT3H30M
SUMMARY:Hiroshima Toyo Carp vs Yokohama DeNA BayStars
LOCATION:MAZDA Zoom-Zoom スタジアム広島
DESCRIPTION:1
END:VEVENT
BEGIN:VEVENT
UID:2021038885@faceoff
DTSTART:20260520T090000Z
DURATION:PT3H30M
SUMMARY:Hiroshima Toyo Carp vs Yokohama DeNA BayStars
LOCATION:MAZDA Zoom-Zoom スタジアム広島
DESCRIPTION:1
END:VEVENT
BEGIN:VEVENT
UID:2021038891@faceoff
DTSTART:20260521T090000Z
DURATION:PT3H30M
SUMMARY:Hiroshima Toyo Carp vs Yokohama DeNA BayStars
LOCATION:MAZDA Zoom-Zoom スタジアム広島
DESCRIPTION:1
END:VEVENT
BEGIN:VEVENT
UID:2021038893@faceoff
DTSTART:20260522T090000Z
DURATION:PT3H30M
SUMMARY:Hiroshima Toyo Carp @ Chunichi Dragons
LOCATION:バンテリンドーム ナゴヤ
DESCRIPTION:1
END:VEVENT
BEGIN:VEVENT
UID:2021038899@faceoff
DTSTART:20260523T050000Z
DURATION:PT3H30M
SUMMARY:Hiroshima Toyo Carp @ Chunichi Dragons
LOCATION:バンテリンドーム ナゴヤ
DESCRIPTION:1
END:VEVENT
BEGIN:VEVENT
UID:2021038905@faceoff
DTSTART:20260524T043000Z
DURATION:PT3H30M
SUMMARY:Hiroshima Toyo Carp @ Chunichi Dragons
LOCATION:バンテリンドーム ナゴヤ
DESCRIPTION:1
END:VEVENT
BEGIN:VEVENT
UID:2021038914@faceoff
DTSTART:20260526T090000Z
DURATION:PT3H30M
SUMMARY:Hiroshima Toyo Carp vs Chiba Lotte Marines
LOCATION:MAZDA Zoom-Zoom スタジアム広島
DESCRIPTION:1
END:VEVENT
BEGIN:VEVENT
UID:2021038920@faceoff
DTSTART:20260527T090000Z
DURATION:PT3H30M
SUMMARY:Hiroshima Toyo Carp vs Chiba Lotte Marines
LOCATION:MAZDA Zoom-Zoom スタジアム広島
DESCRIPTION:1
END:VEVENT
BEGIN:VEVENT
UID:2021038926@faceoff
DTSTART:20260528T090000Z
DURATION:PT3H30M
SUMMARY:Hiroshima Toyo Carp vs Chiba Lotte Marines
LOCATION:MAZDA Zoom-Zoom スタジアム広島
DESCRIPTION:1
END:VEVENT
BEGIN:VEVENT
UID:2021038932@faceoff
DTSTART:20260529T090000Z
DURATION:PT3H30M
SUMMARY:Hiroshima Toyo Carp @ Fukuoka SoftBank Hawks
LOCATION:みずほPayPayドーム福岡
DESCRIPTION:1
END:VEVENT
BEGIN:VEVENT
UID:2021038938@faceoff
DTSTART:20260530T050000Z
DURATION:PT3H30M
SUMMARY:Hiroshima Toyo Carp @ Fukuoka SoftBank Hawks
LOCATION:みずほPayPayドーム福岡
DESCRIPTION:1
END:VEVENT
BEGIN:VEVENT
UID:2021038944@faceoff
DTSTART:20260531T040000Z
DURATION:PT3H30M
SUMMARY:Hiroshima Toyo Carp @ Fukuoka SoftBank Hawks
LOCATION:みずほPayPayドーム福岡
DESCRIPTION:1
END:VEVENT
BEGIN:VEVENT
UID:2021038950@faceoff
DTSTART:20260602T090000Z
DURATION:PT3H30M
SUMMARY:Hiroshima Toyo Carp vs Hokkaido Nippon-Ham Fighters
LOCATION:MAZDA Zoom-Zoom スタジアム広島
DESCRIPTION:1
END:VEVENT
BEGIN:VEVENT
UID:2021038956@faceoff
DTSTART:20260603T090000Z
DURATION:PT3H30M
SUMMARY:Hiroshima Toyo Carp vs Hokkaido Nippon-Ham Fighters
LOCATION:MAZDA Zoom-Zoom スタジアム広島
DESCRIPTION:1
END:VEVENT
BEGIN:VEVENT
UID:2021038962@faceoff
DTSTART:20260604T090000Z
DURATION:PT3H30M
SUMMARY:Hiroshima Toyo Carp vs Hokkaido Nippon-Ham Fighters
LOCATION:MAZDA Zoom-Zoom スタジアム広島
DESCRIPTION:1
END:VEVENT
BEGIN:VEVENT
UID:2021038968@faceoff
DTSTART:20260605T090000Z
DURATION:PT3H30M
SUMMARY:Hiroshima Toyo Carp vs ORIX Buffaloes
LOCATION:MAZDA Zoom-Zoom スタジアム広島
DESCRIPTION:1
END:VEVENT
BEGIN:VEVENT
UID:2021038974@faceoff
DTSTART:20260606T050000Z
DURATION:PT3H30M
SUMMARY:Hiroshima Toyo Carp vs ORIX Buffaloes
LOCATION:MAZDA Zoom-Zoom スタジアム広島
DESCRIPTION:1
END:VEVENT
BEGIN:VEVENT
UID:2021038980@faceoff
DTSTART:20260607T043000Z
DURATION:PT3H30M
SUMMARY:Hiroshima Toyo Carp vs ORIX Buffaloes
LOCATION:MAZDA Zoom-Zoom スタジアム広島
DESCRIPTION:1
END:VEVENT
BEGIN:VEVENT
UID:2021038983@faceoff
DTSTART:20260609T090000Z
DURATION:PT3H30M
SUMMARY:Hiroshima Toyo Carp @ Saitama Seibu Lions
LOCATION:ベルーナドーム
DESCRIPTION:1
END:VEVENT
BEGIN:VEVENT
UID:2021038989@faceoff
DTSTART:20260610T090000Z
DURATION:PT3H30M
SUMMARY:Hiroshima Toyo Carp @ Saitama Seibu Lions
LOCATION:ベルーナドーム
DESCRIPTION:1
END:VEVENT
BEGIN:VEVENT
UID:2021038995@faceoff
DTSTART:20260611T090000Z
DURATION:PT3H30M
SUMMARY:Hiroshima Toyo Carp @ Saitama Seibu Lions
LOCATION:ベルーナドーム
DESCRIPTION:1
END:VEVENT
BEGIN:VEVENT
UID:2021039000@faceoff
DTSTART:20260612T090000Z
DURATION:PT3H30M
SUMMARY:Hiroshima Toyo Carp @ Tohoku Rakuten Golden Eagles
LOCATION:楽天モバイル 最強パーク宮城
DESCRIPTION:1
END:VEVENT
BEGIN:VEVENT
UID:2021039006@faceoff
DTSTART:20260613T050000Z
DURATION:PT3H30M
SUMMARY:Hiroshima Toyo Carp @ Tohoku Rakuten Golden Eagles
LOCATION:楽天モバイル 最強パーク宮城
DESCRIPTION:1
END:VEVENT
BEGIN:VEVENT
UID:2021039012@faceoff
DTSTART:20260614T040000Z
DURATION:PT3H30M
SUMMARY:Hiroshima Toyo Carp @ Tohoku Rakuten Golden Eagles
LOCATION:楽天モバイル 最強パーク宮城
DESCRIPTION:1
END:VEVENT
BEGIN:VEVENT
UID:2021039018@faceoff
DTSTART:20260619T090000Z
DURATION:PT3H30M
SUMMARY:Hiroshima Toyo Carp @ Tokyo Yakult Swallows
LOCATION:明治神宮野球場
DESCRIPTION:1
END:VEVENT
BEGIN:VEVENT
UID:2021039024@faceoff
DTSTART:20260620T050000Z
DURATION:PT3H30M
SUMMARY:Hiroshima Toyo Carp @ Tokyo Yakult Swallows
LOCATION:明治神宮野球場
DESCRIPTION:1
END:VEVENT
BEGIN:VEVENT
UID:2021039030@faceoff
DTSTART:20260621T043000Z
DURATION:PT3H30M
SUMMARY:Hiroshima Toyo Carp @ Tokyo Yakult Swallows
LOCATION:明治神宮野球場
DESCRIPTION:1
END:VEVENT
BEGIN:VEVENT
UID:2021039038@faceoff
DTSTART:20260623T090000Z
DURATION:PT3H30M
SUMMARY:Hiroshima Toyo Carp vs Yomiuri Giants
LOCATION:MAZDA Zoom-Zoom スタジアム広島
DESCRIPTION:1
END:VEVENT
BEGIN:VEVENT
UID:2021039044@faceoff
DTSTART:20260624T090000Z
DURATION:PT3H30M
SUMMARY:Hiroshima Toyo Carp vs Yomiuri Giants
LOCATION:MAZDA Zoom-Zoom スタジアム広島
DESCRIPTION:1
END:VEVENT
BEGIN:VEVENT
UID:2021039053@faceoff
DTSTART:20260626T090000Z
DURATION:PT3H30M
SUMMARY:Hiroshima Toyo Carp vs Hanshin Tigers
LOCATION:MAZDA Zoom-Zoom スタジアム広島
DESCRIPTION:1
END:VEVENT
BEGIN:VEVENT
UID:2021039058@faceoff
DTSTART:20260627T050000Z
DURATION:PT3H30M
SUMMARY:Hiroshima Toyo Carp vs Hanshin Tigers
LOCATION:MAZDA Zoom-Zoom スタジアム広島
DESCRIPTION:1
END:VEVENT
BEGIN:VEVENT
UID:2021039064@faceoff
DTSTART:20260628T050000Z
DURATION:PT3H30M
SUMMARY:Hiroshima Toyo Carp vs Hanshin Tigers
LOCATION:MAZDA Zoom-Zoom スタジアム広島
DESCRIPTION:1
END:VEVENT
BEGIN:VEVENT
UID:2021039069@faceoff
DTSTART:20260630T090000Z
DURATION:PT3H30M
SUMMARY:Hiroshima Toyo Carp @ Yokohama DeNA BayStars
LOCATION:HARD OFF ECOスタジアム新潟
DESCRIPTION:1
END:VEVENT
BEGIN:VEVENT
UID:2021039078@faceoff
DTSTART:20260702T091500Z
DURATION:PT3H30M
SUMMARY:Hiroshima Toyo Carp @ Yokohama DeNA BayStars
LOCATION:横浜スタジアム
DESCRIPTION:1
END:VEVENT
BEGIN:VEVENT
UID:2021039084@faceoff
DTSTART:20260703T090000Z
DURATION:PT3H30M
SUMMARY:Hiroshima Toyo Carp @ Hanshin Tigers
LOCATION:阪神甲子園球場
DESCRIPTION:1
END:VEVENT
BEGIN:VEVENT
UID:2021039090@faceoff
DTSTART:20260704T090000Z
DURATION:PT3H30M
SUMMARY:Hiroshima Toyo Carp @ Hanshin Tigers
LOCATION:阪神甲子園球場
DESCRIPTION:1
END:VEVENT
BEGIN:VEVENT
UID:2021039096@faceoff
DTSTART:20260705T090000Z
DURATION:PT3H30M
SUMMARY:Hiroshima Toyo Carp @ Hanshin Tigers
LOCATION:阪神甲子園球場
DESCRIPTION:1
END:VEVENT
BEGIN:VEVENT
UID:2021039102@faceoff
DTSTART:20260707T090000Z
DURATION:PT3H30M
SUMMARY:Hiroshima Toyo Carp vs Tokyo Yakult Swallows
LOCATION:MAZDA Zoom-Zoom スタジアム広島
DESCRIPTION:1
END:VEVENT
BEGIN:VEVENT
UID:2021039108@faceoff
DTSTART:20260708T090000Z
DURATION:PT3H30M
SUMMARY:Hiroshima Toyo Carp vs Tokyo Yakult Swallows
LOCATION:MAZDA Zoom-Zoom スタジアム広島
DESCRIPTION:1
END:VEVENT
BEGIN:VEVENT
UID:2021039114@faceoff
DTSTART:20260709T090000Z
DURATION:PT3H30M
SUMMARY:Hiroshima Toyo Carp vs Tokyo Yakult Swallows
LOCATION:MAZDA Zoom-Zoom スタジアム広島
DESCRIPTION:1
END:VEVENT
BEGIN:VEVENT
UID:2021039116@faceoff
DTSTART:20260710T090000Z
DURATION:PT3H30M
SUMMARY:Hiroshima Toyo Carp @ Chunichi Dragons
LOCATION:バンテリンドーム ナゴヤ
DESCRIPTION:1
END:VEVENT
BEGIN:VEVENT
UID:2021039122@faceoff
DTSTART:20260711T050000Z
DURATION:PT3H30M
SUMMARY:Hiroshima Toyo Carp @ Chunichi Dragons
LOCATION:バンテリンドーム ナゴヤ
DESCRIPTION:1
END:VEVENT
BEGIN:VEVENT
UID:2021039128@faceoff
DTSTART:20260712T043000Z
DURATION:PT3H30M
SUMMARY:Hiroshima Toyo Carp @ Chunichi Dragons
LOCATION:バンテリンドーム ナゴヤ
DESCRIPTION:1
END:VEVENT
BEGIN:VEVENT
UID:2021039135@faceoff
DTSTART:20260714T090000Z
DURATION:PT3H30M
SUMMARY:Hiroshima Toyo Carp vs Yokohama DeNA BayStars
LOCATION:MAZDA Zoom-Zoom スタジアム広島
DESCRIPTION:1
END:VEVENT
BEGIN:VEVENT
UID:2021039141@faceoff
DTSTART:20260715T090000Z
DURATION:PT3H30M
SUMMARY:Hiroshima Toyo Carp vs Yokohama DeNA BayStars
LOCATION:MAZDA Zoom-Zoom スタジアム広島
DESCRIPTION:1
END:VEVENT
BEGIN:VEVENT
UID:2021039152@faceoff
DTSTART:20260717T090000Z
DURATION:PT3H30M
SUMMARY:Hiroshima Toyo Carp vs Hanshin Tigers
LOCATION:MAZDA Zoom-Zoom スタジアム広島
DESCRIPTION:1
END:VEVENT
BEGIN:VEVENT
UID:2021039155@faceoff
DTSTART:20260718T090000Z
DURATION:PT3H30M
SUMMARY:Hiroshima Toyo Carp vs Hanshin Tigers
LOCATION:MAZDA Zoom-Zoom スタジアム広島
DESCRIPTION:1
END:VEVENT
BEGIN:VEVENT
UID:2021039161@faceoff
DTSTART:20260719T090000Z
DURATION:PT3H30M
SUMMARY:Hiroshima Toyo Carp vs Hanshin Tigers
LOCATION:MAZDA Zoom-Zoom スタジアム広島
DESCRIPTION:1
END:VEVENT
BEGIN:VEVENT
UID:2021039165@faceoff
DTSTART:20260720T090000Z
DURATION:PT3H30M
SUMMARY:Hiroshima Toyo Carp @ Yomiuri Giants
LOCATION:東京ドーム
DESCRIPTION:1
END:VEVENT
BEGIN:VEVENT
UID:2021039171@faceoff
DTSTART:20260721T090000Z
DURATION:PT3H30M
SUMMARY:Hiroshima Toyo Carp @ Yomiuri Giants
LOCATION:東京ドーム
DESCRIPTION:1
END:VEVENT
BEGIN:VEVENT
UID:2021039175@faceoff
DTSTART:20260722T090000Z
DURATION:PT3H30M
SUMMARY:Hiroshima Toyo Carp @ Yomiuri Giants
LOCATION:東京ドーム
DESCRIPTION:1
END:VEVENT
BEGIN:VEVENT
UID:2021039184@faceoff
DTSTART:20260724T090000Z
DURATION:PT3H30M
SUMMARY:Hiroshima Toyo Carp @ Tokyo Yakult Swallows
LOCATION:明治神宮野球場
DESCRIPTION:1
END:VEVENT
BEGIN:VEVENT
UID:2021039189@faceoff
DTSTART:20260725T090000Z
DURATION:PT3H30M
SUMMARY:Hiroshima Toyo Carp @ Tokyo Yakult Swallows
LOCATION:明治神宮野球場
DESCRIPTION:1
END:VEVENT
BEGIN:VEVENT
UID:2021039195@faceoff
DTSTART:20260726T090000Z
DURATION:PT3H30M
SUMMARY:Hiroshima Toyo Carp @ Tokyo Yakult Swallows
LOCATION:明治神宮野球場
DESCRIPTION:1
END:VEVENT
BEGIN:VEVENT
UID:2021039203@faceoff
DTSTART:20260731T090000Z
DURATION:PT3H30M
SUMMARY:Hiroshima Toyo Carp vs Chunichi Dragons
LOCATION:MAZDA Zoom-Zoom スタジアム広島
DESCRIPTION:1
END:VEVENT
BEGIN:VEVENT
UID:2021039209@faceoff
DTSTART:20260801T090000Z
DURATION:PT3H30M
SUMMARY:Hiroshima Toyo Carp vs Chunichi Dragons
LOCATION:MAZDA Zoom-Zoom スタジアム広島
DESCRIPTION:1
END:VEVENT
BEGIN:VEVENT
UID:2021039215@faceoff
DTSTART:20260802T090000Z
DURATION:PT3H30M
SUMMARY:Hiroshima Toyo Carp vs Chunichi Dragons
LOCATION:MAZDA Zoom-Zoom スタジアム広島
DESCRIPTION:1
END:VEVENT
BEGIN:VEVENT
UID:2021039222@faceoff
DTSTART:20260804T090000Z
DURATION:PT3H30M
SUMMARY:Hiroshima Toyo Carp vs Yomiuri Giants
LOCATION:MAZDA Zoom-Zoom スタジアム広島
DESCRIPTION:1
END:VEVENT
BEGIN:VEVENT
UID:2021039227@faceoff
DTSTART:20260805T090000Z
DURATION:PT3H30M
SUMMARY:Hiroshima Toyo Carp vs Yomiuri Giants
LOCATION:MAZDA Zoom-Zoom スタジアム広島
DESCRIPTION:1
END:VEVENT
BEGIN:VEVENT
UID:2021039233@faceoff
DTSTART:20260806T090000Z
DURATION:PT3H30M
SUMMARY:Hiroshima Toyo Carp vs Yomiuri Giants
LOCATION:MAZDA Zoom-Zoom スタジアム広島
DESCRIPTION:1
END:VEVENT
BEGIN:VEVENT
UID:2021039237@faceoff
DTSTART:20260807T090000Z
DURATION:PT3H30M
SUMMARY:Hiroshima Toyo Carp @ Yokohama DeNA BayStars
LOCATION:横浜スタジアム
DESCRIPTION:1
END:VEVENT
BEGIN:VEVENT
UID:2021039243@faceoff
DTSTART:20260808T090000Z
DURATION:PT3H30M
SUMMARY:Hiroshima Toyo Carp @ Yokohama DeNA BayStars
LOCATION:横浜スタジアム
DESCRIPTION:1
END:VEVENT
BEGIN:VEVENT
UID:2021039249@faceoff
DTSTART:20260809T090000Z
DURATION:PT3H30M
SUMMARY:Hiroshima Toyo Carp @ Yokohama DeNA BayStars
LOCATION:横浜スタジアム
DESCRIPTION:1
END:VEVENT
BEGIN:VEVENT
UID:2021039255@faceoff
DTSTART:20260811T090000Z
DURATION:PT3H30M
SUMMARY:Hiroshima Toyo Carp @ Tokyo Yakult Swallows
LOCATION:明治神宮野球場
DESCRIPTION:1
END:VEVENT
BEGIN:VEVENT
UID:2021039261@faceoff
DTSTART:20260812T090000Z
DURATION:PT3H30M
SUMMARY:Hiroshima Toyo Carp @ Tokyo Yakult Swallows
LOCATION:明治神宮野球場
DESCRIPTION:1
END:VEVENT
BEGIN:VEVENT
UID:2021039267@faceoff
DTSTART:20260813T090000Z
DURATION:PT3H30M
SUMMARY:Hiroshima Toyo Carp @ Tokyo Yakult Swallows
LOCATION:明治神宮野球場
DESCRIPTION:1
END:VEVENT
BEGIN:VEVENT
UID:2021039274@faceoff
DTSTART:20260814T090000Z
DURATION:PT3H30M
SUMMARY:Hiroshima Toyo Carp vs Hanshin Tigers
LOCATION:MAZDA Zoom-Zoom スタジアム広島
DESCRIPTION:1
END:VEVENT
BEGIN:VEVENT
UID:2021039280@faceoff
DTSTART:20260815T090000Z
DURATION:PT3H30M
SUMMARY:Hiroshima Toyo Carp vs Hanshin Tigers
LOCATION:MAZDA Zoom-Zoom スタジアム広島
DESCRIPTION:1
END:VEVENT
BEGIN:VEVENT
UID:2021039286@faceoff
DTSTART:20260816T090000Z
DURATION:PT3H30M
SUMMARY:Hiroshima Toyo Carp vs Hanshin Tigers
LOCATION:MAZDA Zoom-Zoom スタジアム広島
DESCRIPTION:1
END:VEVENT
BEGIN:VEVENT
UID:2021039292@faceoff
DTSTART:20260818T090000Z
DURATION:PT3H30M
SUMMARY:Hiroshima Toyo Carp vs Chunichi Dragons
LOCATION:MAZDA Zoom-Zoom スタジアム広島
DESCRIPTION:1
END:VEVENT
BEGIN:VEVENT
UID:2021039298@faceoff
DTSTART:20260819T090000Z
DURATION:PT3H30M
SUMMARY:Hiroshima Toyo Carp vs Chunichi Dragons
LOCATION:MAZDA Zoom-Zoom スタジアム広島
DESCRIPTION:1
END:VEVENT
BEGIN:VEVENT
UID:2021039304@faceoff
DTSTART:20260820T090000Z
DURATION:PT3H30M
SUMMARY:Hiroshima Toyo Carp vs Chunichi Dragons
LOCATION:MAZDA Zoom-Zoom スタジアム広島
DESCRIPTION:1
END:VEVENT
BEGIN:VEVENT
UID:2021039308@faceoff
DTSTART:20260821T090000Z
DURATION:PT3H30M
SUMMARY:Hiroshima Toyo Carp @ Yomiuri Giants
LOCATION:東京ドーム
DESCRIPTION:1
END:VEVENT
BEGIN:VEVENT
UID:2021039313@faceoff
DTSTART:20260822T050000Z
DURATION:PT3H30M
SUMMARY:Hiroshima Toyo Carp @ Yomiuri Giants
LOCATION:東京ドーム
DESCRIPTION:1
END:VEVENT
BEGIN:VEVENT
UID:2021039319@faceoff
DTSTART:20260823T050000Z
DURATION:PT3H30M
SUMMARY:Hiroshima Toyo Carp @ Yomiuri Giants
LOCATION:東京ドーム
DESCRIPTION:1
END:VEVENT
BEGIN:VEVENT
UID:2021039327@faceoff
DTSTART:20260825T090000Z
DURATION:PT3H30M
SUMMARY:Hiroshima Toyo Carp vs Yokohama DeNA BayStars
LOCATION:MAZDA Zoom-Zoom スタジアム広島
DESCRIPTION:1
END:VEVENT
BEGIN:VEVENT
UID:2021039333@faceoff
DTSTART:20260826T090000Z
DURATION:PT3H30M
SUMMARY:Hiroshima Toyo Carp vs Yokohama DeNA BayStars
LOCATION:MAZDA Zoom-Zoom スタジアム広島
DESCRIPTION:1
END:VEVENT
BEGIN:VEVENT
UID:2021039339@faceoff
DTSTART:20260827T090000Z
DURATION:PT3H30M
SUMMARY:Hiroshima Toyo Carp vs Yokohama DeNA BayStars
LOCATION:MAZDA Zoom-Zoom スタジアム広島
DESCRIPTION:1
END:VEVENT
BEGIN:VEVENT
UID:2021039344@faceoff
DTSTART:20260828T090000Z
DURATION:PT3H30M
SUMMARY:Hiroshima Toyo Carp vs Tokyo Yakult Swallows
LOCATION:MAZDA Zoom-Zoom スタジアム広島
DESCRIPTION:1
END:VEVENT
BEGIN:VEVENT
UID:2021039350@faceoff
DTSTART:20260829T090000Z
DURATION:PT3H30M
SUMMARY:Hiroshima Toyo Carp vs Tokyo Yakult Swallows
LOCATION:MAZDA Zoom-Zoom スタジアム広島
DESCRIPTION:1
END:VEVENT
BEGIN:VEVENT
UID:2021039356@faceoff
DTSTART:20260830T090000Z
DURATION:PT3H30M
SUMMARY:Hiroshima Toyo Carp vs Tokyo Yakult Swallows
LOCATION:MAZDA Zoom-Zoom スタジアム広島
DESCRIPTION:1
END:VEVENT
BEGIN:VEVENT
UID:2021039362@faceoff
DTSTART:20260901T090000Z
DURATION:PT3H30M
SUMMARY:Hiroshima Toyo Carp @ Chunichi Dragons
LOCATION:バンテリンドーム ナゴヤ
DESCRIPTION:1
END:VEVENT
BEGIN:VEVENT
UID:2021039368@faceoff
DTSTART:20260902T090000Z
DURATION:PT3H30M
SUMMARY:Hiroshima Toyo Carp @ Chunichi Dragons
LOCATION:バンテリンドーム ナゴヤ
DESCRIPTION:1
END:VEVENT
BEGIN:VEVENT
UID:2021039372@faceoff
DTSTART:20260903T090000Z
DURATION:PT3H30M
SUMMARY:Hiroshima Toyo Carp @ Chunichi Dragons
LOCATION:バンテリンドーム ナゴヤ
DESCRIPTION:1
END:VEVENT
BEGIN:VEVENT
UID:2021039374@faceoff
DTSTART:20260904T090000Z
DURATION:PT3H30M
SUMMARY:Hiroshima Toyo Carp vs Yomiuri Giants
LOCATION:MAZDA Zoom-Zoom スタジアム広島
DESCRIPTION:1
END:VEVENT
BEGIN:VEVENT
UID:2021039380@faceoff
DTSTART:20260905T090000Z
DURATION:PT3H30M
SUMMARY:Hiroshima Toyo Carp vs Yomiuri Giants
LOCATION:MAZDA Zoom-Zoom スタジアム広島
DESCRIPTION:1
END:VEVENT
BEGIN:VEVENT
UID:2021039386@faceoff
DTSTART:20260906T090000Z
DURATION:PT3H30M
SUMMARY:Hiroshima Toyo Carp vs Yomiuri Giants
LOCATION:MAZDA Zoom-Zoom スタジアム広島
DESCRIPTION:1
END:VEVENT
BEGIN:VEVENT
UID:2021039392@faceoff
DTSTART:20260908T090000Z
DURATION:PT3H30M
SUMMARY:Hiroshima Toyo Carp @ Hanshin Tigers
LOCATION:阪神甲子園球場
DESCRIPTION:1
END:VEVENT
BEGIN:VEVENT
UID:2021039398@faceoff
DTSTART:20260909T090000Z
DURATION:PT3H30M
SUMMARY:Hiroshima Toyo Carp @ Hanshin Tigers
LOCATION:阪神甲子園球場
DESCRIPTION:1
END:VEVENT
BEGIN:VEVENT
UID:2021039404@faceoff
DTSTART:20260910T090000Z
DURATION:PT3H30M
SUMMARY:Hiroshima Toyo Carp @ Hanshin Tigers
LOCATION:阪神甲子園球場
DESCRIPTION:1
END:VEVENT
BEGIN:VEVENT
UID:2021039408@faceoff
DTSTART:20260911T090000Z
DURATION:PT3H30M
SUMMARY:Hiroshima Toyo Carp vs Yokohama DeNA BayStars
LOCATION:MAZDA Zoom-Zoom スタジアム広島
DESCRIPTION:1
END:VEVENT
BEGIN:VEVENT
UID:2021039411@faceoff
DTSTART:20260912T050000Z
DURATION:PT3H30M
SUMMARY:Hiroshima Toyo Carp vs Yokohama DeNA BayStars
LOCATION:MAZDA Zoom-Zoom スタジアム広島
DESCRIPTION:1
END:VEVENT
BEGIN:VEVENT
UID:2021039415@faceoff
DTSTART:20260913T090000Z
DURATION:PT3H30M
SUMMARY:Hiroshima Toyo Carp @ Tokyo Yakult Swallows
LOCATION:明治神宮野球場
DESCRIPTION:1
END:VEVENT
BEGIN:VEVENT
UID:2021042970@faceoff
DTSTART:20260914T090000Z
DURATION:PT3H30M
SUMMARY:Hiroshima Toyo Carp @ Tokyo Yakult Swallows
LOCATION:明治神宮野球場
DESCRIPTION:1
END:VEVENT
BEGIN:VEVENT
UID:2021039430@faceoff
DTSTART:20260918T090000Z
DURATION:PT3H30M
SUMMARY:Hiroshima Toyo Carp @ Hanshin Tigers
LOCATION:阪神甲子園球場
DESCRIPTION:1
END:VEVENT
BEGIN:VEVENT
UID:2021039433@faceoff
DTSTART:20260919T090000Z
DURATION:PT3H30M
SUMMARY:Hiroshima Toyo Carp @ Hanshin Tigers
LOCATION:阪神甲子園球場
DESCRIPTION:1
END:VEVENT
BEGIN:VEVENT
UID:2021039438@faceoff
DTSTART:20260920T090000Z
DURATION:PT3H30M
SUMMARY:Hiroshima Toyo Carp @ Chunichi Dragons
LOCATION:バンテリンドーム ナゴヤ
DESCRIPTION:1
END:VEVENT
BEGIN:VEVENT
UID:2021039443@faceoff
DTSTART:20260921T050000Z
DURATION:PT3H30M
SUMMARY:Hiroshima Toyo Carp @ Chunichi Dragons
LOCATION:バンテリンドーム ナゴヤ
DESCRIPTION:1
END:VEVENT
BEGIN:VEVENT
UID:2021039450@faceoff
DTSTART:20260922T060000Z
DURATION:PT3H30M
SUMMARY:Hiroshima Toyo Carp vs Yomiuri Giants
LOCATION:MAZDA Zoom-Zoom スタジアム広島
DESCRIPTION:1
END:VEVENT
BEGIN:VEVENT
UID:2021039455@faceoff
DTSTART:20260923T060000Z
DURATION:PT3H30M
SUMMARY:Hiroshima Toyo Carp vs Yomiuri Giants
LOCATION:MAZDA Zoom-Zoom スタジアム広島
DESCRIPTION:1
END:VEVENT
END:VCALENDAR
