BEGIN:VCALENDAR
VERSION:2.0
X-WR-CALNAME:ORIX Buffaloes Schedule
REFRESH-INTERVAL;VALUE=DURATION:PT1H
X-PUBLISHED-TTL:PT1H
BEGIN:VEVENT
UID:2021040036@faceoff
DTSTART:20260304T090000Z
DURATION:PT3H30M
SUMMARY:ORIX Buffaloes vs Hiroshima Toyo Carp
LOCATION:京セラドーム大阪
DESCRIPTION:2
END:VEVENT
BEGIN:VEVENT
UID:2021040042@faceoff
DTSTART:20260306T090000Z
DURATION:PT3H30M
SUMMARY:ORIX Buffaloes vs Yomiuri Giants
LOCATION:京セラドーム大阪
DESCRIPTION:2
END:VEVENT
BEGIN:VEVENT
UID:2021040047@faceoff
DTSTART:20260307T050000Z
DURATION:PT3H30M
SUMMARY:ORIX Buffaloes vs Yomiuri Giants
LOCATION:京セラドーム大阪
DESCRIPTION:2
END:VEVENT
BEGIN:VEVENT
UID:2021040053@faceoff
DTSTART:20260308T040000Z
DURATION:PT3H30M
SUMMARY:ORIX Buffaloes vs Fukuoka SoftBank Hawks
LOCATION:京セラドーム大阪
DESCRIPTION:2
END:VEVENT
BEGIN:VEVENT
UID:2021040056@faceoff
DTSTART:20260310T040000Z
DURATION:PT3H30M
SUMMARY:ORIX Buffaloes @ Chiba Lotte Marines
LOCATION:ZOZOマリンスタジアム
DESCRIPTION:2
END:VEVENT
BEGIN:VEVENT
UID:2021040062@faceoff
DTSTART:20260311T040000Z
DURATION:PT3H30M
SUMMARY:ORIX Buffaloes @ Chiba Lotte Marines
LOCATION:ZOZOマリンスタジアム
DESCRIPTION:2
END:VEVENT
BEGIN:VEVENT
UID:2021040071@faceoff
DTSTART:20260313T060000Z
DURATION:PT3H30M
SUMMARY:ORIX Buffaloes @ Tokyo Yakult Swallows
LOCATION:明治神宮野球場
DESCRIPTION:2
END:VEVENT
BEGIN:VEVENT
UID:2021040075@faceoff
DTSTART:20260314T060000Z
DURATION:PT3H30M
SUMMARY:ORIX Buffaloes @ Tokyo Yakult Swallows
LOCATION:明治神宮野球場
DESCRIPTION:2
END:VEVENT
BEGIN:VEVENT
UID:2021040081@faceoff
DTSTART:20260315T040000Z
DURATION:PT3H30M
SUMMARY:ORIX Buffaloes @ Tokyo Yakult Swallows
LOCATION:明治神宮野球場
DESCRIPTION:2
END:VEVENT
BEGIN:VEVENT
UID:2021040089@faceoff
DTSTART:20260317T090000Z
DURATION:PT3H30M
SUMMARY:ORIX Buffaloes vs Hiroshima Toyo Carp
LOCATION:京セラドーム大阪
DESCRIPTION:2
END:VEVENT
BEGIN:VEVENT
UID:2021040095@faceoff
DTSTART:20260318T090000Z
DURATION:PT3H30M
SUMMARY:ORIX Buffaloes vs Hiroshima Toyo Carp
LOCATION:京セラドーム大阪
DESCRIPTION:2
END:VEVENT
BEGIN:VEVENT
UID:2021040101@faceoff
DTSTART:20260320T090000Z
DURATION:PT3H30M
SUMMARY:ORIX Buffaloes vs Hanshin Tigers
LOCATION:京セラドーム大阪
DESCRIPTION:2
END:VEVENT
BEGIN:VEVENT
UID:2021040107@faceoff
DTSTART:20260321T050000Z
DURATION:PT3H30M
SUMMARY:ORIX Buffaloes @ Hanshin Tigers
LOCATION:京セラドーム大阪
DESCRIPTION:2
END:VEVENT
BEGIN:VEVENT
UID:2021040113@faceoff
DTSTART:20260322T040000Z
DURATION:PT3H30M
SUMMARY:ORIX Buffaloes vs Hanshin Tigers
LOCATION:京セラドーム大阪
DESCRIPTION:2
END:VEVENT
BEGIN:VEVENT
UID:2021038626@faceoff
DTSTART:20260327T093000Z
DURATION:PT3H30M
SUMMARY:ORIX Buffaloes vs Tohoku Rakuten Golden Eagles
LOCATION:京セラドーム大阪
DESCRIPTION:2
END:VEVENT
BEGIN:VEVENT
UID:2021038632@faceoff
DTSTART:20260328T050000Z
DURATION:PT3H30M
SUMMARY:ORIX Buffaloes vs Tohoku Rakuten Golden Eagles
LOCATION:京セラドーム大阪
DESCRIPTION:2
END:VEVENT
BEGIN:VEVENT
UID:2021038638@faceoff
DTSTART:20260329T040000Z
DURATION:PT3H30M
SUMMARY:ORIX Buffaloes vs Tohoku Rakuten Golden Eagles
LOCATION:京セラドーム大阪
DESCRIPTION:2
END:VEVENT
BEGIN:VEVENT
UID:2021038645@faceoff
DTSTART:20260331T090000Z
DURATION:PT3H30M
SUMMARY:ORIX Buffaloes @ Saitama Seibu Lions
LOCATION:ベルーナドーム
DESCRIPTION:2
END:VEVENT
BEGIN:VEVENT
UID:2021038651@faceoff
DTSTART:20260401T090000Z
DURATION:PT3H30M
SUMMARY:ORIX Buffaloes @ Saitama Seibu Lions
LOCATION:ベルーナドーム
DESCRIPTION:2
END:VEVENT
BEGIN:VEVENT
UID:2021038657@faceoff
DTSTART:20260402T040000Z
DURATION:PT3H30M
SUMMARY:ORIX Buffaloes @ Saitama Seibu Lions
LOCATION:ベルーナドーム
DESCRIPTION:2
END:VEVENT
BEGIN:VEVENT
UID:2021038661@faceoff
DTSTART:20260403T090000Z
DURATION:PT3H30M
SUMMARY:ORIX Buffaloes @ Hokkaido Nippon-Ham Fighters
LOCATION:エスコンフィールドHOKKAIDO
DESCRIPTION:2
END:VEVENT
BEGIN:VEVENT
UID:2021038667@faceoff
DTSTART:20260404T050000Z
DURATION:PT3H30M
SUMMARY:ORIX Buffaloes @ Hokkaido Nippon-Ham Fighters
LOCATION:エスコンフィールドHOKKAIDO
DESCRIPTION:2
END:VEVENT
BEGIN:VEVENT
UID:2021038673@faceoff
DTSTART:20260405T040000Z
DURATION:PT3H30M
SUMMARY:ORIX Buffaloes @ Hokkaido Nippon-Ham Fighters
LOCATION:エスコンフィールドHOKKAIDO
DESCRIPTION:2
END:VEVENT
BEGIN:VEVENT
UID:2021038680@faceoff
DTSTART:20260407T090000Z
DURATION:PT3H30M
SUMMARY:ORIX Buffaloes vs Chiba Lotte Marines
LOCATION:京セラドーム大阪
DESCRIPTION:2
END:VEVENT
BEGIN:VEVENT
UID:2021038686@faceoff
DTSTART:20260408T090000Z
DURATION:PT3H30M
SUMMARY:ORIX Buffaloes vs Chiba Lotte Marines
LOCATION:京セラドーム大阪
DESCRIPTION:2
END:VEVENT
BEGIN:VEVENT
UID:2021038691@faceoff
DTSTART:20260409T090000Z
DURATION:PT3H30M
SUMMARY:ORIX Buffaloes vs Chiba Lotte Marines
LOCATION:京セラドーム大阪
DESCRIPTION:2
END:VEVENT
BEGIN:VEVENT
UID:2021038696@faceoff
DTSTART:20260410T090000Z
DURATION:PT3H30M
SUMMARY:ORIX Buffaloes @ Tohoku Rakuten Golden Eagles
LOCATION:楽天モバイル 最強パーク宮城
DESCRIPTION:4
END:VEVENT
BEGIN:VEVENT
UID:2021038702@faceoff
DTSTART:20260411T050000Z
DURATION:PT3H30M
SUMMARY:ORIX Buffaloes @ Tohoku Rakuten Golden Eagles
LOCATION:楽天モバイル 最強パーク宮城
DESCRIPTION:2
END:VEVENT
BEGIN:VEVENT
UID:2021038708@faceoff
DTSTART:20260412T040000Z
DURATION:PT3H30M
SUMMARY:ORIX Buffaloes @ Tohoku Rakuten Golden Eagles
LOCATION:楽天モバイル 最強パーク宮城
DESCRIPTION:2
END:VEVENT
BEGIN:VEVENT
UID:2021038714@faceoff
DTSTART:20260414T090000Z
DURATION:PT3H30M
SUMMARY:ORIX Buffaloes vs Saitama Seibu Lions
LOCATION:京セラドーム大阪
DESCRIPTION:2
END:VEVENT
BEGIN:VEVENT
UID:2021038719@faceoff
DTSTART:20260415T090000Z
DURATION:PT3H30M
SUMMARY:ORIX Buffaloes vs Saitama Seibu Lions
LOCATION:京セラドーム大阪
DESCRIPTION:2
END:VEVENT
BEGIN:VEVENT
UID:2021038724@faceoff
DTSTART:20260416T090000Z
DURATION:PT3H30M
SUMMARY:ORIX Buffaloes vs Saitama Seibu Lions
LOCATION:京セラドーム大阪
DESCRIPTION:2
END:VEVENT
BEGIN:VEVENT
UID:2021038731@faceoff
DTSTART:20260417T090000Z
DURATION:PT3H30M
SUMMARY:ORIX Buffaloes @ Fukuoka SoftBank Hawks
LOCATION:みずほPayPayドーム福岡
DESCRIPTION:2
END:VEVENT
BEGIN:VEVENT
UID:2021038737@faceoff
DTSTART:20260418T090000Z
DURATION:PT3H30M
SUMMARY:ORIX Buffaloes @ Fukuoka SoftBank Hawks
LOCATION:みずほPayPayドーム福岡
DESCRIPTION:2
END:VEVENT
BEGIN:VEVENT
UID:2021038743@faceoff
DTSTART:20260419T040000Z
DURATION:PT3H30M
SUMMARY:ORIX Buffaloes @ Fukuoka SoftBank Hawks
LOCATION:みずほPayPayドーム福岡
DESCRIPTION:2
END:VEVENT
BEGIN:VEVENT
UID:2021038749@faceoff
DTSTART:20260421T090000Z
DURATION:PT3H30M
SUMMARY:ORIX Buffaloes @ Chiba Lotte Marines
LOCATION:ZOZOマリンスタジアム
DESCRIPTION:2
END:VEVENT
BEGIN:VEVENT
UID:2021038755@faceoff
DTSTART:20260422T090000Z
DURATION:PT3H30M
SUMMARY:ORIX Buffaloes @ Chiba Lotte Marines
LOCATION:ZOZOマリンスタジアム
DESCRIPTION:2
END:VEVENT
BEGIN:VEVENT
UID:2021038760@faceoff
DTSTART:20260423T090000Z
DURATION:PT3H30M
SUMMARY:ORIX Buffaloes @ Chiba Lotte Marines
LOCATION:ZOZOマリンスタジアム
DESCRIPTION:4
END:VEVENT
BEGIN:VEVENT
UID:2021038763@faceoff
DTSTART:20260424T090000Z
DURATION:PT3H30M
SUMMARY:ORIX Buffaloes vs Hokkaido Nippon-Ham Fighters
LOCATION:京セラドーム大阪
DESCRIPTION:1
END:VEVENT
BEGIN:VEVENT
UID:2021038768@faceoff
DTSTART:20260425T050000Z
DURATION:PT3H30M
SUMMARY:ORIX Buffaloes vs Hokkaido Nippon-Ham Fighters
LOCATION:京セラドーム大阪
DESCRIPTION:1
END:VEVENT
BEGIN:VEVENT
UID:2021038774@faceoff
DTSTART:20260426T040000Z
DURATION:PT3H30M
SUMMARY:ORIX Buffaloes vs Hokkaido Nippon-Ham Fighters
LOCATION:京セラドーム大阪
DESCRIPTION:1
END:VEVENT
BEGIN:VEVENT
UID:2021038781@faceoff
DTSTART:20260428T090000Z
DURATION:PT3H30M
SUMMARY:ORIX Buffaloes vs Fukuoka SoftBank Hawks
LOCATION:京セラドーム大阪
DESCRIPTION:1
END:VEVENT
BEGIN:VEVENT
UID:2021038787@faceoff
DTSTART:20260429T050000Z
DURATION:PT3H30M
SUMMARY:ORIX Buffaloes vs Fukuoka SoftBank Hawks
LOCATION:京セラドーム大阪
DESCRIPTION:1
END:VEVENT
BEGIN:VEVENT
UID:2021038795@faceoff
DTSTART:20260501T090000Z
DURATION:PT3H30M
SUMMARY:ORIX Buffaloes @ Hokkaido Nippon-Ham Fighters
LOCATION:エスコンフィールドHOKKAIDO
DESCRIPTION:1
END:VEVENT
BEGIN:VEVENT
UID:2021038801@faceoff
DTSTART:20260502T050000Z
DURATION:PT3H30M
SUMMARY:ORIX Buffaloes @ Hokkaido Nippon-Ham Fighters
LOCATION:エスコンフィールドHOKKAIDO
DESCRIPTION:1
END:VEVENT
BEGIN:VEVENT
UID:2021038807@faceoff
DTSTART:20260503T040000Z
DURATION:PT3H30M
SUMMARY:ORIX Buffaloes @ Hokkaido Nippon-Ham Fighters
LOCATION:エスコンフィールドHOKKAIDO
DESCRIPTION:1
END:VEVENT
BEGIN:VEVENT
UID:2021038815@faceoff
DTSTART:20260504T090000Z
DURATION:PT3H30M
SUMMARY:ORIX Buffaloes vs Chiba Lotte Marines
LOCATION:京セラドーム大阪
DESCRIPTION:1
END:VEVENT
BEGIN:VEVENT
UID:2021038821@faceoff
DTSTART:20260505T050000Z
DURATION:PT3H30M
SUMMARY:ORIX Buffaloes vs Chiba Lotte Marines
LOCATION:京セラドーム大阪
DESCRIPTION:1
END:VEVENT
BEGIN:VEVENT
UID:2021038827@faceoff
DTSTART:20260506T040000Z
DURATION:PT3H30M
SUMMARY:ORIX Buffaloes vs Chiba Lotte Marines
LOCATION:京セラドーム大阪
DESCRIPTION:1
END:VEVENT
BEGIN:VEVENT
UID:2021038832@faceoff
DTSTART:20260508T090000Z
DURATION:PT3H30M
SUMMARY:ORIX Buffaloes vs Hokkaido Nippon-Ham Fighters
LOCATION:京セラドーム大阪
DESCRIPTION:1
END:VEVENT
BEGIN:VEVENT
UID:2021038838@faceoff
DTSTART:20260509T050000Z
DURATION:PT3H30M
SUMMARY:ORIX Buffaloes vs Hokkaido Nippon-Ham Fighters
LOCATION:京セラドーム大阪
DESCRIPTION:1
END:VEVENT
BEGIN:VEVENT
UID:2021038844@faceoff
DTSTART:20260510T040000Z
DURATION:PT3H30M
SUMMARY:ORIX Buffaloes vs Hokkaido Nippon-Ham Fighters
LOCATION:京セラドーム大阪
DESCRIPTION:1
END:VEVENT
BEGIN:VEVENT
UID:2021038849@faceoff
DTSTART:20260512T090000Z
DURATION:PT3H30M
SUMMARY:ORIX Buffaloes @ Tohoku Rakuten Golden Eagles
LOCATION:はるか夢球場
DESCRIPTION:1
END:VEVENT
BEGIN:VEVENT
UID:2021038858@faceoff
DTSTART:20260514T040000Z
DURATION:PT3H30M
SUMMARY:ORIX Buffaloes @ Tohoku Rakuten Golden Eagles
LOCATION:楽天モバイル 最強パーク宮城
DESCRIPTION:1
END:VEVENT
BEGIN:VEVENT
UID:2021038865@faceoff
DTSTART:20260515T090000Z
DURATION:PT3H30M
SUMMARY:ORIX Buffaloes @ Chiba Lotte Marines
LOCATION:ZOZOマリンスタジアム
DESCRIPTION:1
END:VEVENT
BEGIN:VEVENT
UID:2021038871@faceoff
DTSTART:20260516T050000Z
DURATION:PT3H30M
SUMMARY:ORIX Buffaloes @ Chiba Lotte Marines
LOCATION:ZOZOマリンスタジアム
DESCRIPTION:1
END:VEVENT
BEGIN:VEVENT
UID:2021038877@faceoff
DTSTART:20260517T050000Z
DURATION:PT3H30M
SUMMARY:ORIX Buffaloes @ Chiba Lotte Marines
LOCATION:ZOZOマリンスタジアム
DESCRIPTION:1
END:VEVENT
BEGIN:VEVENT
UID:2021038883@faceoff
DTSTART:20260519T090000Z
DURATION:PT3H30M
SUMMARY:ORIX Buffaloes vs Fukuoka SoftBank Hawks
LOCATION:京セラドーム大阪
DESCRIPTION:1
END:VEVENT
BEGIN:VEVENT
UID:2021038888@faceoff
DTSTART:20260520T090000Z
DURATION:PT3H30M
SUMMARY:ORIX Buffaloes vs Fukuoka SoftBank Hawks
LOCATION:京セラドーム大阪
DESCRIPTION:1
END:VEVENT
BEGIN:VEVENT
UID:2021038895@faceoff
DTSTART:20260522T090000Z
DURATION:PT3H30M
SUMMARY:ORIX Buffaloes @ Saitama Seibu Lions
LOCATION:ベルーナドーム
DESCRIPTION:1
END:VEVENT
BEGIN:VEVENT
UID:2021038901@faceoff
DTSTART:20260523T050000Z
DURATION:PT3H30M
SUMMARY:ORIX Buffaloes @ Saitama Seibu Lions
LOCATION:ベルーナドーム
DESCRIPTION:1
END:VEVENT
BEGIN:VEVENT
UID:2021038907@faceoff
DTSTART:20260524T040000Z
DURATION:PT3H30M
SUMMARY:ORIX Buffaloes @ Saitama Seibu Lions
LOCATION:ベルーナドーム
DESCRIPTION:1
END:VEVENT
BEGIN:VEVENT
UID:2021038911@faceoff
DTSTART:20260526T084500Z
DURATION:PT3H30M
SUMMARY:ORIX Buffaloes @ Yokohama DeNA BayStars
LOCATION:横浜スタジアム
DESCRIPTION:1
END:VEVENT
BEGIN:VEVENT
UID:2021038917@faceoff
DTSTART:20260527T084500Z
DURATION:PT3H30M
SUMMARY:ORIX Buffaloes @ Yokohama DeNA BayStars
LOCATION:横浜スタジアム
DESCRIPTION:1
END:VEVENT
BEGIN:VEVENT
UID:2021038923@faceoff
DTSTART:20260528T084500Z
DURATION:PT3H30M
SUMMARY:ORIX Buffaloes @ Yokohama DeNA BayStars
LOCATION:横浜スタジアム
DESCRIPTION:1
END:VEVENT
BEGIN:VEVENT
UID:2021038931@faceoff
DTSTART:20260529T090000Z
DURATION:PT3H30M
SUMMARY:ORIX Buffaloes vs Chunichi Dragons
LOCATION:京セラドーム大阪
DESCRIPTION:1
END:VEVENT
BEGIN:VEVENT
UID:2021038937@faceoff
DTSTART:20260530T050000Z
DURATION:PT3H30M
SUMMARY:ORIX Buffaloes vs Chunichi Dragons
LOCATION:京セラドーム大阪
DESCRIPTION:1
END:VEVENT
BEGIN:VEVENT
UID:2021038943@faceoff
DTSTART:20260531T040000Z
DURATION:PT3H30M
SUMMARY:ORIX Buffaloes vs Chunichi Dragons
LOCATION:京セラドーム大阪
DESCRIPTION:1
END:VEVENT
BEGIN:VEVENT
UID:2021038945@faceoff
DTSTART:20260602T090000Z
DURATION:PT3H30M
SUMMARY:ORIX Buffaloes @ Yomiuri Giants
LOCATION:東京ドーム
DESCRIPTION:1
END:VEVENT
BEGIN:VEVENT
UID:2021038951@faceoff
DTSTART:20260603T090000Z
DURATION:PT3H30M
SUMMARY:ORIX Buffaloes @ Yomiuri Giants
LOCATION:東京ドーム
DESCRIPTION:1
END:VEVENT
BEGIN:VEVENT
UID:2021038957@faceoff
DTSTART:20260604T090000Z
DURATION:PT3H30M
SUMMARY:ORIX Buffaloes @ Yomiuri Giants
LOCATION:東京ドーム
DESCRIPTION:1
END:VEVENT
BEGIN:VEVENT
UID:2021038968@faceoff
DTSTART:20260605T090000Z
DURATION:PT3H30M
SUMMARY:ORIX Buffaloes @ Hiroshima Toyo Carp
LOCATION:MAZDA Zoom-Zoom スタジアム広島
DESCRIPTION:1
END:VEVENT
BEGIN:VEVENT
UID:2021038974@faceoff
DTSTART:20260606T050000Z
DURATION:PT3H30M
SUMMARY:ORIX Buffaloes @ Hiroshima Toyo Carp
LOCATION:MAZDA Zoom-Zoom スタジアム広島
DESCRIPTION:1
END:VEVENT
BEGIN:VEVENT
UID:2021038980@faceoff
DTSTART:20260607T043000Z
DURATION:PT3H30M
SUMMARY:ORIX Buffaloes @ Hiroshima Toyo Carp
LOCATION:MAZDA Zoom-Zoom スタジアム広島
DESCRIPTION:1
END:VEVENT
BEGIN:VEVENT
UID:2021038985@faceoff
DTSTART:20260609T090000Z
DURATION:PT3H30M
SUMMARY:ORIX Buffaloes vs Tokyo Yakult Swallows
LOCATION:京セラドーム大阪
DESCRIPTION:1
END:VEVENT
BEGIN:VEVENT
UID:2021038991@faceoff
DTSTART:20260610T090000Z
DURATION:PT3H30M
SUMMARY:ORIX Buffaloes vs Tokyo Yakult Swallows
LOCATION:京セラドーム大阪
DESCRIPTION:1
END:VEVENT
BEGIN:VEVENT
UID:2021038997@faceoff
DTSTART:20260611T090000Z
DURATION:PT3H30M
SUMMARY:ORIX Buffaloes vs Tokyo Yakult Swallows
LOCATION:京セラドーム大阪
DESCRIPTION:1
END:VEVENT
BEGIN:VEVENT
UID:2021039003@faceoff
DTSTART:20260612T090000Z
DURATION:PT3H30M
SUMMARY:ORIX Buffaloes vs Hanshin Tigers
LOCATION:京セラドーム大阪
DESCRIPTION:1
END:VEVENT
BEGIN:VEVENT
UID:2021039009@faceoff
DTSTART:20260613T060000Z
DURATION:PT3H30M
SUMMARY:ORIX Buffaloes vs Hanshin Tigers
LOCATION:京セラドーム大阪
DESCRIPTION:1
END:VEVENT
BEGIN:VEVENT
UID:2021039015@faceoff
DTSTART:20260614T040000Z
DURATION:PT3H30M
SUMMARY:ORIX Buffaloes vs Hanshin Tigers
LOCATION:京セラドーム大阪
DESCRIPTION:1
END:VEVENT
BEGIN:VEVENT
UID:2021039022@faceoff
DTSTART:20260619T090000Z
DURATION:PT3H30M
SUMMARY:ORIX Buffaloes vs Saitama Seibu Lions
LOCATION:京セラドーム大阪
DESCRIPTION:1
END:VEVENT
BEGIN:VEVENT
UID:2021039028@faceoff
DTSTART:20260620T050000Z
DURATION:PT3H30M
SUMMARY:ORIX Buffaloes vs Saitama Seibu Lions
LOCATION:京セラドーム大阪
DESCRIPTION:1
END:VEVENT
BEGIN:VEVENT
UID:2021039034@faceoff
DTSTART:20260621T040000Z
DURATION:PT3H30M
SUMMARY:ORIX Buffaloes vs Saitama Seibu Lions
LOCATION:京セラドーム大阪
DESCRIPTION:1
END:VEVENT
BEGIN:VEVENT
UID:2021039041@faceoff
DTSTART:20260623T090000Z
DURATION:PT3H30M
SUMMARY:ORIX Buffaloes @ Fukuoka SoftBank Hawks
LOCATION:みずほPayPayドーム福岡
DESCRIPTION:1
END:VEVENT
BEGIN:VEVENT
UID:2021039046@faceoff
DTSTART:20260624T090000Z
DURATION:PT3H30M
SUMMARY:ORIX Buffaloes @ Fukuoka SoftBank Hawks
LOCATION:みずほPayPayドーム福岡
DESCRIPTION:1
END:VEVENT
BEGIN:VEVENT
UID:2021039050@faceoff
DTSTART:20260625T090000Z
DURATION:PT3H30M
SUMMARY:ORIX Buffaloes @ Fukuoka SoftBank Hawks
LOCATION:みずほPayPayドーム福岡
DESCRIPTION:1
END:VEVENT
BEGIN:VEVENT
UID:2021039061@faceoff
DTSTART:20260627T090000Z
DURATION:PT3H30M
SUMMARY:ORIX Buffaloes vs Tohoku Rakuten Golden Eagles
LOCATION:ほっともっとフィールド神戸
DESCRIPTION:1
END:VEVENT
BEGIN:VEVENT
UID:2021039067@faceoff
DTSTART:20260628T070000Z
DURATION:PT3H30M
SUMMARY:ORIX Buffaloes vs Tohoku Rakuten Golden Eagles
LOCATION:ほっともっとフィールド神戸
DESCRIPTION:1
END:VEVENT
BEGIN:VEVENT
UID:2021039071@faceoff
DTSTART:20260630T090000Z
DURATION:PT3H30M
SUMMARY:ORIX Buffaloes @ Hokkaido Nippon-Ham Fighters
LOCATION:エスコンフィールドHOKKAIDO
DESCRIPTION:1
END:VEVENT
BEGIN:VEVENT
UID:2021039076@faceoff
DTSTART:20260701T090000Z
DURATION:PT3H30M
SUMMARY:ORIX Buffaloes @ Hokkaido Nippon-Ham Fighters
LOCATION:エスコンフィールドHOKKAIDO
DESCRIPTION:1
END:VEVENT
BEGIN:VEVENT
UID:2021039080@faceoff
DTSTART:20260702T090000Z
DURATION:PT3H30M
SUMMARY:ORIX Buffaloes @ Hokkaido Nippon-Ham Fighters
LOCATION:エスコンフィールドHOKKAIDO
DESCRIPTION:1
END:VEVENT
BEGIN:VEVENT
UID:2021039086@faceoff
DTSTART:20260703T090000Z
DURATION:PT3H30M
SUMMARY:ORIX Buffaloes vs Saitama Seibu Lions
LOCATION:ほっともっとフィールド神戸
DESCRIPTION:1
END:VEVENT
BEGIN:VEVENT
UID:2021039092@faceoff
DTSTART:20260704T090000Z
DURATION:PT3H30M
SUMMARY:ORIX Buffaloes vs Saitama Seibu Lions
LOCATION:ほっともっとフィールド神戸
DESCRIPTION:1
END:VEVENT
BEGIN:VEVENT
UID:2021039098@faceoff
DTSTART:20260705T050000Z
DURATION:PT3H30M
SUMMARY:ORIX Buffaloes vs Saitama Seibu Lions
LOCATION:京セラドーム大阪
DESCRIPTION:1
END:VEVENT
BEGIN:VEVENT
UID:2021039105@faceoff
DTSTART:20260707T090000Z
DURATION:PT3H30M
SUMMARY:ORIX Buffaloes vs Fukuoka SoftBank Hawks
LOCATION:京セラドーム大阪
DESCRIPTION:1
END:VEVENT
BEGIN:VEVENT
UID:2021039111@faceoff
DTSTART:20260708T090000Z
DURATION:PT3H30M
SUMMARY:ORIX Buffaloes vs Fukuoka SoftBank Hawks
LOCATION:京セラドーム大阪
DESCRIPTION:1
END:VEVENT
BEGIN:VEVENT
UID:2021039119@faceoff
DTSTART:20260710T090000Z
DURATION:PT3H30M
SUMMARY:ORIX Buffaloes @ Chiba Lotte Marines
LOCATION:ZOZOマリンスタジアム
DESCRIPTION:1
END:VEVENT
BEGIN:VEVENT
UID:2021039125@faceoff
DTSTART:20260711T090000Z
DURATION:PT3H30M
SUMMARY:ORIX Buffaloes @ Chiba Lotte Marines
LOCATION:ZOZOマリンスタジアム
DESCRIPTION:1
END:VEVENT
BEGIN:VEVENT
UID:2021039131@faceoff
DTSTART:20260712T080000Z
DURATION:PT3H30M
SUMMARY:ORIX Buffaloes @ Chiba Lotte Marines
LOCATION:ZOZOマリンスタジアム
DESCRIPTION:1
END:VEVENT
BEGIN:VEVENT
UID:2021039137@faceoff
DTSTART:20260714T090000Z
DURATION:PT3H30M
SUMMARY:ORIX Buffaloes @ Tohoku Rakuten Golden Eagles
LOCATION:楽天モバイル 最強パーク宮城
DESCRIPTION:1
END:VEVENT
BEGIN:VEVENT
UID:2021039143@faceoff
DTSTART:20260715T090000Z
DURATION:PT3H30M
SUMMARY:ORIX Buffaloes @ Tohoku Rakuten Golden Eagles
LOCATION:楽天モバイル 最強パーク宮城
DESCRIPTION:1
END:VEVENT
BEGIN:VEVENT
UID:2021039148@faceoff
DTSTART:20260716T090000Z
DURATION:PT3H30M
SUMMARY:ORIX Buffaloes @ Tohoku Rakuten Golden Eagles
LOCATION:楽天モバイル 最強パーク宮城
DESCRIPTION:1
END:VEVENT
BEGIN:VEVENT
UID:2021039158@faceoff
DTSTART:20260718T050000Z
DURATION:PT3H30M
SUMMARY:ORIX Buffaloes vs Hokkaido Nippon-Ham Fighters
LOCATION:京セラドーム大阪
DESCRIPTION:1
END:VEVENT
BEGIN:VEVENT
UID:2021039164@faceoff
DTSTART:20260719T040000Z
DURATION:PT3H30M
SUMMARY:ORIX Buffaloes vs Hokkaido Nippon-Ham Fighters
LOCATION:京セラドーム大阪
DESCRIPTION:1
END:VEVENT
BEGIN:VEVENT
UID:2021039170@faceoff
DTSTART:20260720T040000Z
DURATION:PT3H30M
SUMMARY:ORIX Buffaloes vs Hokkaido Nippon-Ham Fighters
LOCATION:京セラドーム大阪
DESCRIPTION:1
END:VEVENT
BEGIN:VEVENT
UID:2021039174@faceoff
DTSTART:20260721T090000Z
DURATION:PT3H30M
SUMMARY:ORIX Buffaloes @ Fukuoka SoftBank Hawks
LOCATION:みずほPayPayドーム福岡
DESCRIPTION:1
END:VEVENT
BEGIN:VEVENT
UID:2021039180@faceoff
DTSTART:20260722T090000Z
DURATION:PT3H30M
SUMMARY:ORIX Buffaloes @ Fukuoka SoftBank Hawks
LOCATION:みずほPayPayドーム福岡
DESCRIPTION:1
END:VEVENT
BEGIN:VEVENT
UID:2021039183@faceoff
DTSTART:20260723T090000Z
DURATION:PT3H30M
SUMMARY:ORIX Buffaloes @ Fukuoka SoftBank Hawks
LOCATION:みずほPayPayドーム福岡
DESCRIPTION:1
END:VEVENT
BEGIN:VEVENT
UID:2021039188@faceoff
DTSTART:20260724T090000Z
DURATION:PT3H30M
SUMMARY:ORIX Buffaloes vs Chiba Lotte Marines
LOCATION:京セラドーム大阪
DESCRIPTION:1
END:VEVENT
BEGIN:VEVENT
UID:2021039194@faceoff
DTSTART:20260725T050000Z
DURATION:PT3H30M
SUMMARY:ORIX Buffaloes vs Chiba Lotte Marines
LOCATION:京セラドーム大阪
DESCRIPTION:1
END:VEVENT
BEGIN:VEVENT
UID:2021039200@faceoff
DTSTART:20260726T040000Z
DURATION:PT3H30M
SUMMARY:ORIX Buffaloes vs Chiba Lotte Marines
LOCATION:京セラドーム大阪
DESCRIPTION:1
END:VEVENT
BEGIN:VEVENT
UID:2021039206@faceoff
DTSTART:20260731T090000Z
DURATION:PT3H30M
SUMMARY:ORIX Buffaloes @ Saitama Seibu Lions
LOCATION:ベルーナドーム
DESCRIPTION:1
END:VEVENT
BEGIN:VEVENT
UID:2021039212@faceoff
DTSTART:20260801T080000Z
DURATION:PT3H30M
SUMMARY:ORIX Buffaloes @ Saitama Seibu Lions
LOCATION:ベルーナドーム
DESCRIPTION:1
END:VEVENT
BEGIN:VEVENT
UID:2021039218@faceoff
DTSTART:20260802T080000Z
DURATION:PT3H30M
SUMMARY:ORIX Buffaloes @ Saitama Seibu Lions
LOCATION:ベルーナドーム
DESCRIPTION:1
END:VEVENT
BEGIN:VEVENT
UID:2021039219@faceoff
DTSTART:20260803T090000Z
DURATION:PT3H30M
SUMMARY:ORIX Buffaloes vs Tohoku Rakuten Golden Eagles
LOCATION:東京ドーム
DESCRIPTION:1
END:VEVENT
BEGIN:VEVENT
UID:2021039229@faceoff
DTSTART:20260805T090000Z
DURATION:PT3H30M
SUMMARY:ORIX Buffaloes vs Tohoku Rakuten Golden Eagles
LOCATION:京セラドーム大阪
DESCRIPTION:1
END:VEVENT
BEGIN:VEVENT
UID:2021039234@faceoff
DTSTART:20260806T090000Z
DURATION:PT3H30M
SUMMARY:ORIX Buffaloes vs Tohoku Rakuten Golden Eagles
LOCATION:京セラドーム大阪
DESCRIPTION:1
END:VEVENT
BEGIN:VEVENT
UID:2021039241@faceoff
DTSTART:20260807T090000Z
DURATION:PT3H30M
SUMMARY:ORIX Buffaloes @ Chiba Lotte Marines
LOCATION:ZOZOマリンスタジアム
DESCRIPTION:1
END:VEVENT
BEGIN:VEVENT
UID:2021039247@faceoff
DTSTART:20260808T090000Z
DURATION:PT3H30M
SUMMARY:ORIX Buffaloes @ Chiba Lotte Marines
LOCATION:ZOZOマリンスタジアム
DESCRIPTION:1
END:VEVENT
BEGIN:VEVENT
UID:2021039253@faceoff
DTSTART:20260809T080000Z
DURATION:PT3H30M
SUMMARY:ORIX Buffaloes @ Chiba Lotte Marines
LOCATION:ZOZOマリンスタジアム
DESCRIPTION:1
END:VEVENT
BEGIN:VEVENT
UID:2021039258@faceoff
DTSTART:20260811T090000Z
DURATION:PT3H30M
SUMMARY:ORIX Buffaloes @ Tohoku Rakuten Golden Eagles
LOCATION:楽天モバイル 最強パーク宮城
DESCRIPTION:1
END:VEVENT
BEGIN:VEVENT
UID:2021039264@faceoff
DTSTART:20260812T090000Z
DURATION:PT3H30M
SUMMARY:ORIX Buffaloes @ Tohoku Rakuten Golden Eagles
LOCATION:楽天モバイル 最強パーク宮城
DESCRIPTION:1
END:VEVENT
BEGIN:VEVENT
UID:2021039270@faceoff
DTSTART:20260813T090000Z
DURATION:PT3H30M
SUMMARY:ORIX Buffaloes @ Tohoku Rakuten Golden Eagles
LOCATION:楽天モバイル 最強パーク宮城
DESCRIPTION:1
END:VEVENT
BEGIN:VEVENT
UID:2021039276@faceoff
DTSTART:20260814T090000Z
DURATION:PT3H30M
SUMMARY:ORIX Buffaloes vs Hokkaido Nippon-Ham Fighters
LOCATION:京セラドーム大阪
DESCRIPTION:1
END:VEVENT
BEGIN:VEVENT
UID:2021039282@faceoff
DTSTART:20260815T050000Z
DURATION:PT3H30M
SUMMARY:ORIX Buffaloes vs Hokkaido Nippon-Ham Fighters
LOCATION:京セラドーム大阪
DESCRIPTION:1
END:VEVENT
BEGIN:VEVENT
UID:2021039288@faceoff
DTSTART:20260816T040000Z
DURATION:PT3H30M
SUMMARY:ORIX Buffaloes vs Hokkaido Nippon-Ham Fighters
LOCATION:京セラドーム大阪
DESCRIPTION:1
END:VEVENT
BEGIN:VEVENT
UID:2021039295@faceoff
DTSTART:20260818T090000Z
DURATION:PT3H30M
SUMMARY:ORIX Buffaloes @ Saitama Seibu Lions
LOCATION:東京ドーム
DESCRIPTION:1
END:VEVENT
BEGIN:VEVENT
UID:2021039301@faceoff
DTSTART:20260819T090000Z
DURATION:PT3H30M
SUMMARY:ORIX Buffaloes @ Saitama Seibu Lions
LOCATION:ベルーナドーム
DESCRIPTION:1
END:VEVENT
BEGIN:VEVENT
UID:2021039307@faceoff
DTSTART:20260820T090000Z
DURATION:PT3H30M
SUMMARY:ORIX Buffaloes @ Saitama Seibu Lions
LOCATION:ベルーナドーム
DESCRIPTION:1
END:VEVENT
BEGIN:VEVENT
UID:2021039318@faceoff
DTSTART:20260822T050000Z
DURATION:PT3H30M
SUMMARY:ORIX Buffaloes @ Fukuoka SoftBank Hawks
LOCATION:みずほPayPayドーム福岡
DESCRIPTION:1
END:VEVENT
BEGIN:VEVENT
UID:2021039324@faceoff
DTSTART:20260823T040000Z
DURATION:PT3H30M
SUMMARY:ORIX Buffaloes @ Fukuoka SoftBank Hawks
LOCATION:みずほPayPayドーム福岡
DESCRIPTION:1
END:VEVENT
BEGIN:VEVENT
UID:2021039330@faceoff
DTSTART:20260825T090000Z
DURATION:PT3H30M
SUMMARY:ORIX Buffaloes vs Tohoku Rakuten Golden Eagles
LOCATION:京セラドーム大阪
DESCRIPTION:1
END:VEVENT
BEGIN:VEVENT
UID:2021039336@faceoff
DTSTART:20260826T090000Z
DURATION:PT3H30M
SUMMARY:ORIX Buffaloes vs Tohoku Rakuten Golden Eagles
LOCATION:京セラドーム大阪
DESCRIPTION:1
END:VEVENT
BEGIN:VEVENT
UID:2021039341@faceoff
DTSTART:20260827T090000Z
DURATION:PT3H30M
SUMMARY:ORIX Buffaloes vs Tohoku Rakuten Golden Eagles
LOCATION:京セラドーム大阪
DESCRIPTION:1
END:VEVENT
BEGIN:VEVENT
UID:2021039347@faceoff
DTSTART:20260828T090000Z
DURATION:PT3H30M
SUMMARY:ORIX Buffaloes vs Fukuoka SoftBank Hawks
LOCATION:京セラドーム大阪
DESCRIPTION:1
END:VEVENT
BEGIN:VEVENT
UID:2021039353@faceoff
DTSTART:20260829T090000Z
DURATION:PT3H30M
SUMMARY:ORIX Buffaloes vs Fukuoka SoftBank Hawks
LOCATION:京セラドーム大阪
DESCRIPTION:1
END:VEVENT
BEGIN:VEVENT
UID:2021039359@faceoff
DTSTART:20260830T050000Z
DURATION:PT3H30M
SUMMARY:ORIX Buffaloes vs Fukuoka SoftBank Hawks
LOCATION:京セラドーム大阪
DESCRIPTION:1
END:VEVENT
BEGIN:VEVENT
UID:2021039364@faceoff
DTSTART:20260901T090000Z
DURATION:PT3H30M
SUMMARY:ORIX Buffaloes @ Tohoku Rakuten Golden Eagles
LOCATION:こまちスタジアム
DESCRIPTION:1
END:VEVENT
BEGIN:VEVENT
UID:2021039370@faceoff
DTSTART:20260902T090000Z
DURATION:PT3H30M
SUMMARY:ORIX Buffaloes @ Tohoku Rakuten Golden Eagles
LOCATION:きたぎんボールパーク
DESCRIPTION:1
END:VEVENT
BEGIN:VEVENT
UID:2021039376@faceoff
DTSTART:20260904T090000Z
DURATION:PT3H30M
SUMMARY:ORIX Buffaloes vs Chiba Lotte Marines
LOCATION:京セラドーム大阪
DESCRIPTION:1
END:VEVENT
BEGIN:VEVENT
UID:2021039382@faceoff
DTSTART:20260905T050000Z
DURATION:PT3H30M
SUMMARY:ORIX Buffaloes vs Chiba Lotte Marines
LOCATION:京セラドーム大阪
DESCRIPTION:1
END:VEVENT
BEGIN:VEVENT
UID:2021039388@faceoff
DTSTART:20260906T040000Z
DURATION:PT3H30M
SUMMARY:ORIX Buffaloes vs Chiba Lotte Marines
LOCATION:京セラドーム大阪
DESCRIPTION:1
END:VEVENT
BEGIN:VEVENT
UID:2021039394@faceoff
DTSTART:20260908T090000Z
DURATION:PT3H30M
SUMMARY:ORIX Buffaloes vs Saitama Seibu Lions
LOCATION:京セラドーム大阪
DESCRIPTION:1
END:VEVENT
BEGIN:VEVENT
UID:2021039400@faceoff
DTSTART:20260909T090000Z
DURATION:PT3H30M
SUMMARY:ORIX Buffaloes vs Saitama Seibu Lions
LOCATION:ほっともっとフィールド神戸
DESCRIPTION:1
END:VEVENT
BEGIN:VEVENT
UID:2021039406@faceoff
DTSTART:20260910T090000Z
DURATION:PT3H30M
SUMMARY:ORIX Buffaloes vs Saitama Seibu Lions
LOCATION:ほっともっとフィールド神戸
DESCRIPTION:1
END:VEVENT
BEGIN:VEVENT
UID:2021039413@faceoff
DTSTART:20260912T050000Z
DURATION:PT3H30M
SUMMARY:ORIX Buffaloes vs Tohoku Rakuten Golden Eagles
LOCATION:京セラドーム大阪
DESCRIPTION:1
END:VEVENT
BEGIN:VEVENT
UID:2021039422@faceoff
DTSTART:20260915T090000Z
DURATION:PT3H30M
SUMMARY:ORIX Buffaloes vs Fukuoka SoftBank Hawks
LOCATION:京セラドーム大阪
DESCRIPTION:1
END:VEVENT
BEGIN:VEVENT
UID:2021039424@faceoff
DTSTART:20260916T090000Z
DURATION:PT3H30M
SUMMARY:ORIX Buffaloes vs Fukuoka SoftBank Hawks
LOCATION:京セラドーム大阪
DESCRIPTION:1
END:VEVENT
BEGIN:VEVENT
UID:2021039427@faceoff
DTSTART:20260917T090000Z
DURATION:PT3H30M
SUMMARY:ORIX Buffaloes vs Fukuoka SoftBank Hawks
LOCATION:京セラドーム大阪
DESCRIPTION:1
END:VEVENT
BEGIN:VEVENT
UID:2021039434@faceoff
DTSTART:20260919T050000Z
DURATION:PT3H30M
SUMMARY:ORIX Buffaloes @ Hokkaido Nippon-Ham Fighters
LOCATION:エスコンフィールドHOKKAIDO
DESCRIPTION:1
END:VEVENT
BEGIN:VEVENT
UID:2021039440@faceoff
DTSTART:20260920T050000Z
DURATION:PT3H30M
SUMMARY:ORIX Buffaloes @ Hokkaido Nippon-Ham Fighters
LOCATION:エスコンフィールドHOKKAIDO
DESCRIPTION:1
END:VEVENT
BEGIN:VEVENT
UID:2021039445@faceoff
DTSTART:20260921T050000Z
DURATION:PT3H30M
SUMMARY:ORIX Buffaloes @ Hokkaido Nippon-Ham Fighters
LOCATION:エスコンフィールドHOKKAIDO
DESCRIPTION:1
END:VEVENT
BEGIN:VEVENT
UID:2021043588@faceoff
DTSTART:20260922T090000Z
DURATION:PT3H30M
SUMMARY:ORIX Buffaloes @ Chiba Lotte Marines
LOCATION:ZOZOマリンスタジアム
DESCRIPTION:1
END:VEVENT
BEGIN:VEVENT
UID:2021039457@faceoff
DTSTART:20260923T080000Z
DURATION:PT3H30M
SUMMARY:ORIX Buffaloes @ Chiba Lotte Marines
LOCATION:ZOZOマリンスタジアム
DESCRIPTION:1
END:VEVENT
BEGIN:VEVENT
UID:2021039461@faceoff
DTSTART:20260925T090000Z
DURATION:PT3H30M
SUMMARY:ORIX Buffaloes vs Fukuoka SoftBank Hawks
LOCATION:京セラドーム大阪
DESCRIPTION:1
END:VEVENT
BEGIN:VEVENT
UID:2021039463@faceoff
DTSTART:20260926T050000Z
DURATION:PT3H30M
SUMMARY:ORIX Buffaloes vs Hokkaido Nippon-Ham Fighters
LOCATION:京セラドーム大阪
DESCRIPTION:1
END:VEVENT
BEGIN:VEVENT
UID:2021039467@faceoff
DTSTART:20260927T050000Z
DURATION:PT3H30M
SUMMARY:ORIX Buffaloes @ Fukuoka SoftBank Hawks
LOCATION:みずほPayPayドーム福岡
DESCRIPTION:1
END:VEVENT
BEGIN:VEVENT
UID:2021039471@faceoff
DTSTART:20260929T090000Z
DURATION:PT3H30M
SUMMARY:ORIX Buffaloes @ Saitama Seibu Lions
LOCATION:ベルーナドーム
DESCRIPTION:1
END:VEVENT
END:VCALENDAR
